BEGIN:VCALENDAR
VERSION:2.0
PRODID:-//Northwest Regional Library System - ECPv6.15.20//NONSGML v1.0//EN
CALSCALE:GREGORIAN
METHOD:PUBLISH
X-WR-CALNAME:Northwest Regional Library System
X-ORIGINAL-URL:https://www.nwrls.com
X-WR-CALDESC:Events for Northwest Regional Library System
REFRESH-INTERVAL;VALUE=DURATION:PT1H
X-Robots-Tag:noindex
X-PUBLISHED-TTL:PT1H
BEGIN:VTIMEZONE
TZID:America/Chicago
BEGIN:DAYLIGHT
TZOFFSETFROM:-0600
TZOFFSETTO:-0500
TZNAME:CDT
DTSTART:20240310T080000
END:DAYLIGHT
BEGIN:STANDARD
TZOFFSETFROM:-0500
TZOFFSETTO:-0600
TZNAME:CST
DTSTART:20241103T070000
END:STANDARD
BEGIN:DAYLIGHT
TZOFFSETFROM:-0600
TZOFFSETTO:-0500
TZNAME:CDT
DTSTART:20250309T080000
END:DAYLIGHT
BEGIN:STANDARD
TZOFFSETFROM:-0500
TZOFFSETTO:-0600
TZNAME:CST
DTSTART:20251102T070000
END:STANDARD
BEGIN:DAYLIGHT
TZOFFSETFROM:-0600
TZOFFSETTO:-0500
TZNAME:CDT
DTSTART:20260308T080000
END:DAYLIGHT
BEGIN:STANDARD
TZOFFSETFROM:-0500
TZOFFSETTO:-0600
TZNAME:CST
DTSTART:20261101T070000
END:STANDARD
END:VTIMEZONE
BEGIN:VTIMEZONE
TZID:America/New_York
BEGIN:DAYLIGHT
TZOFFSETFROM:-0500
TZOFFSETTO:-0400
TZNAME:EDT
DTSTART:20240310T070000
END:DAYLIGHT
BEGIN:STANDARD
TZOFFSETFROM:-0400
TZOFFSETTO:-0500
TZNAME:EST
DTSTART:20241103T060000
END:STANDARD
BEGIN:DAYLIGHT
TZOFFSETFROM:-0500
TZOFFSETTO:-0400
TZNAME:EDT
DTSTART:20250309T070000
END:DAYLIGHT
BEGIN:STANDARD
TZOFFSETFROM:-0400
TZOFFSETTO:-0500
TZNAME:EST
DTSTART:20251102T060000
END:STANDARD
BEGIN:DAYLIGHT
TZOFFSETFROM:-0500
TZOFFSETTO:-0400
TZNAME:EDT
DTSTART:20260308T070000
END:DAYLIGHT
BEGIN:STANDARD
TZOFFSETFROM:-0400
TZOFFSETTO:-0500
TZNAME:EST
DTSTART:20261101T060000
END:STANDARD
END:VTIMEZONE
BEGIN:VEVENT
DTSTART;TZID=America/Chicago:20250318T100000
DTEND;TZID=America/Chicago:20250318T130000
DTSTAMP:20260422T191932
CREATED:20250211T160134Z
LAST-MODIFIED:20250211T160632Z
UID:17752-1742292000-1742302800@www.nwrls.com
SUMMARY:The Legal Clinic
DESCRIPTION:Eligible clients can receive legal help from Legal Services of North Florida on a first-come\, first-served basis. Bring documents related to your question. \n  \nWhat to expect:\nThey will be able to help with legal information or help eligible clients apply for services on a first-come\, first-served basis. Bring all documents needed related to your question. \nAreas of law may include:\nLandlord-Tenant\nFamily Law Issues\nEmployment Law\nBankruptcy/Collections\nCustody/Child Support\nProperty Disputes\nTitle Clearing/Probate\nHousing Law\nDomestic Violence\nSexual Violence
URL:https://www.nwrls.com/event/the-legal-clinic/
LOCATION:Bay County Public Library\, 898 W 11th Street\, Panama City\, FL\, 32401\, United States
CATEGORIES:Bay County Public Library,Events,Locations
ATTACH;FMTTYPE=image/jpeg:https://www.nwrls.com/wp-content/uploads/2025/02/Legal-Clinic-Bay-County-.jpg
END:VEVENT
BEGIN:VEVENT
DTSTART;TZID=America/Chicago:20250318T100000
DTEND;TZID=America/Chicago:20250318T110000
DTSTAMP:20260422T191932
CREATED:20250207T203859Z
LAST-MODIFIED:20250207T203859Z
UID:17615-1742292000-1742295600@www.nwrls.com
SUMMARY:Book Babies (Ages 0 - 2)
DESCRIPTION:Bring your baby and enjoy a time of interactive stories\, songs\, and scarf play.  Class sizes are limited to 24 people each session; two class times of same class. Program geared for ages 0 – 2 with caregiver.\n\n10:00 – 10:20 a.m. Session 1\n10:30 – 10:50 a.m. Session 2
URL:https://www.nwrls.com/event/book-babies-ages-0-2-3/
LOCATION:Panama City Beach Public Library\, 12500 Hutchison Blvd\, Panama City Beach\, FL\, 32407
CATEGORIES:Events,Locations,Panama City Beach Library
ATTACH;FMTTYPE=image/jpeg:https://www.nwrls.com/wp-content/uploads/2024/08/Book-Babies.jpg
END:VEVENT
BEGIN:VEVENT
DTSTART;TZID=America/Chicago:20250318T093000
DTEND;TZID=America/Chicago:20250318T110000
DTSTAMP:20260422T191932
CREATED:20250206T204517Z
LAST-MODIFIED:20250206T204517Z
UID:17415-1742290200-1742295600@www.nwrls.com
SUMMARY:Bouncin’ Babies & Toddlin’ 2s (Ages 0 - 2 with Caregiver)
DESCRIPTION:Two start times for the same class – 9:30 a.m. and 10:30 a.m. \nStories\, bounces and rhymes for littles to build early literacy skills. Class limited to 40 people per session\, arrive early to reserve your spot.
URL:https://www.nwrls.com/event/bouncin-babies-toddlin-2s-ages-0-2-with-caregiver-3/
LOCATION:Bay County Public Library\, 898 W 11th Street\, Panama City\, FL\, 32401\, United States
CATEGORIES:Bay County Public Library,Events,Locations
ATTACH;FMTTYPE=image/jpeg:https://www.nwrls.com/wp-content/uploads/2024/08/BBTT-Presentation-Size.jpg
END:VEVENT
BEGIN:VEVENT
DTSTART;TZID=America/New_York:20250317T143000
DTEND;TZID=America/New_York:20250317T170000
DTSTAMP:20260422T191932
CREATED:20250214T153123Z
LAST-MODIFIED:20250214T153123Z
UID:18015-1742221800-1742230800@www.nwrls.com
SUMMARY:Chess Club
DESCRIPTION:All ages and abilities welcome\, including new learners. Adults and homeschoolers can arrive at 2:30 p.m.\, children can follow when school gets out. Chess boards and instruction provided. Program geared for all ages.
URL:https://www.nwrls.com/event/chess-club-25/
LOCATION:Corinne Costin Gibson Memorial Public Library\, 110 Library Drive\, Port St. Joe\, FL\, 32456\, United States
CATEGORIES:Corinne Costin Gibson Memorial Public Library,Events,Locations
ATTACH;FMTTYPE=image/jpeg:https://www.nwrls.com/wp-content/uploads/2024/02/Chess-Club-PSJ.jpg
END:VEVENT
BEGIN:VEVENT
DTSTART;TZID=America/Chicago:20250317T100000
DTEND;TZID=America/Chicago:20250317T103000
DTSTAMP:20260422T191932
CREATED:20250211T171934Z
LAST-MODIFIED:20250211T171934Z
UID:17795-1742205600-1742207400@www.nwrls.com
SUMMARY:Budding Bookworms
DESCRIPTION:Stories\, songs\, & crafts to instill a love of reading! Recommended for up to 5 years of age with a caregiver.
URL:https://www.nwrls.com/event/budding-bookworms-3/
LOCATION:Charles Whitehead Memorial Public Library\, 314 North Second Street\, Wewahitchka\, FL\, 32465\, United States
CATEGORIES:Charles Whitehead Public Library,Events,Locations
ATTACH;FMTTYPE=image/jpeg:https://www.nwrls.com/wp-content/uploads/2025/02/Budding-Bookworms-March-April-1.jpg
END:VEVENT
BEGIN:VEVENT
DTSTART;TZID=America/Chicago:20250315T140000
DTEND;TZID=America/Chicago:20250315T160000
DTSTAMP:20260422T191932
CREATED:20250207T151524Z
LAST-MODIFIED:20250207T151524Z
UID:17553-1742047200-1742054400@www.nwrls.com
SUMMARY:Teen Dungeons and Dragons (Ages 13 – 17\, Registration Required)
DESCRIPTION:Adventure through a tabletop session of Dungeons and Dragons\, Fifth Edition. Beginners welcome. Program geared for teens ages 13 – 17. Registration Required. Call the library at 850-522-2118 or visit the Youth Services Department.
URL:https://www.nwrls.com/event/teen-dungeons-and-dragons-ages-13-17-registration-required-3/
LOCATION:Bay County Public Library\, 898 W 11th Street\, Panama City\, FL\, 32401\, United States
CATEGORIES:Bay County Public Library,Events,Locations
ATTACH;FMTTYPE=image/jpeg:https://www.nwrls.com/wp-content/uploads/2024/11/Dungeons-Dragons-Teen.jpg
END:VEVENT
BEGIN:VEVENT
DTSTART;TZID=America/Chicago:20250315T140000
DTEND;TZID=America/Chicago:20250315T150000
DTSTAMP:20260422T191932
CREATED:20250214T162128Z
LAST-MODIFIED:20250214T162128Z
UID:18092-1742047200-1742050800@www.nwrls.com
SUMMARY:Community Drum Circle
DESCRIPTION:Our community drum circle invites people from all backgrounds and musical abilities to come together to create music collaboratively and spontaneously\, with the primary intention of fostering connection\, expression\, and a sense of community through shared rhythm\, regardless of musical training or experience level. Facilitated by Margie Sorge. No experience needed; instruments provided or bring you own. All ages program.
URL:https://www.nwrls.com/event/community-drum-circle-4/
LOCATION:Corinne Costin Gibson Memorial Public Library\, 110 Library Drive\, Port St. Joe\, FL\, 32456\, United States
CATEGORIES:Corinne Costin Gibson Memorial Public Library,Events,Locations
ATTACH;FMTTYPE=image/jpeg:https://www.nwrls.com/wp-content/uploads/2025/02/Drum-Circle.jpg
END:VEVENT
END:VCALENDAR