BEGIN:VCALENDAR
VERSION:2.0
PRODID:-//Northwest Regional Library System - ECPv6.15.20//NONSGML v1.0//EN
CALSCALE:GREGORIAN
METHOD:PUBLISH
X-WR-CALNAME:Northwest Regional Library System
X-ORIGINAL-URL:https://www.nwrls.com
X-WR-CALDESC:Events for Northwest Regional Library System
REFRESH-INTERVAL;VALUE=DURATION:PT1H
X-Robots-Tag:noindex
X-PUBLISHED-TTL:PT1H
BEGIN:VTIMEZONE
TZID:America/Chicago
BEGIN:DAYLIGHT
TZOFFSETFROM:-0600
TZOFFSETTO:-0500
TZNAME:CDT
DTSTART:20240310T080000
END:DAYLIGHT
BEGIN:STANDARD
TZOFFSETFROM:-0500
TZOFFSETTO:-0600
TZNAME:CST
DTSTART:20241103T070000
END:STANDARD
BEGIN:DAYLIGHT
TZOFFSETFROM:-0600
TZOFFSETTO:-0500
TZNAME:CDT
DTSTART:20250309T080000
END:DAYLIGHT
BEGIN:STANDARD
TZOFFSETFROM:-0500
TZOFFSETTO:-0600
TZNAME:CST
DTSTART:20251102T070000
END:STANDARD
BEGIN:DAYLIGHT
TZOFFSETFROM:-0600
TZOFFSETTO:-0500
TZNAME:CDT
DTSTART:20260308T080000
END:DAYLIGHT
BEGIN:STANDARD
TZOFFSETFROM:-0500
TZOFFSETTO:-0600
TZNAME:CST
DTSTART:20261101T070000
END:STANDARD
END:VTIMEZONE
BEGIN:VTIMEZONE
TZID:America/New_York
BEGIN:DAYLIGHT
TZOFFSETFROM:-0500
TZOFFSETTO:-0400
TZNAME:EDT
DTSTART:20240310T070000
END:DAYLIGHT
BEGIN:STANDARD
TZOFFSETFROM:-0400
TZOFFSETTO:-0500
TZNAME:EST
DTSTART:20241103T060000
END:STANDARD
BEGIN:DAYLIGHT
TZOFFSETFROM:-0500
TZOFFSETTO:-0400
TZNAME:EDT
DTSTART:20250309T070000
END:DAYLIGHT
BEGIN:STANDARD
TZOFFSETFROM:-0400
TZOFFSETTO:-0500
TZNAME:EST
DTSTART:20251102T060000
END:STANDARD
BEGIN:DAYLIGHT
TZOFFSETFROM:-0500
TZOFFSETTO:-0400
TZNAME:EDT
DTSTART:20260308T070000
END:DAYLIGHT
BEGIN:STANDARD
TZOFFSETFROM:-0400
TZOFFSETTO:-0500
TZNAME:EST
DTSTART:20261101T060000
END:STANDARD
END:VTIMEZONE
BEGIN:VEVENT
DTSTART;TZID=America/Chicago:20250325T093000
DTEND;TZID=America/Chicago:20250325T110000
DTSTAMP:20260424T205832
CREATED:20250206T204532Z
LAST-MODIFIED:20250206T204532Z
UID:17417-1742895000-1742900400@www.nwrls.com
SUMMARY:Bouncin’ Babies & Toddlin’ 2s (Ages 0 - 2 with Caregiver)
DESCRIPTION:Two start times for the same class – 9:30 a.m. and 10:30 a.m. \nStories\, bounces and rhymes for littles to build early literacy skills. Class limited to 40 people per session\, arrive early to reserve your spot.
URL:https://www.nwrls.com/event/bouncin-babies-toddlin-2s-ages-0-2-with-caregiver-4/
LOCATION:Bay County Public Library\, 898 W 11th Street\, Panama City\, FL\, 32401\, United States
CATEGORIES:Bay County Public Library,Events,Locations
ATTACH;FMTTYPE=image/jpeg:https://www.nwrls.com/wp-content/uploads/2024/08/BBTT-Presentation-Size.jpg
END:VEVENT
BEGIN:VEVENT
DTSTART;TZID=America/Chicago:20250324T160000
DTEND;TZID=America/Chicago:20250324T170000
DTSTAMP:20260424T205832
CREATED:20250206T214851Z
LAST-MODIFIED:20250206T214851Z
UID:17503-1742832000-1742835600@www.nwrls.com
SUMMARY:STEM Straw City (Ages 6 - 12) Registration required
DESCRIPTION:Design and build a city using plastic straw connectors. Program geared for ages 6 -12. Registration Required. Call 850-522-2118 or visit the Youth Services Desk to register.
URL:https://www.nwrls.com/event/stem-straw-city-ages-6-12-registration-required/
LOCATION:Bay County Public Library\, 898 W 11th Street\, Panama City\, FL\, 32401\, United States
CATEGORIES:Bay County Public Library,Events,Locations
ATTACH;FMTTYPE=image/jpeg:https://www.nwrls.com/wp-content/uploads/2025/02/STEM-Straw-City-2025.jpg
END:VEVENT
BEGIN:VEVENT
DTSTART;TZID=America/New_York:20250324T143000
DTEND;TZID=America/New_York:20250324T170000
DTSTAMP:20260424T205832
CREATED:20250214T153138Z
LAST-MODIFIED:20250214T194357Z
UID:18017-1742826600-1742835600@www.nwrls.com
SUMMARY:Chess Club
DESCRIPTION:All ages and abilities welcome\, including new learners. Adults and homeschoolers can arrive at 2:30 p.m.\, children can follow when school gets out. Chess boards and instruction provided. Program geared for all ages.
URL:https://www.nwrls.com/event/chess-club-32/
LOCATION:Corinne Costin Gibson Memorial Public Library\, 110 Library Drive\, Port St. Joe\, FL\, 32456\, United States
CATEGORIES:Corinne Costin Gibson Memorial Public Library,Events,Locations
ATTACH;FMTTYPE=image/jpeg:https://www.nwrls.com/wp-content/uploads/2024/02/Chess-Club-PSJ.jpg
END:VEVENT
BEGIN:VEVENT
DTSTART;TZID=America/New_York:20250324T103000
DTEND;TZID=America/New_York:20250324T113000
DTSTAMP:20260424T205832
CREATED:20250214T154721Z
LAST-MODIFIED:20250214T154721Z
UID:18041-1742812200-1742815800@www.nwrls.com
SUMMARY:Library Book Club
DESCRIPTION:New members welcome to join our Library Book Club! Contact the Library for book club titles at 850-229-8879.
URL:https://www.nwrls.com/event/library-book-club/
LOCATION:Corinne Costin Gibson Memorial Public Library\, 110 Library Drive\, Port St. Joe\, FL\, 32456\, United States
CATEGORIES:Corinne Costin Gibson Memorial Public Library,Events,Locations
ATTACH;FMTTYPE=image/jpeg:https://www.nwrls.com/wp-content/uploads/2025/02/Library-Book-Club-2.jpg
END:VEVENT
BEGIN:VEVENT
DTSTART;TZID=America/Chicago:20250324T100000
DTEND;TZID=America/Chicago:20250324T103000
DTSTAMP:20260424T205832
CREATED:20250211T171947Z
LAST-MODIFIED:20250211T172014Z
UID:17797-1742810400-1742812200@www.nwrls.com
SUMMARY:Budding Bookworms
DESCRIPTION:Stories\, songs\, & crafts to instill a love of reading! Recommended for up to 5 years of age with a caregiver.
URL:https://www.nwrls.com/event/budding-bookworms-4/
LOCATION:Charles Whitehead Memorial Public Library\, 314 North Second Street\, Wewahitchka\, FL\, 32465\, United States
CATEGORIES:Charles Whitehead Public Library,Events,Locations
ATTACH;FMTTYPE=image/jpeg:https://www.nwrls.com/wp-content/uploads/2025/02/Budding-Bookworms-March-April-1.jpg
END:VEVENT
BEGIN:VEVENT
DTSTART;TZID=America/New_York:20250322T110000
DTEND;TZID=America/New_York:20250322T120000
DTSTAMP:20260424T205832
CREATED:20250214T192221Z
LAST-MODIFIED:20250214T194319Z
UID:18131-1742641200-1742644800@www.nwrls.com
SUMMARY:Saturday Storytime (Ages 4 - 8 recommended)
DESCRIPTION:Join us for a fun filled story time along with craft and activity. Recommended ages 4-8\, but all are welcome. \nToday: National Craft Month
URL:https://www.nwrls.com/event/saturday-storytime-ages-4-8-recommended-2/
LOCATION:Jimmy Weaver Memorial Library\, 22149 NE State Road 20\, Hosford\, FL\, 32334\, United States
CATEGORIES:Events,Jimmy Weaver Memorial Library,Locations
ATTACH;FMTTYPE=image/jpeg:https://www.nwrls.com/wp-content/uploads/2025/02/Hosford-Sat-Storytime.jpg
END:VEVENT
BEGIN:VEVENT
DTSTART;TZID=America/Chicago:20250322T110000
DTEND;TZID=America/Chicago:20250322T120000
DTSTAMP:20260424T205832
CREATED:20250211T172733Z
LAST-MODIFIED:20250211T213930Z
UID:17816-1742641200-1742644800@www.nwrls.com
SUMMARY:LEGO Club
DESCRIPTION:Build unique challenges followed by free play. Program geared for school aged children.
URL:https://www.nwrls.com/event/lego-club-5/
LOCATION:Charles Whitehead Memorial Public Library\, 314 North Second Street\, Wewahitchka\, FL\, 32465\, United States
CATEGORIES:Charles Whitehead Public Library,Events,Locations
ATTACH;FMTTYPE=image/jpeg:https://www.nwrls.com/wp-content/uploads/2025/02/Lego-Club-March-April-May-1.jpg
END:VEVENT
END:VCALENDAR