BEGIN:VCALENDAR
VERSION:2.0
PRODID:-//Northwest Regional Library System - ECPv6.15.20//NONSGML v1.0//EN
CALSCALE:GREGORIAN
METHOD:PUBLISH
X-WR-CALNAME:Northwest Regional Library System
X-ORIGINAL-URL:https://www.nwrls.com
X-WR-CALDESC:Events for Northwest Regional Library System
REFRESH-INTERVAL;VALUE=DURATION:PT1H
X-Robots-Tag:noindex
X-PUBLISHED-TTL:PT1H
BEGIN:VTIMEZONE
TZID:America/Chicago
BEGIN:DAYLIGHT
TZOFFSETFROM:-0600
TZOFFSETTO:-0500
TZNAME:CDT
DTSTART:20240310T080000
END:DAYLIGHT
BEGIN:STANDARD
TZOFFSETFROM:-0500
TZOFFSETTO:-0600
TZNAME:CST
DTSTART:20241103T070000
END:STANDARD
BEGIN:DAYLIGHT
TZOFFSETFROM:-0600
TZOFFSETTO:-0500
TZNAME:CDT
DTSTART:20250309T080000
END:DAYLIGHT
BEGIN:STANDARD
TZOFFSETFROM:-0500
TZOFFSETTO:-0600
TZNAME:CST
DTSTART:20251102T070000
END:STANDARD
BEGIN:DAYLIGHT
TZOFFSETFROM:-0600
TZOFFSETTO:-0500
TZNAME:CDT
DTSTART:20260308T080000
END:DAYLIGHT
BEGIN:STANDARD
TZOFFSETFROM:-0500
TZOFFSETTO:-0600
TZNAME:CST
DTSTART:20261101T070000
END:STANDARD
END:VTIMEZONE
BEGIN:VEVENT
DTSTART;TZID=America/Chicago:20250320T180000
DTEND;TZID=America/Chicago:20250320T190000
DTSTAMP:20260424T122018
CREATED:20250211T141434Z
LAST-MODIFIED:20250211T141434Z
UID:17714-1742493600-1742497200@www.nwrls.com
SUMMARY:Friends Annual Celebration: Lucky Mud & Sierra Everly
DESCRIPTION:Join us for a concert by Lucky Mud with special guest\, Sierra Everly. The set will be a combination of Lucky Mud’s original Americana folk tunes and several Celtic tunes. Free and open to the public to attend. Light refreshments provided. A short Friends meeting will take place following the performance. Program generously sponsored by the Friends of the Bay County Public Libraries. \nInterested in learning more about the Friends of the Bay County Public Libraries? Visit https://baycountylibraryfriends.org/ to become a member and for upcoming Friends Events.
URL:https://www.nwrls.com/event/friends-annual-celebration-lucky-mud-sierra-everly/
LOCATION:Bay County Public Library\, 898 W 11th Street\, Panama City\, FL\, 32401\, United States
CATEGORIES:Bay County Public Library,Events,Locations
ATTACH;FMTTYPE=image/jpeg:https://www.nwrls.com/wp-content/uploads/2025/02/Friends-Celebration-2025.jpg
END:VEVENT
BEGIN:VEVENT
DTSTART;TZID=America/Chicago:20250320T173000
DTEND;TZID=America/Chicago:20250320T183000
DTSTAMP:20260424T122018
CREATED:20241112T171353Z
LAST-MODIFIED:20250211T161207Z
UID:16680-1742491800-1742495400@www.nwrls.com
SUMMARY:Shelf Indulgence @ The Press
DESCRIPTION:Meet at The Press Coffee Shop (310 Harrison Ave) for our new Genre Book Club. Each Month is a new Genre to discuss! Not sure which book to read\, we’ll have suggested titles that fit the genre. \nMarch: Historical Fiction \nDiscussion facilitated by the Bay County Public Library.
URL:https://www.nwrls.com/event/shelf-indulgence-the-press-2/
LOCATION:The Press\, 310 Harrison Ave\, Panama CIty\, FL\, 32401\, United States
CATEGORIES:Bay County Public Library,Events,Locations
ATTACH;FMTTYPE=image/jpeg:https://www.nwrls.com/wp-content/uploads/2024/11/Shelf-Indulgence-1-1.jpg
END:VEVENT
BEGIN:VEVENT
DTSTART;TZID=America/Chicago:20250320T160000
DTEND;TZID=America/Chicago:20250320T170000
DTSTAMP:20260424T122018
CREATED:20250206T215145Z
LAST-MODIFIED:20250206T215145Z
UID:17509-1742486400-1742490000@www.nwrls.com
SUMMARY:LEGO Club (Ages 6 - 12\, Registration Required)
DESCRIPTION:Tackle LEGO challenges by putting STEM concepts into action. Class Size Limited. Registration Required. Call 850-522-2118 or visit Youth Services to register.
URL:https://www.nwrls.com/event/lego-club-ages-6-12-registration-required-2/
LOCATION:Bay County Public Library\, 898 W 11th Street\, Panama City\, FL\, 32401\, United States
CATEGORIES:Bay County Public Library,Events,Locations
ATTACH;FMTTYPE=image/jpeg:https://www.nwrls.com/wp-content/uploads/2025/02/childrens-programming-1.jpg
END:VEVENT
END:VCALENDAR