BEGIN:VCALENDAR
VERSION:2.0
PRODID:-//Northwest Regional Library System - ECPv6.15.20//NONSGML v1.0//EN
CALSCALE:GREGORIAN
METHOD:PUBLISH
X-ORIGINAL-URL:https://www.nwrls.com
X-WR-CALDESC:Events for Northwest Regional Library System
REFRESH-INTERVAL;VALUE=DURATION:PT1H
X-Robots-Tag:noindex
X-PUBLISHED-TTL:PT1H
BEGIN:VTIMEZONE
TZID:America/Chicago
BEGIN:DAYLIGHT
TZOFFSETFROM:-0600
TZOFFSETTO:-0500
TZNAME:CDT
DTSTART:20250309T080000
END:DAYLIGHT
BEGIN:STANDARD
TZOFFSETFROM:-0500
TZOFFSETTO:-0600
TZNAME:CST
DTSTART:20251102T070000
END:STANDARD
BEGIN:DAYLIGHT
TZOFFSETFROM:-0600
TZOFFSETTO:-0500
TZNAME:CDT
DTSTART:20260308T080000
END:DAYLIGHT
BEGIN:STANDARD
TZOFFSETFROM:-0500
TZOFFSETTO:-0600
TZNAME:CST
DTSTART:20261101T070000
END:STANDARD
BEGIN:DAYLIGHT
TZOFFSETFROM:-0600
TZOFFSETTO:-0500
TZNAME:CDT
DTSTART:20270314T080000
END:DAYLIGHT
BEGIN:STANDARD
TZOFFSETFROM:-0500
TZOFFSETTO:-0600
TZNAME:CST
DTSTART:20271107T070000
END:STANDARD
END:VTIMEZONE
BEGIN:VEVENT
DTSTART;TZID=America/Chicago:20260224T110000
DTEND;TZID=America/Chicago:20260224T120000
DTSTAMP:20260419T132314
CREATED:20260203T185710Z
LAST-MODIFIED:20260203T185710Z
UID:20655-1771930800-1771934400@www.nwrls.com
SUMMARY:Florida Fish & Wildlife Conservation:  Coyotes
DESCRIPTION:Join us for this all-ages presentation from Morgan Jacques with the Florida Fish & Wildlife Conservation about coyotes! \nThis program would be great for homeschoolers.
URL:https://www.nwrls.com/event/florida-fish-wildlife-conservation-coyotes/
LOCATION:Parker Public Library\, 4710 Second Street\, Parker\, FL\, 32404\, United States
CATEGORIES:Events,Locations,Parker Public Library
ATTACH;FMTTYPE=image/jpeg:https://www.nwrls.com/wp-content/uploads/2026/02/624418205_896429136468410_5599074865209279767_n.jpg
END:VEVENT
END:VCALENDAR