BEGIN:VCALENDAR
VERSION:2.0
PRODID:-//Northwest Regional Library System - ECPv6.15.20//NONSGML v1.0//EN
CALSCALE:GREGORIAN
METHOD:PUBLISH
X-ORIGINAL-URL:https://www.nwrls.com
X-WR-CALDESC:Events for Northwest Regional Library System
REFRESH-INTERVAL;VALUE=DURATION:PT1H
X-Robots-Tag:noindex
X-PUBLISHED-TTL:PT1H
BEGIN:VTIMEZONE
TZID:America/Chicago
BEGIN:DAYLIGHT
TZOFFSETFROM:-0600
TZOFFSETTO:-0500
TZNAME:CDT
DTSTART:20240310T080000
END:DAYLIGHT
BEGIN:STANDARD
TZOFFSETFROM:-0500
TZOFFSETTO:-0600
TZNAME:CST
DTSTART:20241103T070000
END:STANDARD
BEGIN:DAYLIGHT
TZOFFSETFROM:-0600
TZOFFSETTO:-0500
TZNAME:CDT
DTSTART:20250309T080000
END:DAYLIGHT
BEGIN:STANDARD
TZOFFSETFROM:-0500
TZOFFSETTO:-0600
TZNAME:CST
DTSTART:20251102T070000
END:STANDARD
BEGIN:DAYLIGHT
TZOFFSETFROM:-0600
TZOFFSETTO:-0500
TZNAME:CDT
DTSTART:20260308T080000
END:DAYLIGHT
BEGIN:STANDARD
TZOFFSETFROM:-0500
TZOFFSETTO:-0600
TZNAME:CST
DTSTART:20261101T070000
END:STANDARD
END:VTIMEZONE
BEGIN:VEVENT
DTSTART;TZID=America/Chicago:20250628T130000
DTEND;TZID=America/Chicago:20250628T140000
DTSTAMP:20260420T022458
CREATED:20250514T152527Z
LAST-MODIFIED:20250514T152826Z
UID:18267-1751115600-1751119200@www.nwrls.com
SUMMARY:Book Club
DESCRIPTION:Parker Public Library Book Club geared for adults.  Join us for a fun discussion about the month’s featured title. Book can be borrowed from the library system catalog: www.nwrls.com. \nJune: The Magnolia Place by Fiona Davis
URL:https://www.nwrls.com/event/book-club-5/
LOCATION:Parker Public Library\, 4710 Second Street\, Parker\, FL\, 32404\, United States
CATEGORIES:Events,Locations,Parker Public Library
ATTACH;FMTTYPE=image/png:https://www.nwrls.com/wp-content/uploads/2025/05/Book-Club.png
END:VEVENT
END:VCALENDAR