BEGIN:VCALENDAR
VERSION:2.0
PRODID:-//Northwest Regional Library System - ECPv6.15.20//NONSGML v1.0//EN
CALSCALE:GREGORIAN
METHOD:PUBLISH
X-ORIGINAL-URL:https://www.nwrls.com
X-WR-CALDESC:Events for Northwest Regional Library System
REFRESH-INTERVAL;VALUE=DURATION:PT1H
X-Robots-Tag:noindex
X-PUBLISHED-TTL:PT1H
BEGIN:VTIMEZONE
TZID:America/Chicago
BEGIN:DAYLIGHT
TZOFFSETFROM:-0600
TZOFFSETTO:-0500
TZNAME:CDT
DTSTART:20250309T080000
END:DAYLIGHT
BEGIN:STANDARD
TZOFFSETFROM:-0500
TZOFFSETTO:-0600
TZNAME:CST
DTSTART:20251102T070000
END:STANDARD
BEGIN:DAYLIGHT
TZOFFSETFROM:-0600
TZOFFSETTO:-0500
TZNAME:CDT
DTSTART:20260308T080000
END:DAYLIGHT
BEGIN:STANDARD
TZOFFSETFROM:-0500
TZOFFSETTO:-0600
TZNAME:CST
DTSTART:20261101T070000
END:STANDARD
BEGIN:DAYLIGHT
TZOFFSETFROM:-0600
TZOFFSETTO:-0500
TZNAME:CDT
DTSTART:20270314T080000
END:DAYLIGHT
BEGIN:STANDARD
TZOFFSETFROM:-0500
TZOFFSETTO:-0600
TZNAME:CST
DTSTART:20271107T070000
END:STANDARD
END:VTIMEZONE
BEGIN:VEVENT
DTSTART;TZID=America/Chicago:20260502T110000
DTEND;TZID=America/Chicago:20260502T120000
DTSTAMP:20260419T114713
CREATED:20260211T164826Z
LAST-MODIFIED:20260211T164826Z
UID:20670-1777719600-1777723200@www.nwrls.com
SUMMARY:Saturday Storytime (Ages 3 - 6): Going to the Beach!
DESCRIPTION:Join us for a fun storytime with a craft. Recommended for ages 3 – 6\, but all are welcome. \nToday’s Theme: Going to the Beach!
URL:https://www.nwrls.com/event/saturday-storytime-ages-3-6-going-to-the-beach/
LOCATION:Parker Public Library\, 4710 Second Street\, Parker\, FL\, 32404\, United States
CATEGORIES:Events,Locations,Parker Public Library
ATTACH;FMTTYPE=image/jpeg:https://www.nwrls.com/wp-content/uploads/2026/02/Parker-Storytime-2.jpg
END:VEVENT
BEGIN:VEVENT
DTSTART;TZID=America/Chicago:20260502T123000
DTEND;TZID=America/Chicago:20260502T133000
DTSTAMP:20260419T114713
CREATED:20260211T165337Z
LAST-MODIFIED:20260211T165339Z
UID:20680-1777725000-1777728600@www.nwrls.com
SUMMARY:Saturday Program: Lego Beach Day (Ages 6 - 12)
DESCRIPTION:Join your friends this Saturday for either a LEGO challenge or art project. Recommended for ages 6 – 12. \nToday’s Theme:  Lego Beach Day \n 
URL:https://www.nwrls.com/event/saturday-program-lego-beach-day-ages-6-12/
LOCATION:Parker Public Library\, 4710 Second Street\, Parker\, FL\, 32404\, United States
CATEGORIES:Events,Locations,Parker Public Library
ATTACH;FMTTYPE=image/jpeg:https://www.nwrls.com/wp-content/uploads/2026/02/Parker-LEGO-3.jpg
END:VEVENT
BEGIN:VEVENT
DTSTART;TZID=America/Chicago:20260530T110000
DTEND;TZID=America/Chicago:20260530T120000
DTSTAMP:20260419T114713
CREATED:20260211T170316Z
LAST-MODIFIED:20260223T133845Z
UID:20695-1780138800-1780142400@www.nwrls.com
SUMMARY:Book Club
DESCRIPTION:Parker Public Library Book Club is geared for adults.  Join us for a fun discussion about the month’s featured title. Book can be borrowed from the library system catalog: www.nwrls.com. \nMay:  The View from Lake Como by Adriana Trigiani
URL:https://www.nwrls.com/event/book-club-15/
LOCATION:Parker Public Library\, 4710 Second Street\, Parker\, FL\, 32404\, United States
CATEGORIES:Events,Locations,Parker Public Library
ATTACH;FMTTYPE=image/jpeg:https://www.nwrls.com/wp-content/uploads/2026/02/Parker-Book-Club-1.jpg
END:VEVENT
BEGIN:VEVENT
DTSTART;TZID=America/Chicago:20260530T123000
DTEND;TZID=America/Chicago:20260530T140000
DTSTAMP:20260419T114713
CREATED:20260211T165859Z
LAST-MODIFIED:20260320T212104Z
UID:20686-1780144200-1780149600@www.nwrls.com
SUMMARY:Crafternoon (Adults & Teens 16+)
DESCRIPTION:Join us for a monthly craft!  Registration required due to limited space and supplies.  Call 850-871-3092 to register! \nMay 30:  Create a Craft Event (using prior program supplies)
URL:https://www.nwrls.com/event/crafternoon-adults-teens-16-6/
LOCATION:Parker Public Library\, 4710 Second Street\, Parker\, FL\, 32404\, United States
CATEGORIES:Events,Locations,Parker Public Library
ATTACH;FMTTYPE=image/jpeg:https://www.nwrls.com/wp-content/uploads/2026/02/Parker-Crafter-noon-3.jpg
END:VEVENT
END:VCALENDAR