BEGIN:VCALENDAR
VERSION:2.0
PRODID:-//Northwest Regional Library System - ECPv6.15.20//NONSGML v1.0//EN
CALSCALE:GREGORIAN
METHOD:PUBLISH
X-WR-CALNAME:Northwest Regional Library System
X-ORIGINAL-URL:https://www.nwrls.com
X-WR-CALDESC:Events for Northwest Regional Library System
REFRESH-INTERVAL;VALUE=DURATION:PT1H
X-Robots-Tag:noindex
X-PUBLISHED-TTL:PT1H
BEGIN:VTIMEZONE
TZID:America/Chicago
BEGIN:DAYLIGHT
TZOFFSETFROM:-0600
TZOFFSETTO:-0500
TZNAME:CDT
DTSTART:20250309T080000
END:DAYLIGHT
BEGIN:STANDARD
TZOFFSETFROM:-0500
TZOFFSETTO:-0600
TZNAME:CST
DTSTART:20251102T070000
END:STANDARD
BEGIN:DAYLIGHT
TZOFFSETFROM:-0600
TZOFFSETTO:-0500
TZNAME:CDT
DTSTART:20260308T080000
END:DAYLIGHT
BEGIN:STANDARD
TZOFFSETFROM:-0500
TZOFFSETTO:-0600
TZNAME:CST
DTSTART:20261101T070000
END:STANDARD
BEGIN:DAYLIGHT
TZOFFSETFROM:-0600
TZOFFSETTO:-0500
TZNAME:CDT
DTSTART:20270314T080000
END:DAYLIGHT
BEGIN:STANDARD
TZOFFSETFROM:-0500
TZOFFSETTO:-0600
TZNAME:CST
DTSTART:20271107T070000
END:STANDARD
END:VTIMEZONE
BEGIN:VEVENT
DTSTART;TZID=America/Chicago:20260307T110000
DTEND;TZID=America/Chicago:20260307T120000
DTSTAMP:20260419T114656
CREATED:20260211T164638Z
LAST-MODIFIED:20260211T164638Z
UID:20672-1772881200-1772884800@www.nwrls.com
SUMMARY:Saturday Storytime (Ages 3 - 6): Spring has Arrived!
DESCRIPTION:Join us for a fun storytime with a craft. Recommended for ages 3 – 6\, but all are welcome. \nToday’s Theme: Spring has arrived!
URL:https://www.nwrls.com/event/saturday-storytime-ages-3-6-spring-has-arrived/
LOCATION:Parker Public Library\, 4710 Second Street\, Parker\, FL\, 32404\, United States
CATEGORIES:Events,Locations,Parker Public Library
ATTACH;FMTTYPE=image/jpeg:https://www.nwrls.com/wp-content/uploads/2026/02/Parker-Storytime-2.jpg
END:VEVENT
BEGIN:VEVENT
DTSTART;TZID=America/Chicago:20260307T123000
DTEND;TZID=America/Chicago:20260307T133000
DTSTAMP:20260419T114656
CREATED:20260211T165113Z
LAST-MODIFIED:20260211T165114Z
UID:20682-1772886600-1772890200@www.nwrls.com
SUMMARY:Saturday Program: Lego St. Patrick's Day (Ages 6 - 12)
DESCRIPTION:Join your friends this Saturday for either a LEGO challenge or art project. Recommended for ages 6 – 12. \nToday’s Challenge: Lego St. Patrick’s Day \n 
URL:https://www.nwrls.com/event/saturday-program-lego-st-patricks-day-ages-6-12/
LOCATION:Parker Public Library\, 4710 Second Street\, Parker\, FL\, 32404\, United States
CATEGORIES:Events,Locations,Parker Public Library
ATTACH;FMTTYPE=image/jpeg:https://www.nwrls.com/wp-content/uploads/2026/02/Parker-LEGO-3.jpg
END:VEVENT
BEGIN:VEVENT
DTSTART;TZID=America/Chicago:20260314T123000
DTEND;TZID=America/Chicago:20260314T140000
DTSTAMP:20260419T114656
CREATED:20260211T165657Z
LAST-MODIFIED:20260223T134130Z
UID:20688-1773491400-1773496800@www.nwrls.com
SUMMARY:Crafternoon (Adults & Teens 16+)
DESCRIPTION:Join us for a monthly craft!  Registration required due to limited space and supplies.  Call 850-871-3092 to register! \nMarch 14:  Plant Swap & Tin Can Flowerpot Craft
URL:https://www.nwrls.com/event/crafternoon-adults-teens-16-4/
LOCATION:Parker Public Library\, 4710 Second Street\, Parker\, FL\, 32404\, United States
CATEGORIES:Events,Locations,Parker Public Library
ATTACH;FMTTYPE=image/jpeg:https://www.nwrls.com/wp-content/uploads/2026/02/Parker-Crafter-noon-3.jpg
END:VEVENT
END:VCALENDAR