BEGIN:VCALENDAR
VERSION:2.0
PRODID:-//Northwest Regional Library System - ECPv6.15.20//NONSGML v1.0//EN
CALSCALE:GREGORIAN
METHOD:PUBLISH
X-ORIGINAL-URL:https://www.nwrls.com
X-WR-CALDESC:Events for Northwest Regional Library System
REFRESH-INTERVAL;VALUE=DURATION:PT1H
X-Robots-Tag:noindex
X-PUBLISHED-TTL:PT1H
BEGIN:VTIMEZONE
TZID:America/Chicago
BEGIN:DAYLIGHT
TZOFFSETFROM:-0600
TZOFFSETTO:-0500
TZNAME:CDT
DTSTART:20240310T080000
END:DAYLIGHT
BEGIN:STANDARD
TZOFFSETFROM:-0500
TZOFFSETTO:-0600
TZNAME:CST
DTSTART:20241103T070000
END:STANDARD
BEGIN:DAYLIGHT
TZOFFSETFROM:-0600
TZOFFSETTO:-0500
TZNAME:CDT
DTSTART:20250309T080000
END:DAYLIGHT
BEGIN:STANDARD
TZOFFSETFROM:-0500
TZOFFSETTO:-0600
TZNAME:CST
DTSTART:20251102T070000
END:STANDARD
BEGIN:DAYLIGHT
TZOFFSETFROM:-0600
TZOFFSETTO:-0500
TZNAME:CDT
DTSTART:20260308T080000
END:DAYLIGHT
BEGIN:STANDARD
TZOFFSETFROM:-0500
TZOFFSETTO:-0600
TZNAME:CST
DTSTART:20261101T070000
END:STANDARD
END:VTIMEZONE
BEGIN:VEVENT
DTSTART;VALUE=DATE:20250901
DTEND;VALUE=DATE:20250902
DTSTAMP:20260419T201735
CREATED:20250822T130645Z
LAST-MODIFIED:20250822T130645Z
UID:19306-1756684800-1756771199@www.nwrls.com
SUMMARY:Labor Day - Library Closure
DESCRIPTION:
URL:https://www.nwrls.com/event/labor-day-library-closure/
CATEGORIES:Bay County Public Library,Charles Whitehead Public Library,Corinne Costin Gibson Memorial Public Library,Events,Harrell Memorial Public Library,Jimmy Weaver Memorial Library,Locations,Panama City Beach Library,Parker Public Library
ATTACH;FMTTYPE=image/png:https://www.nwrls.com/wp-content/uploads/2025/08/Labor-Day-closure.png
END:VEVENT
BEGIN:VEVENT
DTSTART;VALUE=DATE:20250902
DTEND;VALUE=DATE:20251001
DTSTAMP:20260419T201735
CREATED:20250903T152533Z
LAST-MODIFIED:20250903T152533Z
UID:19207-1756771200-1759276799@www.nwrls.com
SUMMARY:September - Kids Scavenger Hunt
DESCRIPTION:Library Scavenger Hunt (School Age)\nSeptember 1 – 30 \nComplete a scavenger hunt at the library and be entered in our Library Card Sign-Up Month raffle!  Limit one scavenger hunt per child. \nParticipating Libraries: Bay County Public Library\, Panama City Beach Public Library\, and Parker Public Library \nPrize: Lego Classic Set & 365 Things to do With Lego Bricks book
URL:https://www.nwrls.com/event/september-kids-scavenger-hunt/
LOCATION:Bay County Public Library\, 898 W 11th Street\, Panama City\, FL\, 32401\, United States
CATEGORIES:Bay County Public Library,Events,Locations,Panama City Beach Library,Parker Public Library
ATTACH;FMTTYPE=image/png:https://www.nwrls.com/wp-content/uploads/2025/09/What-would-the-title-of-your-memoir-be-1.png
END:VEVENT
BEGIN:VEVENT
DTSTART;TZID=America/Chicago:20250909T120000
DTEND;TZID=America/Chicago:20250909T130000
DTSTAMP:20260419T201735
CREATED:20250908T130855Z
LAST-MODIFIED:20250908T130856Z
UID:19555-1757419200-1757422800@www.nwrls.com
SUMMARY:Homeschool Hangout
DESCRIPTION:Come meet up with other local homeschoolers in a relaxed atmosphere and make new friends too! Games & LEGOs available.
URL:https://www.nwrls.com/event/homeschool-hangout-10/
LOCATION:Parker Public Library\, 4710 Second Street\, Parker\, FL\, 32404\, United States
CATEGORIES:Events,Locations,Parker Public Library
ATTACH;FMTTYPE=image/jpeg:https://www.nwrls.com/wp-content/uploads/2025/09/Homeschool-Hang-out-2.jpg
END:VEVENT
BEGIN:VEVENT
DTSTART;TZID=America/Chicago:20250913T110000
DTEND;TZID=America/Chicago:20250913T120000
DTSTAMP:20260419T201735
CREATED:20250908T131822Z
LAST-MODIFIED:20250908T132022Z
UID:19565-1757761200-1757764800@www.nwrls.com
SUMMARY:Adult Craft: Tin Can Flowerpot (Adults & Teens 16+)
DESCRIPTION:Join us for September’s craft:  Tin Can Flowerpot!  Decoupage a tin can for your fall flowers. \n*Registration required; limited to 12 participants.  Call 850-871-3092 to register!
URL:https://www.nwrls.com/event/adult-craft-tin-can-flowerpot-adults-teens-16/
LOCATION:Parker Public Library\, 4710 Second Street\, Parker\, FL\, 32404\, United States
CATEGORIES:Events,Locations,Parker Public Library
ATTACH;FMTTYPE=image/jpeg:https://www.nwrls.com/wp-content/uploads/2025/09/Parker-Adult-crafts.jpg
END:VEVENT
BEGIN:VEVENT
DTSTART;TZID=America/Chicago:20250920T110000
DTEND;TZID=America/Chicago:20250920T120000
DTSTAMP:20260419T201735
CREATED:20250908T132215Z
LAST-MODIFIED:20250908T132215Z
UID:19573-1758366000-1758369600@www.nwrls.com
SUMMARY:Book Club
DESCRIPTION:Parker Public Library Book Club geared for adults.  Join us for a fun discussion about the month’s featured title. Book can be borrowed from the library system catalog: www.nwrls.com. \nSeptember: The Perfect Couple by Elin Hilderbrand
URL:https://www.nwrls.com/event/book-club-8/
LOCATION:Parker Public Library\, 4710 Second Street\, Parker\, FL\, 32404\, United States
CATEGORIES:Events,Locations,Parker Public Library
ATTACH;FMTTYPE=image/jpeg:https://www.nwrls.com/wp-content/uploads/2025/09/Parker-Bookclub-2.jpg
END:VEVENT
END:VCALENDAR