BEGIN:VCALENDAR
VERSION:2.0
PRODID:-//Northwest Regional Library System - ECPv6.15.20//NONSGML v1.0//EN
CALSCALE:GREGORIAN
METHOD:PUBLISH
X-ORIGINAL-URL:https://www.nwrls.com
X-WR-CALDESC:Events for Northwest Regional Library System
REFRESH-INTERVAL;VALUE=DURATION:PT1H
X-Robots-Tag:noindex
X-PUBLISHED-TTL:PT1H
BEGIN:VTIMEZONE
TZID:America/Chicago
BEGIN:DAYLIGHT
TZOFFSETFROM:-0600
TZOFFSETTO:-0500
TZNAME:CDT
DTSTART:20240310T080000
END:DAYLIGHT
BEGIN:STANDARD
TZOFFSETFROM:-0500
TZOFFSETTO:-0600
TZNAME:CST
DTSTART:20241103T070000
END:STANDARD
BEGIN:DAYLIGHT
TZOFFSETFROM:-0600
TZOFFSETTO:-0500
TZNAME:CDT
DTSTART:20250309T080000
END:DAYLIGHT
BEGIN:STANDARD
TZOFFSETFROM:-0500
TZOFFSETTO:-0600
TZNAME:CST
DTSTART:20251102T070000
END:STANDARD
BEGIN:DAYLIGHT
TZOFFSETFROM:-0600
TZOFFSETTO:-0500
TZNAME:CDT
DTSTART:20260308T080000
END:DAYLIGHT
BEGIN:STANDARD
TZOFFSETFROM:-0500
TZOFFSETTO:-0600
TZNAME:CST
DTSTART:20261101T070000
END:STANDARD
END:VTIMEZONE
BEGIN:VEVENT
DTSTART;TZID=America/Chicago:20250607T110000
DTEND;TZID=America/Chicago:20250607T120000
DTSTAMP:20260420T003625
CREATED:20250514T143032Z
LAST-MODIFIED:20250514T143032Z
UID:18232-1749294000-1749297600@www.nwrls.com
SUMMARY:Saturday Storytime (Ages 3 - 6): It's All About Colors
DESCRIPTION:Join us for a fun storytime with a craft. Recommended for ages 3 – 6\, but all are welcome. \nToday’s Theme: It’s all about Colors \nProgram is part of this year’s ‘Color Our World’ Summer Reading Programming!
URL:https://www.nwrls.com/event/saturday-storytime-ages-3-6-its-all-about-colors/
LOCATION:Parker Public Library\, 4710 Second Street\, Parker\, FL\, 32404\, United States
CATEGORIES:Events,Locations,Parker Public Library
ATTACH;FMTTYPE=image/png:https://www.nwrls.com/wp-content/uploads/2025/05/Its-all-about-color.png
END:VEVENT
BEGIN:VEVENT
DTSTART;TZID=America/Chicago:20250607T123000
DTEND;TZID=America/Chicago:20250607T133000
DTSTAMP:20260420T003625
CREATED:20250514T145403Z
LAST-MODIFIED:20250514T145403Z
UID:18243-1749299400-1749303000@www.nwrls.com
SUMMARY:Saturday Program (Ages 6 - 12): LEGO Fairy Tales
DESCRIPTION:Join your friends this Saturday for either a LEGO challenge or art project. Recommended for ages 6 – 12. \nToday’s Saturday is Program: LEGO Fairy Tales \nProgram is part of this year’s ‘Color Our World’ Summer Reading Programming!
URL:https://www.nwrls.com/event/saturday-program-ages-6-12-lego-fairy-tales/
LOCATION:Parker Public Library\, 4710 Second Street\, Parker\, FL\, 32404\, United States
CATEGORIES:Events,Locations,Parker Public Library
ATTACH;FMTTYPE=image/jpeg:https://www.nwrls.com/wp-content/uploads/2025/05/Color-Our-World-LEGO-Fairy-Tales.jpg
END:VEVENT
BEGIN:VEVENT
DTSTART;TZID=America/Chicago:20250614T110000
DTEND;TZID=America/Chicago:20250614T120000
DTSTAMP:20260420T003625
CREATED:20250514T151757Z
LAST-MODIFIED:20250514T151757Z
UID:18261-1749898800-1749902400@www.nwrls.com
SUMMARY:Card Making and Paper Crafting Crafternoon
DESCRIPTION:Join us for a Card Making and Paper Crafting Crafternoon geared for adults and teens (13+). All supplies provided. \nThis program is part of the “Color Our World” Summer Reading Programming.
URL:https://www.nwrls.com/event/card-making-and-paper-crafting-crafternoon/
LOCATION:Parker Public Library\, 4710 Second Street\, Parker\, FL\, 32404\, United States
CATEGORIES:Events,Locations,Parker Public Library
ATTACH;FMTTYPE=image/png:https://www.nwrls.com/wp-content/uploads/2025/05/Crafternoon-Cardmaking.png
END:VEVENT
BEGIN:VEVENT
DTSTART;TZID=America/Chicago:20250621T123000
DTEND;TZID=America/Chicago:20250621T133000
DTSTAMP:20260420T003625
CREATED:20250514T145649Z
LAST-MODIFIED:20250514T145649Z
UID:18246-1750509000-1750512600@www.nwrls.com
SUMMARY:Saturday Program (Ages 6 - 12): Tropical Landscape Art Collaboration
DESCRIPTION:Join your friends this Saturday for either a LEGO challenge or art project. Recommended for ages 6 – 12. \nToday’s Saturday is Program: Tropical Landscape Art Collaboration \nProgram is part of this year’s ‘Color Our World’ Summer Reading Programming!
URL:https://www.nwrls.com/event/saturday-program-ages-6-12-tropical-landscape-art-collaboration/
LOCATION:Parker Public Library\, 4710 Second Street\, Parker\, FL\, 32404\, United States
CATEGORIES:Events,Locations,Parker Public Library
ATTACH;FMTTYPE=image/png:https://www.nwrls.com/wp-content/uploads/2025/05/Tropical-Landscape.png
END:VEVENT
BEGIN:VEVENT
DTSTART;TZID=America/Chicago:20250628T130000
DTEND;TZID=America/Chicago:20250628T140000
DTSTAMP:20260420T003625
CREATED:20250514T152527Z
LAST-MODIFIED:20250514T152826Z
UID:18267-1751115600-1751119200@www.nwrls.com
SUMMARY:Book Club
DESCRIPTION:Parker Public Library Book Club geared for adults.  Join us for a fun discussion about the month’s featured title. Book can be borrowed from the library system catalog: www.nwrls.com. \nJune: The Magnolia Place by Fiona Davis
URL:https://www.nwrls.com/event/book-club-5/
LOCATION:Parker Public Library\, 4710 Second Street\, Parker\, FL\, 32404\, United States
CATEGORIES:Events,Locations,Parker Public Library
ATTACH;FMTTYPE=image/png:https://www.nwrls.com/wp-content/uploads/2025/05/Book-Club.png
END:VEVENT
END:VCALENDAR