BEGIN:VCALENDAR
VERSION:2.0
PRODID:-//Northwest Regional Library System - ECPv6.15.20//NONSGML v1.0//EN
CALSCALE:GREGORIAN
METHOD:PUBLISH
X-WR-CALNAME:Northwest Regional Library System
X-ORIGINAL-URL:https://www.nwrls.com
X-WR-CALDESC:Events for Northwest Regional Library System
REFRESH-INTERVAL;VALUE=DURATION:PT1H
X-Robots-Tag:noindex
X-PUBLISHED-TTL:PT1H
BEGIN:VTIMEZONE
TZID:America/Chicago
BEGIN:DAYLIGHT
TZOFFSETFROM:-0600
TZOFFSETTO:-0500
TZNAME:CDT
DTSTART:20250309T080000
END:DAYLIGHT
BEGIN:STANDARD
TZOFFSETFROM:-0500
TZOFFSETTO:-0600
TZNAME:CST
DTSTART:20251102T070000
END:STANDARD
BEGIN:DAYLIGHT
TZOFFSETFROM:-0600
TZOFFSETTO:-0500
TZNAME:CDT
DTSTART:20260308T080000
END:DAYLIGHT
BEGIN:STANDARD
TZOFFSETFROM:-0500
TZOFFSETTO:-0600
TZNAME:CST
DTSTART:20261101T070000
END:STANDARD
BEGIN:DAYLIGHT
TZOFFSETFROM:-0600
TZOFFSETTO:-0500
TZNAME:CDT
DTSTART:20270314T080000
END:DAYLIGHT
BEGIN:STANDARD
TZOFFSETFROM:-0500
TZOFFSETTO:-0600
TZNAME:CST
DTSTART:20271107T070000
END:STANDARD
END:VTIMEZONE
BEGIN:VEVENT
DTSTART;TZID=America/Chicago:20260522T100000
DTEND;TZID=America/Chicago:20260522T120000
DTSTAMP:20260419T114653
CREATED:20260213T200244Z
LAST-MODIFIED:20260213T200244Z
UID:21190-1779444000-1779451200@www.nwrls.com
SUMMARY:Sea Needles
DESCRIPTION:Join us and make new friends as you work on your own sewing\, knitting or crochet project. Stop by our display case to see some of the beautiful\, finished projects.
URL:https://www.nwrls.com/event/sea-needles-72/
LOCATION:Panama City Beach Public Library\, 12500 Hutchison Blvd\, Panama City Beach\, FL\, 32407
CATEGORIES:Events,Locations,Panama City Beach Library
ATTACH;FMTTYPE=image/jpeg:https://www.nwrls.com/wp-content/uploads/2025/11/Sea-Needles.jpg
END:VEVENT
BEGIN:VEVENT
DTSTART;TZID=America/Chicago:20260526T100000
DTEND;TZID=America/Chicago:20260526T110000
DTSTAMP:20260419T114653
CREATED:20260213T165737Z
LAST-MODIFIED:20260213T165737Z
UID:21070-1779789600-1779793200@www.nwrls.com
SUMMARY:Beach Book Babies (Ages 0 - 2)
DESCRIPTION:Bring your baby and enjoy a time of interactive stories\, songs\, and scarf play.  Class sizes are limited to 24 people each session; two class times of same class. Program geared for ages 0 – 2 with caregiver.\n\n10:00 – 10:20 a.m. Session 1\n10:30 – 10:50 a.m. Session 2
URL:https://www.nwrls.com/event/beach-book-babies-ages-0-2-10/
LOCATION:Panama City Beach Public Library\, 12500 Hutchison Blvd\, Panama City Beach\, FL\, 32407
CATEGORIES:Events,Locations,Panama City Beach Library
ATTACH;FMTTYPE=image/jpeg:https://www.nwrls.com/wp-content/uploads/2024/08/Book-Babies.jpg
END:VEVENT
BEGIN:VEVENT
DTSTART;TZID=America/Chicago:20260526T120000
DTEND;TZID=America/Chicago:20260526T150000
DTSTAMP:20260419T114653
CREATED:20260213T195603Z
LAST-MODIFIED:20260213T195603Z
UID:21173-1779796800-1779807600@www.nwrls.com
SUMMARY:Mahjong Meetup (Adults)
DESCRIPTION:Learn\, play\, and meet other Mahjong players!
URL:https://www.nwrls.com/event/mahjong-meetup-adults-25/
LOCATION:Panama City Beach Public Library\, 12500 Hutchison Blvd\, Panama City Beach\, FL\, 32407
CATEGORIES:Events,Locations,Panama City Beach Library
ATTACH;FMTTYPE=image/jpeg:https://www.nwrls.com/wp-content/uploads/2025/11/8-1.jpg
END:VEVENT
BEGIN:VEVENT
DTSTART;TZID=America/Chicago:20260528T100000
DTEND;TZID=America/Chicago:20260528T110000
DTSTAMP:20260419T114653
CREATED:20260213T172128Z
LAST-MODIFIED:20260213T172128Z
UID:21102-1779962400-1779966000@www.nwrls.com
SUMMARY:Sail into School (Ages 3 - 5 / Class size limited)
DESCRIPTION:Join us for stories\, songs\, and felt play all to get ready for school! Class size is limited to 24 people.
URL:https://www.nwrls.com/event/sail-into-school-ages-3-5-class-size-limited-55/
LOCATION:Panama City Beach Public Library\, 12500 Hutchison Blvd\, Panama City Beach\, FL\, 32407
CATEGORIES:Events,Locations,Panama City Beach Library
ATTACH;FMTTYPE=image/jpeg:https://www.nwrls.com/wp-content/uploads/2023/08/PBC-Sail-into-School.jpg
END:VEVENT
BEGIN:VEVENT
DTSTART;TZID=America/Chicago:20260529T100000
DTEND;TZID=America/Chicago:20260529T120000
DTSTAMP:20260419T114653
CREATED:20260213T200314Z
LAST-MODIFIED:20260213T200314Z
UID:21189-1780048800-1780056000@www.nwrls.com
SUMMARY:Sea Needles
DESCRIPTION:Join us and make new friends as you work on your own sewing\, knitting or crochet project. Stop by our display case to see some of the beautiful\, finished projects.
URL:https://www.nwrls.com/event/sea-needles-73/
LOCATION:Panama City Beach Public Library\, 12500 Hutchison Blvd\, Panama City Beach\, FL\, 32407
CATEGORIES:Events,Locations,Panama City Beach Library
ATTACH;FMTTYPE=image/jpeg:https://www.nwrls.com/wp-content/uploads/2025/11/Sea-Needles.jpg
END:VEVENT
END:VCALENDAR