BEGIN:VCALENDAR
VERSION:2.0
PRODID:-//Northwest Regional Library System - ECPv6.15.20//NONSGML v1.0//EN
CALSCALE:GREGORIAN
METHOD:PUBLISH
X-ORIGINAL-URL:https://www.nwrls.com
X-WR-CALDESC:Events for Northwest Regional Library System
REFRESH-INTERVAL;VALUE=DURATION:PT1H
X-Robots-Tag:noindex
X-PUBLISHED-TTL:PT1H
BEGIN:VTIMEZONE
TZID:America/Chicago
BEGIN:DAYLIGHT
TZOFFSETFROM:-0600
TZOFFSETTO:-0500
TZNAME:CDT
DTSTART:20250309T080000
END:DAYLIGHT
BEGIN:STANDARD
TZOFFSETFROM:-0500
TZOFFSETTO:-0600
TZNAME:CST
DTSTART:20251102T070000
END:STANDARD
BEGIN:DAYLIGHT
TZOFFSETFROM:-0600
TZOFFSETTO:-0500
TZNAME:CDT
DTSTART:20260308T080000
END:DAYLIGHT
BEGIN:STANDARD
TZOFFSETFROM:-0500
TZOFFSETTO:-0600
TZNAME:CST
DTSTART:20261101T070000
END:STANDARD
BEGIN:DAYLIGHT
TZOFFSETFROM:-0600
TZOFFSETTO:-0500
TZNAME:CDT
DTSTART:20270314T080000
END:DAYLIGHT
BEGIN:STANDARD
TZOFFSETFROM:-0500
TZOFFSETTO:-0600
TZNAME:CST
DTSTART:20271107T070000
END:STANDARD
END:VTIMEZONE
BEGIN:VEVENT
DTSTART;TZID=America/Chicago:20260512T100000
DTEND;TZID=America/Chicago:20260512T110000
DTSTAMP:20260419T133720
CREATED:20260213T165630Z
LAST-MODIFIED:20260213T165630Z
UID:21074-1778580000-1778583600@www.nwrls.com
SUMMARY:Beach Book Babies (Ages 0 - 2)
DESCRIPTION:Bring your baby and enjoy a time of interactive stories\, songs\, and scarf play.  Class sizes are limited to 24 people each session; two class times of same class. Program geared for ages 0 – 2 with caregiver.\n\n10:00 – 10:20 a.m. Session 1\n10:30 – 10:50 a.m. Session 2
URL:https://www.nwrls.com/event/beach-book-babies-ages-0-2-9/
LOCATION:Panama City Beach Public Library\, 12500 Hutchison Blvd\, Panama City Beach\, FL\, 32407
CATEGORIES:Events,Locations,Panama City Beach Library
ATTACH;FMTTYPE=image/jpeg:https://www.nwrls.com/wp-content/uploads/2024/08/Book-Babies.jpg
END:VEVENT
BEGIN:VEVENT
DTSTART;TZID=America/Chicago:20260512T120000
DTEND;TZID=America/Chicago:20260512T150000
DTSTAMP:20260419T133720
CREATED:20260213T195438Z
LAST-MODIFIED:20260213T195438Z
UID:21175-1778587200-1778598000@www.nwrls.com
SUMMARY:Mahjong Meetup (Adults)
DESCRIPTION:Learn\, play\, and meet other Mahjong players!
URL:https://www.nwrls.com/event/mahjong-meetup-adults-23/
LOCATION:Panama City Beach Public Library\, 12500 Hutchison Blvd\, Panama City Beach\, FL\, 32407
CATEGORIES:Events,Locations,Panama City Beach Library
ATTACH;FMTTYPE=image/jpeg:https://www.nwrls.com/wp-content/uploads/2025/11/8-1.jpg
END:VEVENT
BEGIN:VEVENT
DTSTART;TZID=America/Chicago:20260512T153000
DTEND;TZID=America/Chicago:20260512T163000
DTSTAMP:20260419T133720
CREATED:20260211T221404Z
LAST-MODIFIED:20260211T221404Z
UID:20903-1778599800-1778603400@www.nwrls.com
SUMMARY:LEGO Club (Ages 7 - 11\, Registration Required)
DESCRIPTION:Program geared for 7 to 11 years old. Join us every month for a different theme to create with LEGOs. We will display completed LEGO creations in the library. Registration required due to limited class size capped at 18. Registrations begin on the 1st of each month by visiting the library or calling 850-233-5055.
URL:https://www.nwrls.com/event/lego-club-ages-7-11-registration-required-14/
LOCATION:Panama City Beach Public Library\, 12500 Hutchison Blvd\, Panama City Beach\, FL\, 32407
CATEGORIES:Events,Locations,Panama City Beach Library
ATTACH;FMTTYPE=image/jpeg:https://www.nwrls.com/wp-content/uploads/2024/08/Lego-Club.jpg
END:VEVENT
END:VCALENDAR