BEGIN:VCALENDAR
VERSION:2.0
PRODID:-//Northwest Regional Library System - ECPv6.15.20//NONSGML v1.0//EN
CALSCALE:GREGORIAN
METHOD:PUBLISH
X-WR-CALNAME:Northwest Regional Library System
X-ORIGINAL-URL:https://www.nwrls.com
X-WR-CALDESC:Events for Northwest Regional Library System
REFRESH-INTERVAL;VALUE=DURATION:PT1H
X-Robots-Tag:noindex
X-PUBLISHED-TTL:PT1H
BEGIN:VTIMEZONE
TZID:America/Chicago
BEGIN:DAYLIGHT
TZOFFSETFROM:-0600
TZOFFSETTO:-0500
TZNAME:CDT
DTSTART:20250309T080000
END:DAYLIGHT
BEGIN:STANDARD
TZOFFSETFROM:-0500
TZOFFSETTO:-0600
TZNAME:CST
DTSTART:20251102T070000
END:STANDARD
BEGIN:DAYLIGHT
TZOFFSETFROM:-0600
TZOFFSETTO:-0500
TZNAME:CDT
DTSTART:20260308T080000
END:DAYLIGHT
BEGIN:STANDARD
TZOFFSETFROM:-0500
TZOFFSETTO:-0600
TZNAME:CST
DTSTART:20261101T070000
END:STANDARD
BEGIN:DAYLIGHT
TZOFFSETFROM:-0600
TZOFFSETTO:-0500
TZNAME:CDT
DTSTART:20270314T080000
END:DAYLIGHT
BEGIN:STANDARD
TZOFFSETFROM:-0500
TZOFFSETTO:-0600
TZNAME:CST
DTSTART:20271107T070000
END:STANDARD
END:VTIMEZONE
BEGIN:VEVENT
DTSTART;TZID=America/Chicago:20260501T090000
DTEND;TZID=America/Chicago:20260509T160000
DTSTAMP:20260419T132814
CREATED:20260213T190221Z
LAST-MODIFIED:20260213T190222Z
UID:21145-1777626000-1778342400@www.nwrls.com
SUMMARY:Mother's Day Card Station
DESCRIPTION:May 1 – 9\nCreate a handmade Mother’s Day card at the library on your next visit!\n*while supplies last
URL:https://www.nwrls.com/event/mothers-day-card-station/
LOCATION:Panama City Beach Public Library\, 12500 Hutchison Blvd\, Panama City Beach\, FL\, 32407
CATEGORIES:Events,Locations,Panama City Beach Library
ATTACH;FMTTYPE=image/jpeg:https://www.nwrls.com/wp-content/uploads/2026/02/mothers-day.jpg
END:VEVENT
BEGIN:VEVENT
DTSTART;TZID=America/Chicago:20260506T103000
DTEND;TZID=America/Chicago:20260506T113000
DTSTAMP:20260419T132814
CREATED:20260211T221137Z
LAST-MODIFIED:20260211T221137Z
UID:20894-1778063400-1778067000@www.nwrls.com
SUMMARY:Beach Book Club
DESCRIPTION:May: Daisy Jones and the Six by Taylor Jenkins Reid \nMeet at the library! New members are always welcome. \n\nExtra copies will be at the Beach Book Club. Email Sharron at shill@nwrls.com to see if copies are available for you to borrow or to place you on the list for the next available copy! The Book Club copies to borrow are sponsored by the Bay County Public Library Foundation (https://bcplfoundation.org/(opens in a new tab)).
URL:https://www.nwrls.com/event/beach-book-club-17/
LOCATION:Panama City Beach Public Library\, 12500 Hutchison Blvd\, Panama City Beach\, FL\, 32407
CATEGORIES:Events,Locations,Panama City Beach Library
ATTACH;FMTTYPE=image/jpeg:https://www.nwrls.com/wp-content/uploads/2026/02/BBMay.jpg
END:VEVENT
END:VCALENDAR