BEGIN:VCALENDAR
VERSION:2.0
PRODID:-//Northwest Regional Library System - ECPv6.15.20//NONSGML v1.0//EN
CALSCALE:GREGORIAN
METHOD:PUBLISH
X-ORIGINAL-URL:https://www.nwrls.com
X-WR-CALDESC:Events for Northwest Regional Library System
REFRESH-INTERVAL;VALUE=DURATION:PT1H
X-Robots-Tag:noindex
X-PUBLISHED-TTL:PT1H
BEGIN:VTIMEZONE
TZID:America/Chicago
BEGIN:DAYLIGHT
TZOFFSETFROM:-0600
TZOFFSETTO:-0500
TZNAME:CDT
DTSTART:20250309T080000
END:DAYLIGHT
BEGIN:STANDARD
TZOFFSETFROM:-0500
TZOFFSETTO:-0600
TZNAME:CST
DTSTART:20251102T070000
END:STANDARD
BEGIN:DAYLIGHT
TZOFFSETFROM:-0600
TZOFFSETTO:-0500
TZNAME:CDT
DTSTART:20260308T080000
END:DAYLIGHT
BEGIN:STANDARD
TZOFFSETFROM:-0500
TZOFFSETTO:-0600
TZNAME:CST
DTSTART:20261101T070000
END:STANDARD
BEGIN:DAYLIGHT
TZOFFSETFROM:-0600
TZOFFSETTO:-0500
TZNAME:CDT
DTSTART:20270314T080000
END:DAYLIGHT
BEGIN:STANDARD
TZOFFSETFROM:-0500
TZOFFSETTO:-0600
TZNAME:CST
DTSTART:20271107T070000
END:STANDARD
END:VTIMEZONE
BEGIN:VEVENT
DTSTART;TZID=America/Chicago:20260401T090000
DTEND;TZID=America/Chicago:20260430T170000
DTSTAMP:20260419T120936
CREATED:20260224T191318Z
LAST-MODIFIED:20260224T191318Z
UID:21420-1775034000-1777568400@www.nwrls.com
SUMMARY:Spring Reading Challenge (April 1 - 30)
DESCRIPTION:Participating Libraries:  Bay County Public Library\, Parker Public Library\, Panama City Beach Public Library \nApril 1 – 30\nCheck out items in April to be entered in a raffle prize drawing! (1 entry per person) There will be one small prize for kids\, one for teens\, and one for adults. \nThank you to the Friends of the Bay County Public Libraries for funding special campaigns like this!
URL:https://www.nwrls.com/event/spring-reading-challenge-april-1-30/
LOCATION:FLORIDA
CATEGORIES:Bay County Public Library,Events,Locations,Panama City Beach Library,Parker Public Library
ATTACH;FMTTYPE=image/jpeg:https://www.nwrls.com/wp-content/uploads/2026/02/BCPL-Spring-Programs-1-1.jpg
END:VEVENT
BEGIN:VEVENT
DTSTART;TZID=America/Chicago:20260416T100000
DTEND;TZID=America/Chicago:20260416T110000
DTSTAMP:20260419T120936
CREATED:20260213T171139Z
LAST-MODIFIED:20260213T171139Z
UID:21108-1776333600-1776337200@www.nwrls.com
SUMMARY:Sail into School (Ages 3 - 5 / Class size limited)
DESCRIPTION:Join us for stories\, songs\, and felt play all to get ready for school! Class size is limited to 24 people.
URL:https://www.nwrls.com/event/sail-into-school-ages-3-5-class-size-limited-49/
LOCATION:Panama City Beach Public Library\, 12500 Hutchison Blvd\, Panama City Beach\, FL\, 32407
CATEGORIES:Events,Locations,Panama City Beach Library
ATTACH;FMTTYPE=image/jpeg:https://www.nwrls.com/wp-content/uploads/2023/08/PBC-Sail-into-School.jpg
END:VEVENT
END:VCALENDAR