BEGIN:VCALENDAR
VERSION:2.0
PRODID:-//Northwest Regional Library System - ECPv6.15.20//NONSGML v1.0//EN
CALSCALE:GREGORIAN
METHOD:PUBLISH
X-WR-CALNAME:Northwest Regional Library System
X-ORIGINAL-URL:https://www.nwrls.com
X-WR-CALDESC:Events for Northwest Regional Library System
REFRESH-INTERVAL;VALUE=DURATION:PT1H
X-Robots-Tag:noindex
X-PUBLISHED-TTL:PT1H
BEGIN:VTIMEZONE
TZID:America/Chicago
BEGIN:DAYLIGHT
TZOFFSETFROM:-0600
TZOFFSETTO:-0500
TZNAME:CDT
DTSTART:20250309T080000
END:DAYLIGHT
BEGIN:STANDARD
TZOFFSETFROM:-0500
TZOFFSETTO:-0600
TZNAME:CST
DTSTART:20251102T070000
END:STANDARD
BEGIN:DAYLIGHT
TZOFFSETFROM:-0600
TZOFFSETTO:-0500
TZNAME:CDT
DTSTART:20260308T080000
END:DAYLIGHT
BEGIN:STANDARD
TZOFFSETFROM:-0500
TZOFFSETTO:-0600
TZNAME:CST
DTSTART:20261101T070000
END:STANDARD
BEGIN:DAYLIGHT
TZOFFSETFROM:-0600
TZOFFSETTO:-0500
TZNAME:CDT
DTSTART:20270314T080000
END:DAYLIGHT
BEGIN:STANDARD
TZOFFSETFROM:-0500
TZOFFSETTO:-0600
TZNAME:CST
DTSTART:20271107T070000
END:STANDARD
END:VTIMEZONE
BEGIN:VEVENT
DTSTART;TZID=America/Chicago:20260209T090000
DTEND;TZID=America/Chicago:20260414T140000
DTSTAMP:20260419T120509
CREATED:20251204T192251Z
LAST-MODIFIED:20260211T215829Z
UID:20474-1770627600-1776175200@www.nwrls.com
SUMMARY:AARP Tax Help (Registration Required)
DESCRIPTION:Begins Monday\, February 9th \nTax assistance will be available by prior appointment only on Mondays & Saturdays\, beginning February 9th from 9 – 2 p.m. CT.  Call AARP to set up appointments at 850-583-4606 beginning February 1.  Leave a message and an AARP volunteer will call you back to discuss if you qualify and set up an appointment. \n*Tax assistance is only available on Mondays & Saturdays.
URL:https://www.nwrls.com/event/aarp-tax-help-registration-required-2/
LOCATION:Panama City Beach Public Library\, 12500 Hutchison Blvd\, Panama City Beach\, FL\, 32407
CATEGORIES:Events,Locations,Panama City Beach Library
ATTACH;FMTTYPE=image/jpeg:https://www.nwrls.com/wp-content/uploads/2025/12/PCB-Winter-1.jpg
END:VEVENT
BEGIN:VEVENT
DTSTART;TZID=America/Chicago:20260401T090000
DTEND;TZID=America/Chicago:20260408T170000
DTSTAMP:20260419T120509
CREATED:20260213T190027Z
LAST-MODIFIED:20260213T190028Z
UID:21146-1775034000-1775667600@www.nwrls.com
SUMMARY:Spring Craft Table (Begins April 1)
DESCRIPTION:Begins April 1st\nJoin us for spring-themed\, self-directed crafts at the library!  Kids can make new friends at the craft table in Youth Services.  Materials provided to make a caterpillar leaf craft or a tulip bookmark.\n*while supplies last
URL:https://www.nwrls.com/event/spring-craft-table-begins-april-1/
LOCATION:Panama City Beach Public Library\, 12500 Hutchison Blvd\, Panama City Beach\, FL\, 32407
CATEGORIES:Events,Locations,Panama City Beach Library
ATTACH;FMTTYPE=image/jpeg:https://www.nwrls.com/wp-content/uploads/2026/02/craft-table.jpg
END:VEVENT
BEGIN:VEVENT
DTSTART;TZID=America/Chicago:20260401T090000
DTEND;TZID=America/Chicago:20260430T170000
DTSTAMP:20260419T120509
CREATED:20260224T191318Z
LAST-MODIFIED:20260224T191318Z
UID:21420-1775034000-1777568400@www.nwrls.com
SUMMARY:Spring Reading Challenge (April 1 - 30)
DESCRIPTION:Participating Libraries:  Bay County Public Library\, Parker Public Library\, Panama City Beach Public Library \nApril 1 – 30\nCheck out items in April to be entered in a raffle prize drawing! (1 entry per person) There will be one small prize for kids\, one for teens\, and one for adults. \nThank you to the Friends of the Bay County Public Libraries for funding special campaigns like this!
URL:https://www.nwrls.com/event/spring-reading-challenge-april-1-30/
LOCATION:FLORIDA
CATEGORIES:Bay County Public Library,Events,Locations,Panama City Beach Library,Parker Public Library
ATTACH;FMTTYPE=image/jpeg:https://www.nwrls.com/wp-content/uploads/2026/02/BCPL-Spring-Programs-1-1.jpg
END:VEVENT
BEGIN:VEVENT
DTSTART;TZID=America/Chicago:20260402T100000
DTEND;TZID=America/Chicago:20260402T110000
DTSTAMP:20260419T120509
CREATED:20260213T171029Z
LAST-MODIFIED:20260213T171031Z
UID:21110-1775124000-1775127600@www.nwrls.com
SUMMARY:Sail into School (Ages 3 - 5 / Class size limited)
DESCRIPTION:Join us for stories\, songs\, and felt play all to get ready for school! Class size is limited to 24 people.
URL:https://www.nwrls.com/event/sail-into-school-ages-3-5-class-size-limited-47/
LOCATION:Panama City Beach Public Library\, 12500 Hutchison Blvd\, Panama City Beach\, FL\, 32407
CATEGORIES:Events,Locations,Panama City Beach Library
ATTACH;FMTTYPE=image/jpeg:https://www.nwrls.com/wp-content/uploads/2023/08/PBC-Sail-into-School.jpg
END:VEVENT
END:VCALENDAR