BEGIN:VCALENDAR
VERSION:2.0
PRODID:-//Northwest Regional Library System - ECPv6.15.20//NONSGML v1.0//EN
CALSCALE:GREGORIAN
METHOD:PUBLISH
X-ORIGINAL-URL:https://www.nwrls.com
X-WR-CALDESC:Events for Northwest Regional Library System
REFRESH-INTERVAL;VALUE=DURATION:PT1H
X-Robots-Tag:noindex
X-PUBLISHED-TTL:PT1H
BEGIN:VTIMEZONE
TZID:America/Chicago
BEGIN:DAYLIGHT
TZOFFSETFROM:-0600
TZOFFSETTO:-0500
TZNAME:CDT
DTSTART:20250309T080000
END:DAYLIGHT
BEGIN:STANDARD
TZOFFSETFROM:-0500
TZOFFSETTO:-0600
TZNAME:CST
DTSTART:20251102T070000
END:STANDARD
BEGIN:DAYLIGHT
TZOFFSETFROM:-0600
TZOFFSETTO:-0500
TZNAME:CDT
DTSTART:20260308T080000
END:DAYLIGHT
BEGIN:STANDARD
TZOFFSETFROM:-0500
TZOFFSETTO:-0600
TZNAME:CST
DTSTART:20261101T070000
END:STANDARD
BEGIN:DAYLIGHT
TZOFFSETFROM:-0600
TZOFFSETTO:-0500
TZNAME:CDT
DTSTART:20270314T080000
END:DAYLIGHT
BEGIN:STANDARD
TZOFFSETFROM:-0500
TZOFFSETTO:-0600
TZNAME:CST
DTSTART:20271107T070000
END:STANDARD
END:VTIMEZONE
BEGIN:VEVENT
DTSTART;TZID=America/Chicago:20260209T090000
DTEND;TZID=America/Chicago:20260414T140000
DTSTAMP:20260419T133704
CREATED:20251204T192251Z
LAST-MODIFIED:20260211T215829Z
UID:20474-1770627600-1776175200@www.nwrls.com
SUMMARY:AARP Tax Help (Registration Required)
DESCRIPTION:Begins Monday\, February 9th \nTax assistance will be available by prior appointment only on Mondays & Saturdays\, beginning February 9th from 9 – 2 p.m. CT.  Call AARP to set up appointments at 850-583-4606 beginning February 1.  Leave a message and an AARP volunteer will call you back to discuss if you qualify and set up an appointment. \n*Tax assistance is only available on Mondays & Saturdays.
URL:https://www.nwrls.com/event/aarp-tax-help-registration-required-2/
LOCATION:Panama City Beach Public Library\, 12500 Hutchison Blvd\, Panama City Beach\, FL\, 32407
CATEGORIES:Events,Locations,Panama City Beach Library
ATTACH;FMTTYPE=image/jpeg:https://www.nwrls.com/wp-content/uploads/2025/12/PCB-Winter-1.jpg
END:VEVENT
BEGIN:VEVENT
DTSTART;TZID=America/Chicago:20260224T100000
DTEND;TZID=America/Chicago:20260224T110000
DTSTAMP:20260419T133704
CREATED:20251117T153026Z
LAST-MODIFIED:20251117T153026Z
UID:20249-1771927200-1771930800@www.nwrls.com
SUMMARY:Book Babies (Ages 0 - 2)
DESCRIPTION:Bring your baby and enjoy a time of interactive stories\, songs\, and scarf play.  Class sizes are limited to 24 people each session; two class times of same class. Program geared for ages 0 – 2 with caregiver.\n\n10:00 – 10:20 a.m. Session 1\n10:30 – 10:50 a.m. Session 2
URL:https://www.nwrls.com/event/book-babies-ages-0-2-39/
LOCATION:Panama City Beach Public Library\, 12500 Hutchison Blvd\, Panama City Beach\, FL\, 32407
CATEGORIES:Events,Locations,Panama City Beach Library
ATTACH;FMTTYPE=image/jpeg:https://www.nwrls.com/wp-content/uploads/2024/08/Book-Babies.jpg
END:VEVENT
BEGIN:VEVENT
DTSTART;TZID=America/Chicago:20260224T120000
DTEND;TZID=America/Chicago:20260224T150000
DTSTAMP:20260419T133704
CREATED:20251117T162210Z
LAST-MODIFIED:20251117T162210Z
UID:20311-1771934400-1771945200@www.nwrls.com
SUMMARY:Mahjong Meetup (Adults)
DESCRIPTION:Learn\, play\, and meet other Mahjong players!
URL:https://www.nwrls.com/event/mahjong-meetup-adults-12/
LOCATION:Panama City Beach Public Library\, 12500 Hutchison Blvd\, Panama City Beach\, FL\, 32407
CATEGORIES:Events,Locations,Panama City Beach Library
ATTACH;FMTTYPE=image/jpeg:https://www.nwrls.com/wp-content/uploads/2025/11/8-1.jpg
END:VEVENT
BEGIN:VEVENT
DTSTART;TZID=America/Chicago:20260224T140000
DTEND;TZID=America/Chicago:20260224T150000
DTSTAMP:20260419T133704
CREATED:20260213T193256Z
LAST-MODIFIED:20260213T193256Z
UID:21169-1771941600-1771945200@www.nwrls.com
SUMMARY:Chapter Chat Book Club
DESCRIPTION:Jessica Foster from WJHG News Channel 7 will lead Chapter Chat Book Club. Come join us to talk about this month’s book and just fun conversation in general! Open to the public to join\, no registration required. We will be meeting in the Meeting Room with light refreshments. \nFebruary’s Book: First-Time Caller by B.K. Borison \nChapter Chat meets at the Panama City Beach Public Library on the last Tuesday of the month at 2 p.m. Call the library at (850) 233-5055 to see if an extra copy of the monthly title is available for you to borrow or to place you on the list for the next available copy!\nThe extra Chapter Chat Books are sponsored by the Bay County Public Library Foundation (https://bcplfoundation.org/)
URL:https://www.nwrls.com/event/chapter-chat-book-club-12/
LOCATION:Panama City Beach Public Library\, 12500 Hutchison Blvd\, Panama City Beach\, FL\, 32407
CATEGORIES:Events,Locations,Panama City Beach Library
ATTACH;FMTTYPE=image/jpeg:https://www.nwrls.com/wp-content/uploads/2026/02/CC-Feb.jpg
END:VEVENT
END:VCALENDAR