BEGIN:VCALENDAR
VERSION:2.0
PRODID:-//Northwest Regional Library System - ECPv6.15.20//NONSGML v1.0//EN
CALSCALE:GREGORIAN
METHOD:PUBLISH
X-WR-CALNAME:Northwest Regional Library System
X-ORIGINAL-URL:https://www.nwrls.com
X-WR-CALDESC:Events for Northwest Regional Library System
REFRESH-INTERVAL;VALUE=DURATION:PT1H
X-Robots-Tag:noindex
X-PUBLISHED-TTL:PT1H
BEGIN:VTIMEZONE
TZID:America/Chicago
BEGIN:DAYLIGHT
TZOFFSETFROM:-0600
TZOFFSETTO:-0500
TZNAME:CDT
DTSTART:20250309T080000
END:DAYLIGHT
BEGIN:STANDARD
TZOFFSETFROM:-0500
TZOFFSETTO:-0600
TZNAME:CST
DTSTART:20251102T070000
END:STANDARD
BEGIN:DAYLIGHT
TZOFFSETFROM:-0600
TZOFFSETTO:-0500
TZNAME:CDT
DTSTART:20260308T080000
END:DAYLIGHT
BEGIN:STANDARD
TZOFFSETFROM:-0500
TZOFFSETTO:-0600
TZNAME:CST
DTSTART:20261101T070000
END:STANDARD
BEGIN:DAYLIGHT
TZOFFSETFROM:-0600
TZOFFSETTO:-0500
TZNAME:CDT
DTSTART:20270314T080000
END:DAYLIGHT
BEGIN:STANDARD
TZOFFSETFROM:-0500
TZOFFSETTO:-0600
TZNAME:CST
DTSTART:20271107T070000
END:STANDARD
END:VTIMEZONE
BEGIN:VEVENT
DTSTART;TZID=America/Chicago:20260209T090000
DTEND;TZID=America/Chicago:20260414T140000
DTSTAMP:20260419T151025
CREATED:20251204T192251Z
LAST-MODIFIED:20260211T215829Z
UID:20474-1770627600-1776175200@www.nwrls.com
SUMMARY:AARP Tax Help (Registration Required)
DESCRIPTION:Begins Monday\, February 9th \nTax assistance will be available by prior appointment only on Mondays & Saturdays\, beginning February 9th from 9 – 2 p.m. CT.  Call AARP to set up appointments at 850-583-4606 beginning February 1.  Leave a message and an AARP volunteer will call you back to discuss if you qualify and set up an appointment. \n*Tax assistance is only available on Mondays & Saturdays.
URL:https://www.nwrls.com/event/aarp-tax-help-registration-required-2/
LOCATION:Panama City Beach Public Library\, 12500 Hutchison Blvd\, Panama City Beach\, FL\, 32407
CATEGORIES:Events,Locations,Panama City Beach Library
ATTACH;FMTTYPE=image/jpeg:https://www.nwrls.com/wp-content/uploads/2025/12/PCB-Winter-1.jpg
END:VEVENT
BEGIN:VEVENT
DTSTART;TZID=America/Chicago:20260210T100000
DTEND;TZID=America/Chicago:20260210T110000
DTSTAMP:20260419T151025
CREATED:20251117T152911Z
LAST-MODIFIED:20251117T152911Z
UID:20251-1770717600-1770721200@www.nwrls.com
SUMMARY:Book Babies (Ages 0 - 2)
DESCRIPTION:Bring your baby and enjoy a time of interactive stories\, songs\, and scarf play.  Class sizes are limited to 24 people each session; two class times of same class. Program geared for ages 0 – 2 with caregiver.\n\n10:00 – 10:20 a.m. Session 1\n10:30 – 10:50 a.m. Session 2
URL:https://www.nwrls.com/event/book-babies-ages-0-2-37/
LOCATION:Panama City Beach Public Library\, 12500 Hutchison Blvd\, Panama City Beach\, FL\, 32407
CATEGORIES:Events,Locations,Panama City Beach Library
ATTACH;FMTTYPE=image/jpeg:https://www.nwrls.com/wp-content/uploads/2024/08/Book-Babies.jpg
END:VEVENT
BEGIN:VEVENT
DTSTART;TZID=America/Chicago:20260210T120000
DTEND;TZID=America/Chicago:20260210T150000
DTSTAMP:20260419T151025
CREATED:20251117T162050Z
LAST-MODIFIED:20251117T162050Z
UID:20325-1770724800-1770735600@www.nwrls.com
SUMMARY:Mahjong Meetup (Adults)
DESCRIPTION:Learn\, play\, and meet other Mahjong players!
URL:https://www.nwrls.com/event/mahjong-meetup-adults-10/
LOCATION:Panama City Beach Public Library\, 12500 Hutchison Blvd\, Panama City Beach\, FL\, 32407
CATEGORIES:Events,Locations,Panama City Beach Library
ATTACH;FMTTYPE=image/jpeg:https://www.nwrls.com/wp-content/uploads/2025/11/8-1.jpg
END:VEVENT
BEGIN:VEVENT
DTSTART;TZID=America/Chicago:20260210T153000
DTEND;TZID=America/Chicago:20260210T163000
DTSTAMP:20260419T151025
CREATED:20251117T160925Z
LAST-MODIFIED:20251209T155023Z
UID:20297-1770737400-1770741000@www.nwrls.com
SUMMARY:LEGO Club (Ages 7 - 11\, Registration Required)
DESCRIPTION:Program geared for 7 to 11 years old. Join us every month for a different theme to create with LEGOs. We will display completed LEGO creations in the library. Registration required due to limited class size capped at 18. Registrations begin on the 1st of each month by visiting the library or calling 850-233-5055.
URL:https://www.nwrls.com/event/lego-club-ages-7-11-registration-required-11/
LOCATION:Panama City Beach Public Library\, 12500 Hutchison Blvd\, Panama City Beach\, FL\, 32407
CATEGORIES:Events,Locations,Panama City Beach Library
ATTACH;FMTTYPE=image/jpeg:https://www.nwrls.com/wp-content/uploads/2024/08/Lego-Club.jpg
END:VEVENT
END:VCALENDAR