BEGIN:VCALENDAR
VERSION:2.0
PRODID:-//Northwest Regional Library System - ECPv6.15.20//NONSGML v1.0//EN
CALSCALE:GREGORIAN
METHOD:PUBLISH
X-ORIGINAL-URL:https://www.nwrls.com
X-WR-CALDESC:Events for Northwest Regional Library System
REFRESH-INTERVAL;VALUE=DURATION:PT1H
X-Robots-Tag:noindex
X-PUBLISHED-TTL:PT1H
BEGIN:VTIMEZONE
TZID:America/Chicago
BEGIN:DAYLIGHT
TZOFFSETFROM:-0600
TZOFFSETTO:-0500
TZNAME:CDT
DTSTART:20240310T080000
END:DAYLIGHT
BEGIN:STANDARD
TZOFFSETFROM:-0500
TZOFFSETTO:-0600
TZNAME:CST
DTSTART:20241103T070000
END:STANDARD
BEGIN:DAYLIGHT
TZOFFSETFROM:-0600
TZOFFSETTO:-0500
TZNAME:CDT
DTSTART:20250309T080000
END:DAYLIGHT
BEGIN:STANDARD
TZOFFSETFROM:-0500
TZOFFSETTO:-0600
TZNAME:CST
DTSTART:20251102T070000
END:STANDARD
BEGIN:DAYLIGHT
TZOFFSETFROM:-0600
TZOFFSETTO:-0500
TZNAME:CDT
DTSTART:20260308T080000
END:DAYLIGHT
BEGIN:STANDARD
TZOFFSETFROM:-0500
TZOFFSETTO:-0600
TZNAME:CST
DTSTART:20261101T070000
END:STANDARD
END:VTIMEZONE
BEGIN:VEVENT
DTSTART;TZID=America/Chicago:20251201T080000
DTEND;TZID=America/Chicago:20251231T170000
DTSTAMP:20260419T180936
CREATED:20251117T162924Z
LAST-MODIFIED:20251117T162924Z
UID:20347-1764576000-1767200400@www.nwrls.com
SUMMARY:Elf on the Shelf
DESCRIPTION:Begins December 1st\nWhere is Jodie the Elf hiding in the library? Find the elf and get a prize! You can also make a Christmas ornament to display on the library tree!
URL:https://www.nwrls.com/event/elf-on-the-shelf/
LOCATION:Panama City Beach Public Library\, 12500 Hutchison Blvd\, Panama City Beach\, FL\, 32407
CATEGORIES:Events,Locations,Panama City Beach Library
ATTACH;FMTTYPE=image/jpeg:https://www.nwrls.com/wp-content/uploads/2025/11/Elf-on-the-Shelf.jpg
END:VEVENT
BEGIN:VEVENT
DTSTART;TZID=America/Chicago:20251204T100000
DTEND;TZID=America/Chicago:20251204T110000
DTSTAMP:20260419T180936
CREATED:20251117T153526Z
LAST-MODIFIED:20251117T153526Z
UID:20281-1764842400-1764846000@www.nwrls.com
SUMMARY:Sail into School (Ages 3 - 5 / Class size limited)
DESCRIPTION:Join us for stories\, songs\, and felt play all to get ready for school! Class size is limited to 24 people.
URL:https://www.nwrls.com/event/sail-into-school-ages-3-5-class-size-limited-32/
LOCATION:Panama City Beach Public Library\, 12500 Hutchison Blvd\, Panama City Beach\, FL\, 32407
CATEGORIES:Events,Locations,Panama City Beach Library
ATTACH;FMTTYPE=image/jpeg:https://www.nwrls.com/wp-content/uploads/2023/08/PBC-Sail-into-School.jpg
END:VEVENT
END:VCALENDAR