BEGIN:VCALENDAR
VERSION:2.0
PRODID:-//Northwest Regional Library System - ECPv6.15.20//NONSGML v1.0//EN
CALSCALE:GREGORIAN
METHOD:PUBLISH
X-ORIGINAL-URL:https://www.nwrls.com
X-WR-CALDESC:Events for Northwest Regional Library System
REFRESH-INTERVAL;VALUE=DURATION:PT1H
X-Robots-Tag:noindex
X-PUBLISHED-TTL:PT1H
BEGIN:VTIMEZONE
TZID:America/Chicago
BEGIN:DAYLIGHT
TZOFFSETFROM:-0600
TZOFFSETTO:-0500
TZNAME:CDT
DTSTART:20240310T080000
END:DAYLIGHT
BEGIN:STANDARD
TZOFFSETFROM:-0500
TZOFFSETTO:-0600
TZNAME:CST
DTSTART:20241103T070000
END:STANDARD
BEGIN:DAYLIGHT
TZOFFSETFROM:-0600
TZOFFSETTO:-0500
TZNAME:CDT
DTSTART:20250309T080000
END:DAYLIGHT
BEGIN:STANDARD
TZOFFSETFROM:-0500
TZOFFSETTO:-0600
TZNAME:CST
DTSTART:20251102T070000
END:STANDARD
BEGIN:DAYLIGHT
TZOFFSETFROM:-0600
TZOFFSETTO:-0500
TZNAME:CDT
DTSTART:20260308T080000
END:DAYLIGHT
BEGIN:STANDARD
TZOFFSETFROM:-0500
TZOFFSETTO:-0600
TZNAME:CST
DTSTART:20261101T070000
END:STANDARD
END:VTIMEZONE
BEGIN:VEVENT
DTSTART;TZID=America/Chicago:20251201T080000
DTEND;TZID=America/Chicago:20251231T170000
DTSTAMP:20260419T164203
CREATED:20251117T162924Z
LAST-MODIFIED:20251117T162924Z
UID:20347-1764576000-1767200400@www.nwrls.com
SUMMARY:Elf on the Shelf
DESCRIPTION:Begins December 1st\nWhere is Jodie the Elf hiding in the library? Find the elf and get a prize! You can also make a Christmas ornament to display on the library tree!
URL:https://www.nwrls.com/event/elf-on-the-shelf/
LOCATION:Panama City Beach Public Library\, 12500 Hutchison Blvd\, Panama City Beach\, FL\, 32407
CATEGORIES:Events,Locations,Panama City Beach Library
ATTACH;FMTTYPE=image/jpeg:https://www.nwrls.com/wp-content/uploads/2025/11/Elf-on-the-Shelf.jpg
END:VEVENT
BEGIN:VEVENT
DTSTART;TZID=America/Chicago:20251202T100000
DTEND;TZID=America/Chicago:20251202T110000
DTSTAMP:20260419T164203
CREATED:20251117T152555Z
LAST-MODIFIED:20251117T152556Z
UID:20259-1764669600-1764673200@www.nwrls.com
SUMMARY:Book Babies (Ages 0 - 2)
DESCRIPTION:Bring your baby and enjoy a time of interactive stories\, songs\, and scarf play.  Class sizes are limited to 24 people each session; two class times of same class. Program geared for ages 0 – 2 with caregiver.\n\n10:00 – 10:20 a.m. Session 1\n10:30 – 10:50 a.m. Session 2
URL:https://www.nwrls.com/event/book-babies-ages-0-2-29/
LOCATION:Panama City Beach Public Library\, 12500 Hutchison Blvd\, Panama City Beach\, FL\, 32407
CATEGORIES:Events,Locations,Panama City Beach Library
ATTACH;FMTTYPE=image/jpeg:https://www.nwrls.com/wp-content/uploads/2024/08/Book-Babies.jpg
END:VEVENT
BEGIN:VEVENT
DTSTART;TZID=America/Chicago:20251202T120000
DTEND;TZID=America/Chicago:20251202T150000
DTSTAMP:20260419T164203
CREATED:20251117T161243Z
LAST-MODIFIED:20251117T161256Z
UID:20307-1764676800-1764687600@www.nwrls.com
SUMMARY:Mahjong Meetup (Adults)
DESCRIPTION:Learn\, play\, and meet other Mahjong players!
URL:https://www.nwrls.com/event/mahjong-meetup/
LOCATION:Panama City Beach Public Library\, 12500 Hutchison Blvd\, Panama City Beach\, FL\, 32407
CATEGORIES:Events,Locations,Panama City Beach Library
ATTACH;FMTTYPE=image/jpeg:https://www.nwrls.com/wp-content/uploads/2025/11/8-1.jpg
END:VEVENT
BEGIN:VEVENT
DTSTART;TZID=America/Chicago:20251203T103000
DTEND;TZID=America/Chicago:20251203T113000
DTSTAMP:20260419T164203
CREATED:20251117T162412Z
LAST-MODIFIED:20251117T162412Z
UID:20337-1764757800-1764761400@www.nwrls.com
SUMMARY:Beach Book Club
DESCRIPTION:December: The Wish by Nicholas Sparks \nMeet at the library! New members are always welcome. \n\nExtra copies will be at the Beach Book Club. Email Sharron at shill@nwrls.com to see if copies are available for you to borrow or to place you on the list for the next available copy! The Book Club copies to borrow are sponsored by the Bay County Public Library Foundation (https://bcplfoundation.org/(opens in a new tab)).
URL:https://www.nwrls.com/event/beach-book-club-12/
LOCATION:Panama City Beach Public Library\, 12500 Hutchison Blvd\, Panama City Beach\, FL\, 32407
CATEGORIES:Events,Locations,Panama City Beach Library
ATTACH;FMTTYPE=image/jpeg:https://www.nwrls.com/wp-content/uploads/2025/11/Dec-Beach-Book.jpg
END:VEVENT
BEGIN:VEVENT
DTSTART;TZID=America/Chicago:20251204T100000
DTEND;TZID=America/Chicago:20251204T110000
DTSTAMP:20260419T164203
CREATED:20251117T153526Z
LAST-MODIFIED:20251117T153526Z
UID:20281-1764842400-1764846000@www.nwrls.com
SUMMARY:Sail into School (Ages 3 - 5 / Class size limited)
DESCRIPTION:Join us for stories\, songs\, and felt play all to get ready for school! Class size is limited to 24 people.
URL:https://www.nwrls.com/event/sail-into-school-ages-3-5-class-size-limited-32/
LOCATION:Panama City Beach Public Library\, 12500 Hutchison Blvd\, Panama City Beach\, FL\, 32407
CATEGORIES:Events,Locations,Panama City Beach Library
ATTACH;FMTTYPE=image/jpeg:https://www.nwrls.com/wp-content/uploads/2023/08/PBC-Sail-into-School.jpg
END:VEVENT
BEGIN:VEVENT
DTSTART;TZID=America/Chicago:20251205T100000
DTEND;TZID=America/Chicago:20251205T120000
DTSTAMP:20260419T164203
CREATED:20251117T164038Z
LAST-MODIFIED:20251117T164800Z
UID:20362-1764928800-1764936000@www.nwrls.com
SUMMARY:Sea Needles
DESCRIPTION:Join us and make new friends as you work on your own sewing\, knitting or crochet project. Stop by our display case to see some of the beautiful\, finished projects.
URL:https://www.nwrls.com/event/sea-needles-50/
LOCATION:Panama City Beach Public Library\, 12500 Hutchison Blvd\, Panama City Beach\, FL\, 32407
CATEGORIES:Events,Locations,Panama City Beach Library
ATTACH;FMTTYPE=image/jpeg:https://www.nwrls.com/wp-content/uploads/2025/11/Sea-Needles.jpg
END:VEVENT
BEGIN:VEVENT
DTSTART;TZID=America/Chicago:20251209T100000
DTEND;TZID=America/Chicago:20251209T110000
DTSTAMP:20260419T164203
CREATED:20251117T152621Z
LAST-MODIFIED:20251117T152621Z
UID:20258-1765274400-1765278000@www.nwrls.com
SUMMARY:Book Babies (Ages 0 - 2)
DESCRIPTION:Bring your baby and enjoy a time of interactive stories\, songs\, and scarf play.  Class sizes are limited to 24 people each session; two class times of same class. Program geared for ages 0 – 2 with caregiver.\n\n10:00 – 10:20 a.m. Session 1\n10:30 – 10:50 a.m. Session 2
URL:https://www.nwrls.com/event/book-babies-ages-0-2-30/
LOCATION:Panama City Beach Public Library\, 12500 Hutchison Blvd\, Panama City Beach\, FL\, 32407
CATEGORIES:Events,Locations,Panama City Beach Library
ATTACH;FMTTYPE=image/jpeg:https://www.nwrls.com/wp-content/uploads/2024/08/Book-Babies.jpg
END:VEVENT
BEGIN:VEVENT
DTSTART;TZID=America/Chicago:20251209T120000
DTEND;TZID=America/Chicago:20251209T150000
DTSTAMP:20260419T164203
CREATED:20251117T161506Z
LAST-MODIFIED:20251117T161506Z
UID:20317-1765281600-1765292400@www.nwrls.com
SUMMARY:Mahjong Meetup (Adults)
DESCRIPTION:Learn\, play\, and meet other Mahjong players!
URL:https://www.nwrls.com/event/mahjong-meetup-adults/
LOCATION:Panama City Beach Public Library\, 12500 Hutchison Blvd\, Panama City Beach\, FL\, 32407
CATEGORIES:Events,Locations,Panama City Beach Library
ATTACH;FMTTYPE=image/jpeg:https://www.nwrls.com/wp-content/uploads/2025/11/8-1.jpg
END:VEVENT
BEGIN:VEVENT
DTSTART;TZID=America/Chicago:20251209T153000
DTEND;TZID=America/Chicago:20251209T163000
DTSTAMP:20260419T164203
CREATED:20251117T160825Z
LAST-MODIFIED:20251209T154926Z
UID:20299-1765294200-1765297800@www.nwrls.com
SUMMARY:LEGO Club (Ages 7 - 11\, Registration Required)
DESCRIPTION:Program geared for 7 to 11 years old. Join us every month for a different theme to create with LEGOs. We will display completed LEGO creations in the library. Registration required due to limited class size capped at 18. Registrations begin on the 1st of each month by visiting the library or calling 850-233-5055.
URL:https://www.nwrls.com/event/lego-club-ages-7-11-registration-required-9/
LOCATION:Panama City Beach Public Library\, 12500 Hutchison Blvd\, Panama City Beach\, FL\, 32407
CATEGORIES:Events,Locations,Panama City Beach Library
ATTACH;FMTTYPE=image/jpeg:https://www.nwrls.com/wp-content/uploads/2024/08/Lego-Club.jpg
END:VEVENT
BEGIN:VEVENT
DTSTART;TZID=America/Chicago:20251211T100000
DTEND;TZID=America/Chicago:20251211T110000
DTSTAMP:20260419T164203
CREATED:20251117T153550Z
LAST-MODIFIED:20251117T153550Z
UID:20280-1765447200-1765450800@www.nwrls.com
SUMMARY:Sail into School (Ages 3 - 5 / Class size limited)
DESCRIPTION:Join us for stories\, songs\, and felt play all to get ready for school! Class size is limited to 24 people.
URL:https://www.nwrls.com/event/sail-into-school-ages-3-5-class-size-limited-33/
LOCATION:Panama City Beach Public Library\, 12500 Hutchison Blvd\, Panama City Beach\, FL\, 32407
CATEGORIES:Events,Locations,Panama City Beach Library
ATTACH;FMTTYPE=image/jpeg:https://www.nwrls.com/wp-content/uploads/2023/08/PBC-Sail-into-School.jpg
END:VEVENT
BEGIN:VEVENT
DTSTART;TZID=America/Chicago:20251211T100000
DTEND;TZID=America/Chicago:20251211T110000
DTSTAMP:20260419T164203
CREATED:20251117T155258Z
LAST-MODIFIED:20251117T155311Z
UID:20294-1765447200-1765450800@www.nwrls.com
SUMMARY:Move to the Music! (Ages 0 - 5 with caregiver)
DESCRIPTION:Join us for music\, movement\, and literature presented by Mrs. Rita Whitaker-Haun!
URL:https://www.nwrls.com/event/move-to-the-music-ages-0-5-with-caregiver/
LOCATION:Panama City Beach Public Library\, 12500 Hutchison Blvd\, Panama City Beach\, FL\, 32407
CATEGORIES:Events,Locations,Panama City Beach Library
ATTACH;FMTTYPE=image/jpeg:https://www.nwrls.com/wp-content/uploads/2025/11/Move-to-Music.jpg
END:VEVENT
BEGIN:VEVENT
DTSTART;TZID=America/Chicago:20251212T100000
DTEND;TZID=America/Chicago:20251212T120000
DTSTAMP:20260419T164203
CREATED:20251117T164101Z
LAST-MODIFIED:20251117T164834Z
UID:20361-1765533600-1765540800@www.nwrls.com
SUMMARY:Sea Needles
DESCRIPTION:Join us and make new friends as you work on your own sewing\, knitting or crochet project. Stop by our display case to see some of the beautiful\, finished projects.
URL:https://www.nwrls.com/event/sea-needles-51/
LOCATION:Panama City Beach Public Library\, 12500 Hutchison Blvd\, Panama City Beach\, FL\, 32407
CATEGORIES:Events,Locations,Panama City Beach Library
ATTACH;FMTTYPE=image/jpeg:https://www.nwrls.com/wp-content/uploads/2025/11/Sea-Needles.jpg
END:VEVENT
BEGIN:VEVENT
DTSTART;TZID=America/Chicago:20251213T110000
DTEND;TZID=America/Chicago:20251213T120000
DTSTAMP:20260419T164203
CREATED:20251117T161111Z
LAST-MODIFIED:20251117T161131Z
UID:20303-1765623600-1765627200@www.nwrls.com
SUMMARY:Beach Kids Book Club (Ages 6 - 11)
DESCRIPTION:Registration required. Call the library at 850-233-5055 for more information! \nBook:  Ferris by Kate DiCamillo
URL:https://www.nwrls.com/event/beach-kids-book-club-ages-6-11/
LOCATION:Panama City Beach Public Library\, 12500 Hutchison Blvd\, Panama City Beach\, FL\, 32407
CATEGORIES:Events,Locations,Panama City Beach Library
ATTACH;FMTTYPE=image/jpeg:https://www.nwrls.com/wp-content/uploads/2025/11/Dec-Beach-Kids-Book.jpg
END:VEVENT
BEGIN:VEVENT
DTSTART;TZID=America/Chicago:20251216T120000
DTEND;TZID=America/Chicago:20251216T150000
DTSTAMP:20260419T164203
CREATED:20251117T161528Z
LAST-MODIFIED:20251117T161528Z
UID:20316-1765886400-1765897200@www.nwrls.com
SUMMARY:Mahjong Meetup (Adults)
DESCRIPTION:Learn\, play\, and meet other Mahjong players!
URL:https://www.nwrls.com/event/mahjong-meetup-adults-2/
LOCATION:Panama City Beach Public Library\, 12500 Hutchison Blvd\, Panama City Beach\, FL\, 32407
CATEGORIES:Events,Locations,Panama City Beach Library
ATTACH;FMTTYPE=image/jpeg:https://www.nwrls.com/wp-content/uploads/2025/11/8-1.jpg
END:VEVENT
BEGIN:VEVENT
DTSTART;TZID=America/Chicago:20251218T100000
DTEND;TZID=America/Chicago:20251218T110000
DTSTAMP:20260419T164203
CREATED:20251117T153614Z
LAST-MODIFIED:20251204T191629Z
UID:20279-1766052000-1766055600@www.nwrls.com
SUMMARY:Storytime with Santa
DESCRIPTION:Ring in the holiday season by attending storytime with Santa! Hear seasonal reads\, festive music\, and bring your holiday cheer with your littles! \nThis program is geared for ages 0 – 5 with caregiver. \nClass size is limited to 24 people.
URL:https://www.nwrls.com/event/sail-into-school-ages-3-5-class-size-limited-34/
LOCATION:Panama City Beach Public Library\, 12500 Hutchison Blvd\, Panama City Beach\, FL\, 32407
CATEGORIES:Events,Locations,Panama City Beach Library
ATTACH;FMTTYPE=image/jpeg:https://www.nwrls.com/wp-content/uploads/2025/12/PCB-Winter.jpg
END:VEVENT
BEGIN:VEVENT
DTSTART;TZID=America/Chicago:20251219T100000
DTEND;TZID=America/Chicago:20251219T120000
DTSTAMP:20260419T164203
CREATED:20251117T164148Z
LAST-MODIFIED:20251117T164148Z
UID:20360-1766138400-1766145600@www.nwrls.com
SUMMARY:Sea Needles
DESCRIPTION:Join us and make new friends as you work on your own sewing\, knitting or crochet project. Stop by our display case to see some of the beautiful finished projects.
URL:https://www.nwrls.com/event/sea-needles-52/
LOCATION:Panama City Beach Public Library\, 12500 Hutchison Blvd\, Panama City Beach\, FL\, 32407
CATEGORIES:Events,Locations,Panama City Beach Library
ATTACH;FMTTYPE=image/jpeg:https://www.nwrls.com/wp-content/uploads/2025/11/Sea-Needles.jpg
END:VEVENT
BEGIN:VEVENT
DTSTART;TZID=America/Chicago:20251223T120000
DTEND;TZID=America/Chicago:20251223T150000
DTSTAMP:20260419T164203
CREATED:20251117T161551Z
LAST-MODIFIED:20251117T161623Z
UID:20315-1766491200-1766502000@www.nwrls.com
SUMMARY:Mahjong Meetup (Adults)
DESCRIPTION:Learn\, play\, and meet other Mahjong players!
URL:https://www.nwrls.com/event/mahjong-meetup-adults-3/
LOCATION:Panama City Beach Public Library\, 12500 Hutchison Blvd\, Panama City Beach\, FL\, 32407
CATEGORIES:Events,Locations,Panama City Beach Library
ATTACH;FMTTYPE=image/jpeg:https://www.nwrls.com/wp-content/uploads/2025/11/8-1.jpg
END:VEVENT
BEGIN:VEVENT
DTSTART;VALUE=DATE:20251224
DTEND;VALUE=DATE:20251226
DTSTAMP:20260419T164203
CREATED:20251205T210858Z
LAST-MODIFIED:20251205T210858Z
UID:20506-1766534400-1766707199@www.nwrls.com
SUMMARY:Library Closed\, Christmas Holiday
DESCRIPTION:All libraries in the Northwest Regional Library System will be closed on Wednesday\, December 24th\, and Thursday\, December 25th for the Christmas holidays. \n*Libraries will also close by 5 p.m. on Tuesday\, December 23rd. (if usually open)
URL:https://www.nwrls.com/event/library-closed-christmas-holiday/
LOCATION:FLORIDA
CATEGORIES:Bay County Public Library,Charles Whitehead Public Library,Corinne Costin Gibson Memorial Public Library,Events,Harrell Memorial Public Library,Jimmy Weaver Memorial Library,Locations,Panama City Beach Library,Parker Public Library
ATTACH;FMTTYPE=image/jpeg:https://www.nwrls.com/wp-content/uploads/2025/12/Christmas-closure.jpg
END:VEVENT
BEGIN:VEVENT
DTSTART;TZID=America/Chicago:20251230T120000
DTEND;TZID=America/Chicago:20251230T150000
DTSTAMP:20260419T164203
CREATED:20251117T161646Z
LAST-MODIFIED:20251117T161646Z
UID:20314-1767096000-1767106800@www.nwrls.com
SUMMARY:Mahjong Meetup (Adults)
DESCRIPTION:Learn\, play\, and meet other Mahjong players!
URL:https://www.nwrls.com/event/mahjong-meetup-adults-4/
LOCATION:Panama City Beach Public Library\, 12500 Hutchison Blvd\, Panama City Beach\, FL\, 32407
CATEGORIES:Events,Locations,Panama City Beach Library
ATTACH;FMTTYPE=image/jpeg:https://www.nwrls.com/wp-content/uploads/2025/11/8-1.jpg
END:VEVENT
BEGIN:VEVENT
DTSTART;TZID=America/Chicago:20251230T140000
DTEND;TZID=America/Chicago:20251230T150000
DTSTAMP:20260419T164203
CREATED:20251204T191215Z
LAST-MODIFIED:20251204T191215Z
UID:20467-1767103200-1767106800@www.nwrls.com
SUMMARY:Chapter Chat Book Club
DESCRIPTION:Jessica Foster from WJHG News Channel 7 will lead Chapter Chat Book Club. Come join us to talk about this month’s book and just fun conversation in general! Open to the public to join\, no registration required. We will be meeting in the Meeting Room with light refreshments. \nDecember’s Book: The Holiday Cottage by Sarah Morgan \nChapter Chat meets at the Panama City Beach Public Library on the last Tuesday of the month at 2 p.m. Call the library at (850) 233-5055 to see if an extra copy of the monthly title is available for you to borrow or to place you on the list for the next available copy!\nThe extra Chapter Chat Books are sponsored by the Bay County Public Library Foundation (https://bcplfoundation.org/)
URL:https://www.nwrls.com/event/chapter-chat-book-club-11/
LOCATION:Panama City Beach Public Library\, 12500 Hutchison Blvd\, Panama City Beach\, FL\, 32407
CATEGORIES:Events,Locations,Panama City Beach Library
ATTACH;FMTTYPE=image/jpeg:https://www.nwrls.com/wp-content/uploads/2025/12/Chapter-Chat-5.jpg
END:VEVENT
END:VCALENDAR