BEGIN:VCALENDAR
VERSION:2.0
PRODID:-//Northwest Regional Library System - ECPv6.15.20//NONSGML v1.0//EN
CALSCALE:GREGORIAN
METHOD:PUBLISH
X-ORIGINAL-URL:https://www.nwrls.com
X-WR-CALDESC:Events for Northwest Regional Library System
REFRESH-INTERVAL;VALUE=DURATION:PT1H
X-Robots-Tag:noindex
X-PUBLISHED-TTL:PT1H
BEGIN:VTIMEZONE
TZID:America/Chicago
BEGIN:DAYLIGHT
TZOFFSETFROM:-0600
TZOFFSETTO:-0500
TZNAME:CDT
DTSTART:20240310T080000
END:DAYLIGHT
BEGIN:STANDARD
TZOFFSETFROM:-0500
TZOFFSETTO:-0600
TZNAME:CST
DTSTART:20241103T070000
END:STANDARD
BEGIN:DAYLIGHT
TZOFFSETFROM:-0600
TZOFFSETTO:-0500
TZNAME:CDT
DTSTART:20250309T080000
END:DAYLIGHT
BEGIN:STANDARD
TZOFFSETFROM:-0500
TZOFFSETTO:-0600
TZNAME:CST
DTSTART:20251102T070000
END:STANDARD
BEGIN:DAYLIGHT
TZOFFSETFROM:-0600
TZOFFSETTO:-0500
TZNAME:CDT
DTSTART:20260308T080000
END:DAYLIGHT
BEGIN:STANDARD
TZOFFSETFROM:-0500
TZOFFSETTO:-0600
TZNAME:CST
DTSTART:20261101T070000
END:STANDARD
END:VTIMEZONE
BEGIN:VEVENT
DTSTART;TZID=America/Chicago:20250604T103000
DTEND;TZID=America/Chicago:20250604T113000
DTSTAMP:20260420T030623
CREATED:20250528T212105Z
LAST-MODIFIED:20250528T212105Z
UID:18386-1749033000-1749036600@www.nwrls.com
SUMMARY:Beach Book Club
DESCRIPTION:June: Becoming Mrs. Lewis by Patti Callahan Henry \nMeet at the library! New members are always welcome. \n\nExtra copies will be at the Beach Book Club. Email Sharron at shill@nwrls.com to see if copies are available for you to borrow or to place you on the list for the next available copy! The Book Club copies to borrow are sponsored by the Bay County Public Library Foundation (https://bcplfoundation.org/).
URL:https://www.nwrls.com/event/beach-book-club-4/
LOCATION:Panama City Beach Public Library\, 12500 Hutchison Blvd\, Panama City Beach\, FL\, 32407
CATEGORIES:Events,Locations,Panama City Beach Library
ATTACH;FMTTYPE=image/png:https://www.nwrls.com/wp-content/uploads/2025/05/BBC-becoming-mrs.-lewis.png
END:VEVENT
BEGIN:VEVENT
DTSTART;TZID=America/Chicago:20250606T100000
DTEND;TZID=America/Chicago:20250606T120000
DTSTAMP:20260420T030623
CREATED:20250528T211205Z
LAST-MODIFIED:20250528T211205Z
UID:18376-1749204000-1749211200@www.nwrls.com
SUMMARY:Sea Needles
DESCRIPTION:Join us and make new friends as you work on your own sewing\, knitting or crochet project. Stop by our display case to see some of the beautiful finished projects.
URL:https://www.nwrls.com/event/sea-needles-25/
LOCATION:Panama City Beach Public Library\, 12500 Hutchison Blvd\, Panama City Beach\, FL\, 32407
CATEGORIES:Events,Locations,Panama City Beach Library
ATTACH;FMTTYPE=image/jpeg:https://www.nwrls.com/wp-content/uploads/2023/08/Sea-Needles-1.jpg
END:VEVENT
BEGIN:VEVENT
DTSTART;TZID=America/Chicago:20250611T100000
DTEND;TZID=America/Chicago:20250611T110000
DTSTAMP:20260420T030623
CREATED:20250528T211448Z
LAST-MODIFIED:20250528T211448Z
UID:18378-1749636000-1749639600@www.nwrls.com
SUMMARY:Color Our World with Art:  Balloon Art with Jen
DESCRIPTION:Jenn\, balloon artiste\, will make balloon animals\, hats\, and bracelets. We will also have art supplies available to make paper sculptures\, thumbprint art\, and popsicle sticks for our collaborative art project.
URL:https://www.nwrls.com/event/color-our-world-with-art-balloon-art-with-jen/
LOCATION:Panama City Beach Public Library\, 12500 Hutchison Blvd\, Panama City Beach\, FL\, 32407
CATEGORIES:Events,Locations,Panama City Beach Library
ATTACH;FMTTYPE=image/png:https://www.nwrls.com/wp-content/uploads/2025/05/Color-Our-World-Facebook-Event-Banner-2.png
END:VEVENT
BEGIN:VEVENT
DTSTART;TZID=America/Chicago:20250613T100000
DTEND;TZID=America/Chicago:20250613T120000
DTSTAMP:20260420T030623
CREATED:20250529T185419Z
LAST-MODIFIED:20250529T185419Z
UID:18749-1749808800-1749816000@www.nwrls.com
SUMMARY:Sea Needles
DESCRIPTION:Join us and make new friends as you work on your own sewing\, knitting or crochet project. Stop by our display case to see some of the beautiful finished projects.
URL:https://www.nwrls.com/event/sea-needles-26/
LOCATION:Panama City Beach Public Library\, 12500 Hutchison Blvd\, Panama City Beach\, FL\, 32407
CATEGORIES:Events,Locations,Panama City Beach Library
ATTACH;FMTTYPE=image/jpeg:https://www.nwrls.com/wp-content/uploads/2023/08/Sea-Needles-1.jpg
END:VEVENT
BEGIN:VEVENT
DTSTART;TZID=America/Chicago:20250618T100000
DTEND;TZID=America/Chicago:20250618T110000
DTSTAMP:20260420T030623
CREATED:20250528T211644Z
LAST-MODIFIED:20250528T211644Z
UID:18380-1750240800-1750244400@www.nwrls.com
SUMMARY:Color Our World with Safety:  Smokey the Bear
DESCRIPTION:Join us as our local Park Rangers read a story and talk about fire safety. You will also get to see some Park Ranger trucks up close. Have your picture taken with Smokey the Bear\, play some fun games and create your own bear craft.
URL:https://www.nwrls.com/event/color-our-world-with-safety-smokey-the-bear/
LOCATION:Panama City Beach Public Library\, 12500 Hutchison Blvd\, Panama City Beach\, FL\, 32407
CATEGORIES:Events,Locations,Panama City Beach Library
ATTACH;FMTTYPE=image/png:https://www.nwrls.com/wp-content/uploads/2025/05/PCB-Color-Our-World-Facebook-Event-Covers-Facebook-Post.png
END:VEVENT
BEGIN:VEVENT
DTSTART;TZID=America/Chicago:20250620T100000
DTEND;TZID=America/Chicago:20250620T120000
DTSTAMP:20260420T030623
CREATED:20250529T185502Z
LAST-MODIFIED:20250529T185502Z
UID:18748-1750413600-1750420800@www.nwrls.com
SUMMARY:Sea Needles
DESCRIPTION:Join us and make new friends as you work on your own sewing\, knitting or crochet project. Stop by our display case to see some of the beautiful finished projects.
URL:https://www.nwrls.com/event/sea-needles-27/
LOCATION:Panama City Beach Public Library\, 12500 Hutchison Blvd\, Panama City Beach\, FL\, 32407
CATEGORIES:Events,Locations,Panama City Beach Library
ATTACH;FMTTYPE=image/jpeg:https://www.nwrls.com/wp-content/uploads/2023/08/Sea-Needles-1.jpg
END:VEVENT
BEGIN:VEVENT
DTSTART;TZID=America/Chicago:20250624T140000
DTEND;TZID=America/Chicago:20250624T150000
DTSTAMP:20260420T030623
CREATED:20250528T213723Z
LAST-MODIFIED:20250528T213723Z
UID:18410-1750773600-1750777200@www.nwrls.com
SUMMARY:Chapter Chat Book Club
DESCRIPTION:Jessica Foster from WJHG News Channel 7 will lead Chapter Chat Book Club. Come join us to talk about this month’s book and just fun conversation in general! Open to the public to join\, no registration required. We will be meeting in the Meeting Room with light refreshments.\n\n\nJune’s Book: A Happier Life by Kristy Woodson Harvey\n\n\nChapter Chat meets at the Panama City Beach Public Library on the last Tuesday of the month at 2 p.m. Call the library at (850) 233-5055 to see if an extra copy of the monthly title is available for you to borrow or to place you on the list for the next available copy!\n\nThe extra Chapter Chat Books are sponsored by the Bay County Public Library Foundation (https://bcplfoundation.org/)
URL:https://www.nwrls.com/event/chapter-chat-book-club-6/
LOCATION:Panama City Beach Public Library\, 12500 Hutchison Blvd\, Panama City Beach\, FL\, 32407
CATEGORIES:Events,Locations,Panama City Beach Library
ATTACH;FMTTYPE=image/png:https://www.nwrls.com/wp-content/uploads/2025/05/Chapter-Chat-1.png
END:VEVENT
BEGIN:VEVENT
DTSTART;TZID=America/Chicago:20250625T100000
DTEND;TZID=America/Chicago:20250625T110000
DTSTAMP:20260420T030623
CREATED:20250528T211843Z
LAST-MODIFIED:20250528T211843Z
UID:18383-1750845600-1750849200@www.nwrls.com
SUMMARY:Color Our World with Music:  The Beach Ukulele Society Concert
DESCRIPTION:The “Beach Ukulele Music Society” (BUMS) – Join us for an hour of lively music and hilarious jokes.
URL:https://www.nwrls.com/event/color-our-world-with-music-the-beach-ukulele-society-concert/
LOCATION:Panama City Beach Public Library\, 12500 Hutchison Blvd\, Panama City Beach\, FL\, 32407
CATEGORIES:Events,Locations,Panama City Beach Library
ATTACH;FMTTYPE=image/png:https://www.nwrls.com/wp-content/uploads/2025/05/PCB-Color-Our-World-Facebook-Event-Covers-Facebook-Post-1.png
END:VEVENT
BEGIN:VEVENT
DTSTART;TZID=America/Chicago:20250627T100000
DTEND;TZID=America/Chicago:20250627T120000
DTSTAMP:20260420T030623
CREATED:20250529T185559Z
LAST-MODIFIED:20250529T185559Z
UID:18747-1751018400-1751025600@www.nwrls.com
SUMMARY:Sea Needles
DESCRIPTION:Join us and make new friends as you work on your own sewing\, knitting or crochet project. Stop by our display case to see some of the beautiful finished projects.
URL:https://www.nwrls.com/event/sea-needles-28/
LOCATION:Panama City Beach Public Library\, 12500 Hutchison Blvd\, Panama City Beach\, FL\, 32407
CATEGORIES:Events,Locations,Panama City Beach Library
ATTACH;FMTTYPE=image/jpeg:https://www.nwrls.com/wp-content/uploads/2023/08/Sea-Needles-1.jpg
END:VEVENT
BEGIN:VEVENT
DTSTART;TZID=America/Chicago:20250630T090000
DTEND;TZID=America/Chicago:20250703T170000
DTSTAMP:20260420T030623
CREATED:20250528T213120Z
LAST-MODIFIED:20250528T213120Z
UID:18401-1751274000-1751562000@www.nwrls.com
SUMMARY:Color Our World with Art: Create Chalk Art Around the Library
DESCRIPTION:Come out and create colorful chalk art on the sidewalk around the library. There will be chalk supplies available at the front desk.
URL:https://www.nwrls.com/event/color-our-world-with-art-create-chalk-art-around-the-library/
LOCATION:Panama City Beach Public Library\, 12500 Hutchison Blvd\, Panama City Beach\, FL\, 32407
CATEGORIES:Events,Locations,Panama City Beach Library
ATTACH;FMTTYPE=image/png:https://www.nwrls.com/wp-content/uploads/2025/05/PCB-Color-Our-World-Facebook-Event-Covers-Facebook-Post-3.png
END:VEVENT
END:VCALENDAR