BEGIN:VCALENDAR
VERSION:2.0
PRODID:-//Northwest Regional Library System - ECPv6.15.20//NONSGML v1.0//EN
CALSCALE:GREGORIAN
METHOD:PUBLISH
X-WR-CALNAME:Northwest Regional Library System
X-ORIGINAL-URL:https://www.nwrls.com
X-WR-CALDESC:Events for Northwest Regional Library System
REFRESH-INTERVAL;VALUE=DURATION:PT1H
X-Robots-Tag:noindex
X-PUBLISHED-TTL:PT1H
BEGIN:VTIMEZONE
TZID:America/New_York
BEGIN:DAYLIGHT
TZOFFSETFROM:-0500
TZOFFSETTO:-0400
TZNAME:EDT
DTSTART:20250309T070000
END:DAYLIGHT
BEGIN:STANDARD
TZOFFSETFROM:-0400
TZOFFSETTO:-0500
TZNAME:EST
DTSTART:20251102T060000
END:STANDARD
BEGIN:DAYLIGHT
TZOFFSETFROM:-0500
TZOFFSETTO:-0400
TZNAME:EDT
DTSTART:20260308T070000
END:DAYLIGHT
BEGIN:STANDARD
TZOFFSETFROM:-0400
TZOFFSETTO:-0500
TZNAME:EST
DTSTART:20261101T060000
END:STANDARD
BEGIN:DAYLIGHT
TZOFFSETFROM:-0500
TZOFFSETTO:-0400
TZNAME:EDT
DTSTART:20270314T070000
END:DAYLIGHT
BEGIN:STANDARD
TZOFFSETFROM:-0400
TZOFFSETTO:-0500
TZNAME:EST
DTSTART:20271107T060000
END:STANDARD
END:VTIMEZONE
BEGIN:VEVENT
DTSTART;TZID=America/New_York:20260303T090000
DTEND;TZID=America/New_York:20260331T170000
DTSTAMP:20260419T115303
CREATED:20260225T213757Z
LAST-MODIFIED:20260225T213758Z
UID:21430-1772528400-1774976400@www.nwrls.com
SUMMARY:Spring Scavenger Hunt (Children's)
DESCRIPTION:March 3 – March 31To celebrate Spring’s arrival\, participate in a fun scavenger hunt around the library. Complete the scavenger hunt for a small prize.\nRecommended for ages 4 – 12.
URL:https://www.nwrls.com/event/spring-scavenger-hunt-childrens/
LOCATION:Jimmy Weaver Memorial Library\, 22149 NE State Road 20\, Hosford\, FL\, 32334\, United States
CATEGORIES:Events,Jimmy Weaver Memorial Library,Locations
ATTACH;FMTTYPE=image/jpeg:https://www.nwrls.com/wp-content/uploads/2026/02/Spring-scavenger.jpg
END:VEVENT
BEGIN:VEVENT
DTSTART;TZID=America/New_York:20260307T100000
DTEND;TZID=America/New_York:20260307T110000
DTSTAMP:20260419T115303
CREATED:20260211T204033Z
LAST-MODIFIED:20260211T204033Z
UID:20852-1772877600-1772881200@www.nwrls.com
SUMMARY:Saturday Storytime (Ages 4 - 10 recommended)
DESCRIPTION:Join us for a fun filled story time along with craft and activity. Recommended ages 4-10\, but all are welcome. \nToday: Flowers
URL:https://www.nwrls.com/event/saturday-storytime-ages-4-10-recommended-12/
LOCATION:Jimmy Weaver Memorial Library\, 22149 NE State Road 20\, Hosford\, FL\, 32334\, United States
CATEGORIES:Events,Jimmy Weaver Memorial Library,Locations
ATTACH;FMTTYPE=image/png:https://www.nwrls.com/wp-content/uploads/2025/08/Saturday-Storytime.png
END:VEVENT
END:VCALENDAR