BEGIN:VCALENDAR
VERSION:2.0
PRODID:-//Northwest Regional Library System - ECPv6.15.20//NONSGML v1.0//EN
CALSCALE:GREGORIAN
METHOD:PUBLISH
X-ORIGINAL-URL:https://www.nwrls.com
X-WR-CALDESC:Events for Northwest Regional Library System
REFRESH-INTERVAL;VALUE=DURATION:PT1H
X-Robots-Tag:noindex
X-PUBLISHED-TTL:PT1H
BEGIN:VTIMEZONE
TZID:America/New_York
BEGIN:DAYLIGHT
TZOFFSETFROM:-0500
TZOFFSETTO:-0400
TZNAME:EDT
DTSTART:20250309T070000
END:DAYLIGHT
BEGIN:STANDARD
TZOFFSETFROM:-0400
TZOFFSETTO:-0500
TZNAME:EST
DTSTART:20251102T060000
END:STANDARD
BEGIN:DAYLIGHT
TZOFFSETFROM:-0500
TZOFFSETTO:-0400
TZNAME:EDT
DTSTART:20260308T070000
END:DAYLIGHT
BEGIN:STANDARD
TZOFFSETFROM:-0400
TZOFFSETTO:-0500
TZNAME:EST
DTSTART:20261101T060000
END:STANDARD
BEGIN:DAYLIGHT
TZOFFSETFROM:-0500
TZOFFSETTO:-0400
TZNAME:EDT
DTSTART:20270314T070000
END:DAYLIGHT
BEGIN:STANDARD
TZOFFSETFROM:-0400
TZOFFSETTO:-0500
TZNAME:EST
DTSTART:20271107T060000
END:STANDARD
END:VTIMEZONE
BEGIN:VEVENT
DTSTART;TZID=America/New_York:20260302T143000
DTEND;TZID=America/New_York:20260302T170000
DTSTAMP:20260419T121115
CREATED:20260220T171530Z
LAST-MODIFIED:20260220T171532Z
UID:21284-1772461800-1772470800@www.nwrls.com
SUMMARY:Chess Club
DESCRIPTION:All ages and levels of experience are welcome: adults\, teens and kids! \nChess board and pieces provided. You may also bring your own. \n 
URL:https://www.nwrls.com/event/chess-club-74/
LOCATION:Corinne Costin Gibson Memorial Public Library\, 110 Library Drive\, Port St. Joe\, FL\, 32456\, United States
CATEGORIES:Corinne Costin Gibson Memorial Public Library,Events,Locations
ATTACH;FMTTYPE=image/jpeg:https://www.nwrls.com/wp-content/uploads/2025/11/Chess-Club.jpg
END:VEVENT
BEGIN:VEVENT
DTSTART;TZID=America/New_York:20260303T100000
DTEND;TZID=America/New_York:20260303T140000
DTSTAMP:20260419T121115
CREATED:20251114T204057Z
LAST-MODIFIED:20260220T173034Z
UID:20147-1772532000-1772546400@www.nwrls.com
SUMMARY:Seaside Stitchers
DESCRIPTION:We offer a warm\, seaside welcome to anyone who is interested in needle arts. Bring your latest project and join us as we knit together a more vibrant community!
URL:https://www.nwrls.com/event/seaside-stitchers-10/
LOCATION:Corinne Costin Gibson Memorial Public Library\, 110 Library Drive\, Port St. Joe\, FL\, 32456\, United States
CATEGORIES:Corinne Costin Gibson Memorial Public Library,Events,Locations
ATTACH;FMTTYPE=image/png:https://www.nwrls.com/wp-content/uploads/2025/08/PSJ-images-fall-4.png
END:VEVENT
BEGIN:VEVENT
DTSTART;TZID=America/New_York:20260303T140000
DTEND;TZID=America/New_York:20260303T150000
DTSTAMP:20260419T121115
CREATED:20260220T140835Z
LAST-MODIFIED:20260220T140838Z
UID:21231-1772546400-1772550000@www.nwrls.com
SUMMARY:Introduction to Watercolors with Artist Elizabeth Russano (Adults)
DESCRIPTION:Learn basic watercolor techniques and enjoy the wonder of this fun\, expressive art genre. Turn basic shapes into real-life forms with finished paintings to take home and be proud of!
URL:https://www.nwrls.com/event/introduction-to-watercolors-with-artist-elizabeth-russano-adults/
LOCATION:Corinne Costin Gibson Memorial Public Library\, 110 Library Drive\, Port St. Joe\, FL\, 32456\, United States
CATEGORIES:Corinne Costin Gibson Memorial Public Library,Events,Locations
ATTACH;FMTTYPE=image/jpeg:https://www.nwrls.com/wp-content/uploads/2026/02/watercolor.jpg
END:VEVENT
BEGIN:VEVENT
DTSTART;TZID=America/New_York:20260305T110000
DTEND;TZID=America/New_York:20260305T120000
DTSTAMP:20260419T121115
CREATED:20260213T200736Z
LAST-MODIFIED:20260213T200736Z
UID:21209-1772708400-1772712000@www.nwrls.com
SUMMARY:Preschool Storytime
DESCRIPTION:Stories\, songs\, movement and music to instill a love a reading\, followed by time to play with friends in our well-equipped classroom! Program geared for 6 months – 5 years of age with caregiver.  Stay after for free play time!
URL:https://www.nwrls.com/event/preschool-storytime-45/
LOCATION:Corinne Costin Gibson Memorial Public Library\, 110 Library Drive\, Port St. Joe\, FL\, 32456\, United States
CATEGORIES:Corinne Costin Gibson Memorial Public Library,Events,Locations
ATTACH;FMTTYPE=image/png:https://www.nwrls.com/wp-content/uploads/2025/08/PSJ-Preschool-Storytime.png
END:VEVENT
BEGIN:VEVENT
DTSTART;TZID=America/New_York:20260305T153000
DTEND;TZID=America/New_York:20260305T163000
DTSTAMP:20260419T121115
CREATED:20260220T141838Z
LAST-MODIFIED:20260220T141838Z
UID:21249-1772724600-1772728200@www.nwrls.com
SUMMARY:LEGO Club
DESCRIPTION:STEM building challenges followed by time to free build with friends using our collection of over 15\,000 Legos!  Program geared for school aged children.
URL:https://www.nwrls.com/event/lego-club-42/
LOCATION:Corinne Costin Gibson Memorial Public Library\, 110 Library Drive\, Port St. Joe\, FL\, 32456\, United States
CATEGORIES:Corinne Costin Gibson Memorial Public Library,Events,Locations
ATTACH;FMTTYPE=image/jpeg:https://www.nwrls.com/wp-content/uploads/2024/08/Lego-challenges-PSJ-1.jpg
END:VEVENT
BEGIN:VEVENT
DTSTART;TZID=America/New_York:20260309T103000
DTEND;TZID=America/New_York:20260309T113000
DTSTAMP:20260419T121115
CREATED:20260220T174740Z
LAST-MODIFIED:20260303T134848Z
UID:21339-1773052200-1773055800@www.nwrls.com
SUMMARY:Strum Your Way to Fun! Ukulele Practice (Adult)
DESCRIPTION:Learn chords and strumming patterns and have fun playing together. All levels welcome; ukuleles available for check-out. (no practices on holidays)
URL:https://www.nwrls.com/event/strum-your-way-to-fun-ukulele-practice-adult-6/
LOCATION:Corinne Costin Gibson Memorial Public Library\, 110 Library Drive\, Port St. Joe\, FL\, 32456\, United States
CATEGORIES:Corinne Costin Gibson Memorial Public Library,Events,Locations
ATTACH;FMTTYPE=image/jpeg:https://www.nwrls.com/wp-content/uploads/2025/11/6-1.jpg
END:VEVENT
BEGIN:VEVENT
DTSTART;TZID=America/New_York:20260309T143000
DTEND;TZID=America/New_York:20260309T163000
DTSTAMP:20260419T121115
CREATED:20260220T171645Z
LAST-MODIFIED:20260220T171645Z
UID:21283-1773066600-1773073800@www.nwrls.com
SUMMARY:Chess Club
DESCRIPTION:All ages and levels of experience are welcome: adults\, teens and kids! \nChess board and pieces provided. You may also bring your own. \n 
URL:https://www.nwrls.com/event/chess-club-75/
LOCATION:Corinne Costin Gibson Memorial Public Library\, 110 Library Drive\, Port St. Joe\, FL\, 32456\, United States
CATEGORIES:Corinne Costin Gibson Memorial Public Library,Events,Locations
ATTACH;FMTTYPE=image/jpeg:https://www.nwrls.com/wp-content/uploads/2025/11/Chess-Club.jpg
END:VEVENT
BEGIN:VEVENT
DTSTART;TZID=America/New_York:20260310T100000
DTEND;TZID=America/New_York:20260310T140000
DTSTAMP:20260419T121115
CREATED:20260220T173521Z
LAST-MODIFIED:20260220T173521Z
UID:21312-1773136800-1773151200@www.nwrls.com
SUMMARY:Seaside Stitchers
DESCRIPTION:We offer a warm\, seaside welcome to anyone who is interested in needle arts. Bring your latest project and join us as we knit together a more vibrant community!
URL:https://www.nwrls.com/event/seaside-stitchers-11/
LOCATION:Corinne Costin Gibson Memorial Public Library\, 110 Library Drive\, Port St. Joe\, FL\, 32456\, United States
CATEGORIES:Corinne Costin Gibson Memorial Public Library,Events,Locations
ATTACH;FMTTYPE=image/png:https://www.nwrls.com/wp-content/uploads/2025/08/PSJ-images-fall-4.png
END:VEVENT
BEGIN:VEVENT
DTSTART;TZID=America/New_York:20260310T110000
DTEND;TZID=America/New_York:20260310T130000
DTSTAMP:20260419T121115
CREATED:20260213T172649Z
LAST-MODIFIED:20260213T172651Z
UID:21128-1773140400-1773147600@www.nwrls.com
SUMMARY:Legal Clinic:  Eviction Prevention Services
DESCRIPTION:Join Legal Services of North Florida at PSJ Library for an Eviction Prevention Workshop focusing on landlord-tenant issues!  This program is free and open to the public.
URL:https://www.nwrls.com/event/legal-clinic-eviction-prevention-services/
LOCATION:Corinne Costin Gibson Memorial Public Library\, 110 Library Drive\, Port St. Joe\, FL\, 32456\, United States
CATEGORIES:Corinne Costin Gibson Memorial Public Library,Events,Locations
ATTACH;FMTTYPE=image/png:https://www.nwrls.com/wp-content/uploads/2026/02/Port-Saint-Joe-Eviction-Protection-March-Clinic.png
END:VEVENT
BEGIN:VEVENT
DTSTART;TZID=America/New_York:20260312T110000
DTEND;TZID=America/New_York:20260312T120000
DTSTAMP:20260419T121115
CREATED:20260213T200854Z
LAST-MODIFIED:20260213T200855Z
UID:21208-1773313200-1773316800@www.nwrls.com
SUMMARY:Preschool Storytime
DESCRIPTION:Stories\, songs\, movement and music to instill a love a reading\, followed by time to play with friends in our well-equipped classroom! Program geared for 6 months – 5 years of age with caregiver.  Stay for free play time afterwards!
URL:https://www.nwrls.com/event/preschool-storytime-46/
LOCATION:Corinne Costin Gibson Memorial Public Library\, 110 Library Drive\, Port St. Joe\, FL\, 32456\, United States
CATEGORIES:Corinne Costin Gibson Memorial Public Library,Events,Locations
ATTACH;FMTTYPE=image/png:https://www.nwrls.com/wp-content/uploads/2025/08/PSJ-Preschool-Storytime.png
END:VEVENT
BEGIN:VEVENT
DTSTART;TZID=America/New_York:20260313T130000
DTEND;TZID=America/New_York:20260313T140000
DTSTAMP:20260419T121115
CREATED:20260213T173345Z
LAST-MODIFIED:20260213T173346Z
UID:21135-1773406800-1773410400@www.nwrls.com
SUMMARY:Archaeology Storytime
DESCRIPTION:Celebrate Florida Archaeology Month in March! Join us on Friday\, March 13th for a special archaeology storytime and craft. \nThank you to our special guests from the Florida Public Archaeology Network!
URL:https://www.nwrls.com/event/archaeology-storytime/
LOCATION:Corinne Costin Gibson Memorial Public Library\, 110 Library Drive\, Port St. Joe\, FL\, 32456\, United States
CATEGORIES:Corinne Costin Gibson Memorial Public Library,Events,Locations
ATTACH;FMTTYPE=image/png:https://www.nwrls.com/wp-content/uploads/2026/02/StoryTime-Social-Media-post-Archaeology2.png
END:VEVENT
BEGIN:VEVENT
DTSTART;TZID=America/New_York:20260314T120000
DTEND;TZID=America/New_York:20260314T130000
DTSTAMP:20260419T121115
CREATED:20260220T161939Z
LAST-MODIFIED:20260220T161939Z
UID:21262-1773489600-1773493200@www.nwrls.com
SUMMARY:Teen Book Club (Ages 12 - 17)
DESCRIPTION:Join us for fun book genre discussions and pizza! \n 
URL:https://www.nwrls.com/event/teen-book-club-ages-12-17-4/
LOCATION:Corinne Costin Gibson Memorial Public Library\, 110 Library Drive\, Port St. Joe\, FL\, 32456\, United States
CATEGORIES:Corinne Costin Gibson Memorial Public Library,Events,Locations
ATTACH;FMTTYPE=image/jpeg:https://www.nwrls.com/wp-content/uploads/2025/11/3.jpg
END:VEVENT
BEGIN:VEVENT
DTSTART;TZID=America/New_York:20260316T103000
DTEND;TZID=America/New_York:20260316T113000
DTSTAMP:20260419T121115
CREATED:20260220T174847Z
LAST-MODIFIED:20260303T135202Z
UID:21338-1773657000-1773660600@www.nwrls.com
SUMMARY:Strum Your Way to Fun! Ukulele Practice (Adult)
DESCRIPTION:Learn chords and strumming patterns and have fun playing together. All levels welcome; ukuleles available for check-out. (no practices on holidays)
URL:https://www.nwrls.com/event/strum-your-way-to-fun-ukulele-practice-adult-7/
LOCATION:Corinne Costin Gibson Memorial Public Library\, 110 Library Drive\, Port St. Joe\, FL\, 32456\, United States
CATEGORIES:Corinne Costin Gibson Memorial Public Library,Events,Locations
ATTACH;FMTTYPE=image/jpeg:https://www.nwrls.com/wp-content/uploads/2025/11/6-1.jpg
END:VEVENT
BEGIN:VEVENT
DTSTART;TZID=America/New_York:20260316T143000
DTEND;TZID=America/New_York:20260316T163000
DTSTAMP:20260419T121115
CREATED:20260220T171810Z
LAST-MODIFIED:20260220T171810Z
UID:21282-1773671400-1773678600@www.nwrls.com
SUMMARY:Chess Club
DESCRIPTION:All ages and levels of experience are welcome: adults\, teens and kids! \nChess board and pieces provided. You may also bring your own. \n 
URL:https://www.nwrls.com/event/chess-club-76/
LOCATION:Corinne Costin Gibson Memorial Public Library\, 110 Library Drive\, Port St. Joe\, FL\, 32456\, United States
CATEGORIES:Corinne Costin Gibson Memorial Public Library,Events,Locations
ATTACH;FMTTYPE=image/jpeg:https://www.nwrls.com/wp-content/uploads/2025/11/Chess-Club.jpg
END:VEVENT
BEGIN:VEVENT
DTSTART;TZID=America/New_York:20260317T100000
DTEND;TZID=America/New_York:20260317T140000
DTSTAMP:20260419T121115
CREATED:20260220T173553Z
LAST-MODIFIED:20260220T173553Z
UID:21311-1773741600-1773756000@www.nwrls.com
SUMMARY:Seaside Stitchers
DESCRIPTION:We offer a warm\, seaside welcome to anyone who is interested in needle arts. Bring your latest project and join us as we knit together a more vibrant community!
URL:https://www.nwrls.com/event/seaside-stitchers-12/
LOCATION:Corinne Costin Gibson Memorial Public Library\, 110 Library Drive\, Port St. Joe\, FL\, 32456\, United States
CATEGORIES:Corinne Costin Gibson Memorial Public Library,Events,Locations
ATTACH;FMTTYPE=image/png:https://www.nwrls.com/wp-content/uploads/2025/08/PSJ-images-fall-4.png
END:VEVENT
BEGIN:VEVENT
DTSTART;TZID=America/New_York:20260323T103000
DTEND;TZID=America/New_York:20260323T113000
DTSTAMP:20260419T121115
CREATED:20260220T174913Z
LAST-MODIFIED:20260303T135749Z
UID:21337-1774261800-1774265400@www.nwrls.com
SUMMARY:Strum Your Way to Fun! Ukulele Practice (Adult)
DESCRIPTION:Learn chords and strumming patterns and have fun playing together. All levels welcome; ukuleles available for check-out. (no practices on holidays)
URL:https://www.nwrls.com/event/strum-your-way-to-fun-ukulele-practice-adult-8/
LOCATION:Corinne Costin Gibson Memorial Public Library\, 110 Library Drive\, Port St. Joe\, FL\, 32456\, United States
CATEGORIES:Corinne Costin Gibson Memorial Public Library,Events,Locations
ATTACH;FMTTYPE=image/jpeg:https://www.nwrls.com/wp-content/uploads/2025/11/6-1.jpg
END:VEVENT
BEGIN:VEVENT
DTSTART;TZID=America/New_York:20260323T143000
DTEND;TZID=America/New_York:20260323T163000
DTSTAMP:20260419T121115
CREATED:20260220T171916Z
LAST-MODIFIED:20260220T172913Z
UID:21281-1774276200-1774283400@www.nwrls.com
SUMMARY:Chess Club
DESCRIPTION:All ages and levels of experience are welcome: adults\, teens and kids! \nChess board and pieces provided. You may also bring your own. \n 
URL:https://www.nwrls.com/event/chess-club-77/
LOCATION:Corinne Costin Gibson Memorial Public Library\, 110 Library Drive\, Port St. Joe\, FL\, 32456\, United States
CATEGORIES:Corinne Costin Gibson Memorial Public Library,Events,Locations
ATTACH;FMTTYPE=image/jpeg:https://www.nwrls.com/wp-content/uploads/2025/11/Chess-Club.jpg
END:VEVENT
BEGIN:VEVENT
DTSTART;TZID=America/New_York:20260324T100000
DTEND;TZID=America/New_York:20260324T140000
DTSTAMP:20260419T121115
CREATED:20260220T173635Z
LAST-MODIFIED:20260220T173635Z
UID:21310-1774346400-1774360800@www.nwrls.com
SUMMARY:Seaside Stitchers
DESCRIPTION:We offer a warm\, seaside welcome to anyone who is interested in needle arts. Bring your latest project and join us as we knit together a more vibrant community!
URL:https://www.nwrls.com/event/seaside-stitchers-50/
LOCATION:Corinne Costin Gibson Memorial Public Library\, 110 Library Drive\, Port St. Joe\, FL\, 32456\, United States
CATEGORIES:Corinne Costin Gibson Memorial Public Library,Events,Locations
ATTACH;FMTTYPE=image/png:https://www.nwrls.com/wp-content/uploads/2025/08/PSJ-images-fall-4.png
END:VEVENT
BEGIN:VEVENT
DTSTART;TZID=America/New_York:20260326T110000
DTEND;TZID=America/New_York:20260326T120000
DTSTAMP:20260419T121115
CREATED:20260213T201003Z
LAST-MODIFIED:20260213T201003Z
UID:21206-1774522800-1774526400@www.nwrls.com
SUMMARY:Preschool Storytime
DESCRIPTION:Stories\, songs\, movement and music to instill a love a reading\, followed by time to play with friends in our well-equipped classroom! Program geared for 6 months – 5 years of age with caregiver.
URL:https://www.nwrls.com/event/preschool-storytime-48/
LOCATION:Corinne Costin Gibson Memorial Public Library\, 110 Library Drive\, Port St. Joe\, FL\, 32456\, United States
CATEGORIES:Corinne Costin Gibson Memorial Public Library,Events,Locations
ATTACH;FMTTYPE=image/png:https://www.nwrls.com/wp-content/uploads/2025/08/PSJ-Preschool-Storytime.png
END:VEVENT
BEGIN:VEVENT
DTSTART;TZID=America/New_York:20260328T130000
DTEND;TZID=America/New_York:20260328T140000
DTSTAMP:20260419T121115
CREATED:20260220T163738Z
LAST-MODIFIED:20260220T163740Z
UID:21266-1774702800-1774706400@www.nwrls.com
SUMMARY:Clifford Sims Day
DESCRIPTION:Clifford Sims\, of Port St. Joe\, was the recipient of the Congressional Medal of Honor for bravery and heroism during the Vietnam War. A new sculpture of Sims will be unveiled and dedicated at a special ceremony honoring his legacy.  Everyone is welcome to celebrate with us!
URL:https://www.nwrls.com/event/clifford-sims-day/
LOCATION:Corinne Costin Gibson Memorial Public Library\, 110 Library Drive\, Port St. Joe\, FL\, 32456\, United States
CATEGORIES:Corinne Costin Gibson Memorial Public Library,Events,Locations
ATTACH;FMTTYPE=image/jpeg:https://www.nwrls.com/wp-content/uploads/2026/02/PSJ-Spring.jpg
END:VEVENT
BEGIN:VEVENT
DTSTART;TZID=America/New_York:20260330T103000
DTEND;TZID=America/New_York:20260330T110000
DTSTAMP:20260419T121115
CREATED:20260220T163954Z
LAST-MODIFIED:20260220T163954Z
UID:21271-1774866600-1774868400@www.nwrls.com
SUMMARY:Library Book Club
DESCRIPTION:New members welcome to join our Library Book Club! Contact the Library for book club titles at 850-229-8879.
URL:https://www.nwrls.com/event/library-book-club-12/
LOCATION:Corinne Costin Gibson Memorial Public Library\, 110 Library Drive\, Port St. Joe\, FL\, 32456\, United States
CATEGORIES:Corinne Costin Gibson Memorial Public Library,Events,Locations
ATTACH;FMTTYPE=image/jpeg:https://www.nwrls.com/wp-content/uploads/2025/02/Library-Book-Club-2.jpg
END:VEVENT
BEGIN:VEVENT
DTSTART;TZID=America/New_York:20260330T103000
DTEND;TZID=America/New_York:20260330T113000
DTSTAMP:20260419T121115
CREATED:20260220T175006Z
LAST-MODIFIED:20260303T135717Z
UID:21336-1774866600-1774870200@www.nwrls.com
SUMMARY:Strum Your Way to Fun! Ukulele Practice (Adult)
DESCRIPTION:Learn chords and strumming patterns and have fun playing together. All levels welcome; ukuleles available for check-out. (no practices on holidays)
URL:https://www.nwrls.com/event/strum-your-way-to-fun-ukulele-practice-adult-9/
LOCATION:Corinne Costin Gibson Memorial Public Library\, 110 Library Drive\, Port St. Joe\, FL\, 32456\, United States
CATEGORIES:Corinne Costin Gibson Memorial Public Library,Events,Locations
ATTACH;FMTTYPE=image/jpeg:https://www.nwrls.com/wp-content/uploads/2025/11/6-1.jpg
END:VEVENT
BEGIN:VEVENT
DTSTART;TZID=America/New_York:20260330T143000
DTEND;TZID=America/New_York:20260330T163000
DTSTAMP:20260419T121115
CREATED:20260220T172052Z
LAST-MODIFIED:20260220T172052Z
UID:21280-1774881000-1774888200@www.nwrls.com
SUMMARY:Chess Club
DESCRIPTION:All ages and levels of experience are welcome: adults\, teens and kids! \nChess board and pieces provided. You may also bring your own. \n 
URL:https://www.nwrls.com/event/chess-club-78/
LOCATION:Corinne Costin Gibson Memorial Public Library\, 110 Library Drive\, Port St. Joe\, FL\, 32456\, United States
CATEGORIES:Corinne Costin Gibson Memorial Public Library,Events,Locations
ATTACH;FMTTYPE=image/jpeg:https://www.nwrls.com/wp-content/uploads/2025/11/Chess-Club.jpg
END:VEVENT
BEGIN:VEVENT
DTSTART;TZID=America/New_York:20260331T100000
DTEND;TZID=America/New_York:20260331T140000
DTSTAMP:20260419T121115
CREATED:20260220T173704Z
LAST-MODIFIED:20260220T173704Z
UID:21309-1774951200-1774965600@www.nwrls.com
SUMMARY:Seaside Stitchers
DESCRIPTION:We offer a warm\, seaside welcome to anyone who is interested in needle arts. Bring your latest project and join us as we knit together a more vibrant community!
URL:https://www.nwrls.com/event/seaside-stitchers-52/
LOCATION:Corinne Costin Gibson Memorial Public Library\, 110 Library Drive\, Port St. Joe\, FL\, 32456\, United States
CATEGORIES:Corinne Costin Gibson Memorial Public Library,Events,Locations
ATTACH;FMTTYPE=image/png:https://www.nwrls.com/wp-content/uploads/2025/08/PSJ-images-fall-4.png
END:VEVENT
END:VCALENDAR