BEGIN:VCALENDAR
VERSION:2.0
PRODID:-//Northwest Regional Library System - ECPv6.15.20//NONSGML v1.0//EN
CALSCALE:GREGORIAN
METHOD:PUBLISH
X-WR-CALNAME:Northwest Regional Library System
X-ORIGINAL-URL:https://www.nwrls.com
X-WR-CALDESC:Events for Northwest Regional Library System
REFRESH-INTERVAL;VALUE=DURATION:PT1H
X-Robots-Tag:noindex
X-PUBLISHED-TTL:PT1H
BEGIN:VTIMEZONE
TZID:America/New_York
BEGIN:DAYLIGHT
TZOFFSETFROM:-0500
TZOFFSETTO:-0400
TZNAME:EDT
DTSTART:20250309T070000
END:DAYLIGHT
BEGIN:STANDARD
TZOFFSETFROM:-0400
TZOFFSETTO:-0500
TZNAME:EST
DTSTART:20251102T060000
END:STANDARD
BEGIN:DAYLIGHT
TZOFFSETFROM:-0500
TZOFFSETTO:-0400
TZNAME:EDT
DTSTART:20260308T070000
END:DAYLIGHT
BEGIN:STANDARD
TZOFFSETFROM:-0400
TZOFFSETTO:-0500
TZNAME:EST
DTSTART:20261101T060000
END:STANDARD
BEGIN:DAYLIGHT
TZOFFSETFROM:-0500
TZOFFSETTO:-0400
TZNAME:EDT
DTSTART:20270314T070000
END:DAYLIGHT
BEGIN:STANDARD
TZOFFSETFROM:-0400
TZOFFSETTO:-0500
TZNAME:EST
DTSTART:20271107T060000
END:STANDARD
END:VTIMEZONE
BEGIN:VTIMEZONE
TZID:America/Chicago
BEGIN:DAYLIGHT
TZOFFSETFROM:-0600
TZOFFSETTO:-0500
TZNAME:CDT
DTSTART:20250309T080000
END:DAYLIGHT
BEGIN:STANDARD
TZOFFSETFROM:-0500
TZOFFSETTO:-0600
TZNAME:CST
DTSTART:20251102T070000
END:STANDARD
BEGIN:DAYLIGHT
TZOFFSETFROM:-0600
TZOFFSETTO:-0500
TZNAME:CDT
DTSTART:20260308T080000
END:DAYLIGHT
BEGIN:STANDARD
TZOFFSETFROM:-0500
TZOFFSETTO:-0600
TZNAME:CST
DTSTART:20261101T070000
END:STANDARD
BEGIN:DAYLIGHT
TZOFFSETFROM:-0600
TZOFFSETTO:-0500
TZNAME:CDT
DTSTART:20270314T080000
END:DAYLIGHT
BEGIN:STANDARD
TZOFFSETFROM:-0500
TZOFFSETTO:-0600
TZNAME:CST
DTSTART:20271107T070000
END:STANDARD
END:VTIMEZONE
BEGIN:VEVENT
DTSTART;TZID=America/New_York:20260202T143000
DTEND;TZID=America/New_York:20260202T170000
DTSTAMP:20260419T133716
CREATED:20251114T204911Z
LAST-MODIFIED:20251114T204911Z
UID:20171-1770042600-1770051600@www.nwrls.com
SUMMARY:Chess Club (All Ages)
DESCRIPTION:All ages and abilities welcome\, including new learners. Adults and homeschoolers can arrive at 2:30 p.m.\, children can follow when school gets out. Chess boards and instruction provided. Program geared for all ages.
URL:https://www.nwrls.com/event/chess-club-all-ages-9/
LOCATION:Corinne Costin Gibson Memorial Public Library\, 110 Library Drive\, Port St. Joe\, FL\, 32456\, United States
CATEGORIES:Corinne Costin Gibson Memorial Public Library,Events,Locations
ATTACH;FMTTYPE=image/jpeg:https://www.nwrls.com/wp-content/uploads/2024/02/Chess-Club-PSJ.jpg
END:VEVENT
BEGIN:VEVENT
DTSTART;TZID=America/New_York:20260203T140000
DTEND;TZID=America/New_York:20260203T150000
DTSTAMP:20260419T133716
CREATED:20251205T200628Z
LAST-MODIFIED:20251205T200628Z
UID:20491-1770127200-1770130800@www.nwrls.com
SUMMARY:From Story to Storybook:  Meet Author Robyn Rennick & Illustrator Claire Ratliff
DESCRIPTION:Robyn Rennick is a master storyteller who recently worked with watercolor artist Claire Ratliff to create a heart-warming picture book: Roxy the Fox. Claire will talk about the challenges of illustrating and Robyn about the self-publishing process; Robyn will also read excerpts from the book.  Books will be available for purchase and signing. \nThis program is a part of our Tuesdays @ 2 Educational Presentation series.
URL:https://www.nwrls.com/event/from-story-to-storybook-meet-author-robyn-rennick-illustrator-claire-ratliff/
LOCATION:Corinne Costin Gibson Memorial Public Library\, 110 Library Drive\, Port St. Joe\, FL\, 32456\, United States
CATEGORIES:Corinne Costin Gibson Memorial Public Library,Events,Locations
ATTACH;FMTTYPE=image/jpeg:https://www.nwrls.com/wp-content/uploads/2025/12/Author-Robyn-Rennick-scaled.jpg
END:VEVENT
BEGIN:VEVENT
DTSTART;TZID=America/New_York:20260205T110000
DTEND;TZID=America/New_York:20260205T120000
DTSTAMP:20260419T133716
CREATED:20251114T210126Z
LAST-MODIFIED:20251114T210126Z
UID:20184-1770289200-1770292800@www.nwrls.com
SUMMARY:Preschool Storytime
DESCRIPTION:Stories\, songs\, movement and music to instill a love a reading\, followed by time to play with friends in our well-equipped classroom! Program geared for 6 months – 5 years of age with caregiver.
URL:https://www.nwrls.com/event/preschool-storytime-41/
LOCATION:Corinne Costin Gibson Memorial Public Library\, 110 Library Drive\, Port St. Joe\, FL\, 32456\, United States
CATEGORIES:Corinne Costin Gibson Memorial Public Library,Events,Locations
ATTACH;FMTTYPE=image/png:https://www.nwrls.com/wp-content/uploads/2025/08/PSJ-Preschool-Storytime.png
END:VEVENT
BEGIN:VEVENT
DTSTART;TZID=America/New_York:20260205T153000
DTEND;TZID=America/New_York:20260205T163000
DTSTAMP:20260419T133716
CREATED:20251114T202203Z
LAST-MODIFIED:20251114T202203Z
UID:20122-1770305400-1770309000@www.nwrls.com
SUMMARY:LEGO Club
DESCRIPTION:Stop by for monthly building challenges followed by time to free build with friends! Program geared for school aged children.
URL:https://www.nwrls.com/event/lego-club-38/
LOCATION:Corinne Costin Gibson Memorial Public Library\, 110 Library Drive\, Port St. Joe\, FL\, 32456\, United States
CATEGORIES:Corinne Costin Gibson Memorial Public Library,Events,Locations
ATTACH;FMTTYPE=image/jpeg:https://www.nwrls.com/wp-content/uploads/2024/08/Lego-challenges-PSJ-1.jpg
END:VEVENT
BEGIN:VEVENT
DTSTART;TZID=America/New_York:20260209T143000
DTEND;TZID=America/New_York:20260209T170000
DTSTAMP:20260419T133716
CREATED:20251114T204953Z
LAST-MODIFIED:20251114T204953Z
UID:20162-1770647400-1770656400@www.nwrls.com
SUMMARY:Chess Club (All Ages)
DESCRIPTION:All ages and abilities welcome\, including new learners. Adults and homeschoolers can arrive at 2:30 p.m.\, children can follow when school gets out. Chess boards and instruction provided. Program geared for all ages.
URL:https://www.nwrls.com/event/chess-club-all-ages-10/
LOCATION:Corinne Costin Gibson Memorial Public Library\, 110 Library Drive\, Port St. Joe\, FL\, 32456\, United States
CATEGORIES:Corinne Costin Gibson Memorial Public Library,Events,Locations
ATTACH;FMTTYPE=image/jpeg:https://www.nwrls.com/wp-content/uploads/2024/02/Chess-Club-PSJ.jpg
END:VEVENT
BEGIN:VEVENT
DTSTART;TZID=America/New_York:20260210T140000
DTEND;TZID=America/New_York:20260210T150000
DTSTAMP:20260419T133716
CREATED:20251205T204659Z
LAST-MODIFIED:20260209T145916Z
UID:20490-1770732000-1770735600@www.nwrls.com
SUMMARY:Music from the Elements of Nature with Sammy Tedder
DESCRIPTION:Cultures from all over the world have been making musical instruments from materials found in their local environments: animal skins stretched over hollow logs made drums\, cane drilled with holes made flutes\, hollow lengths of tree branches created trumpets and seeds from plants created percussion instruments.  Sammy Tedder will demonstrate many of these instruments made from natural materials and perform songs he composed for these instruments in his film soundtrack recordings. This is a multi-media presentation with scenes from his recent nature films. \nThis program is a part of our Tuesdays @ 2 Educational Presentation series.
URL:https://www.nwrls.com/event/music-from-the-elements-of-nature-with-sammy-tedder/
LOCATION:Corinne Costin Gibson Memorial Public Library\, 110 Library Drive\, Port St. Joe\, FL\, 32456\, United States
CATEGORIES:Corinne Costin Gibson Memorial Public Library,Events,Locations
ATTACH;FMTTYPE=image/jpeg:https://www.nwrls.com/wp-content/uploads/2025/12/Sammy-Tedder-1-scaled.jpg
END:VEVENT
BEGIN:VEVENT
DTSTART;TZID=America/New_York:20260210T153000
DTEND;TZID=America/New_York:20260210T163000
DTSTAMP:20260419T133716
CREATED:20251114T201736Z
LAST-MODIFIED:20251114T201736Z
UID:20115-1770737400-1770741000@www.nwrls.com
SUMMARY:Art Workshops for Children (Ages 6+)
DESCRIPTION:Art workshops inspired by the book Art Workshops for Children by Herve Tullet. \nFebruary 10 – Painting Music
URL:https://www.nwrls.com/event/art-workshops-for-children-ages-6-3/
LOCATION:Corinne Costin Gibson Memorial Public Library\, 110 Library Drive\, Port St. Joe\, FL\, 32456\, United States
CATEGORIES:Corinne Costin Gibson Memorial Public Library,Events,Locations
ATTACH;FMTTYPE=image/jpeg:https://www.nwrls.com/wp-content/uploads/2025/11/2-1.jpg
END:VEVENT
BEGIN:VEVENT
DTSTART;TZID=America/New_York:20260212T110000
DTEND;TZID=America/New_York:20260212T120000
DTSTAMP:20260419T133716
CREATED:20251114T210234Z
LAST-MODIFIED:20251114T210234Z
UID:20183-1770894000-1770897600@www.nwrls.com
SUMMARY:Preschool Storytime
DESCRIPTION:Stories\, songs\, movement and music to instill a love a reading\, followed by time to play with friends in our well-equipped classroom! Program geared for 6 months – 5 years of age with caregiver.
URL:https://www.nwrls.com/event/preschool-storytime-42/
LOCATION:Corinne Costin Gibson Memorial Public Library\, 110 Library Drive\, Port St. Joe\, FL\, 32456\, United States
CATEGORIES:Corinne Costin Gibson Memorial Public Library,Events,Locations
ATTACH;FMTTYPE=image/png:https://www.nwrls.com/wp-content/uploads/2025/08/PSJ-Preschool-Storytime.png
END:VEVENT
BEGIN:VEVENT
DTSTART;TZID=America/New_York:20260214T120000
DTEND;TZID=America/New_York:20260214T130000
DTSTAMP:20260419T133716
CREATED:20251114T202647Z
LAST-MODIFIED:20251114T202647Z
UID:20128-1771070400-1771074000@www.nwrls.com
SUMMARY:Teen Book Club (Ages 12 - 17)
DESCRIPTION:Join us for fun book genre discussions and pizza! \nFebruary – Romance novels
URL:https://www.nwrls.com/event/teen-book-club-ages-12-17-3/
LOCATION:Corinne Costin Gibson Memorial Public Library\, 110 Library Drive\, Port St. Joe\, FL\, 32456\, United States
CATEGORIES:Corinne Costin Gibson Memorial Public Library,Events,Locations
ATTACH;FMTTYPE=image/jpeg:https://www.nwrls.com/wp-content/uploads/2025/11/3.jpg
END:VEVENT
BEGIN:VEVENT
DTSTART;VALUE=DATE:20260216
DTEND;VALUE=DATE:20260217
DTSTAMP:20260419T133716
CREATED:20251229T225700Z
LAST-MODIFIED:20251229T225700Z
UID:20583-1771200000-1771286399@www.nwrls.com
SUMMARY:Library Closed\, President's Day
DESCRIPTION:All libraries in the Northwest Regional Library System will be closed on Monday\, February 16 for President’s Day.
URL:https://www.nwrls.com/event/library-closed-presidents-day/
LOCATION:FL
CATEGORIES:Bay County Public Library,Charles Whitehead Public Library,Corinne Costin Gibson Memorial Public Library,Events,Harrell Memorial Public Library,Jimmy Weaver Memorial Library,Locations,Panama City Beach Library,Parker Public Library
ATTACH;FMTTYPE=image/jpeg:https://www.nwrls.com/wp-content/uploads/2025/12/BCPL-Winter-Programs-6.jpg
END:VEVENT
BEGIN:VEVENT
DTSTART;TZID=America/New_York:20260217T140000
DTEND;TZID=America/New_York:20260217T150000
DTSTAMP:20260419T133716
CREATED:20251208T215151Z
LAST-MODIFIED:20260217T182443Z
UID:20489-1771336800-1771340400@www.nwrls.com
SUMMARY:Snowbirds for Snowbirds (And Locals!) with Audubon Ambassador Nelson Mongiovi
DESCRIPTION:So\, what’s the big deal with bird migration\, and is Gulf County really a “hot spot”? \nHere’s a quick program where you’ll learn all about migration and what species of birds can be seen along the Forgotten Coast. You’ll also get an overview about the latest free apps for bird identification; where the local “hot spots” are for birdwatching; and how to bring more birds into your backyard! \nThis program is a part of our Tuesdays @ 2 Educational Presentation series.
URL:https://www.nwrls.com/event/snowbirds-for-snowbirds-and-locals-with-audubon-ambassador-nelson-mongiovi/
LOCATION:Corinne Costin Gibson Memorial Public Library\, 110 Library Drive\, Port St. Joe\, FL\, 32456\, United States
CATEGORIES:Corinne Costin Gibson Memorial Public Library,Events,Locations
ATTACH;FMTTYPE=image/jpeg:https://www.nwrls.com/wp-content/uploads/2025/12/Snowbirds-1-scaled.jpg
END:VEVENT
BEGIN:VEVENT
DTSTART;TZID=America/New_York:20260219T110000
DTEND;TZID=America/New_York:20260219T120000
DTSTAMP:20260419T133716
CREATED:20251114T210311Z
LAST-MODIFIED:20251114T210311Z
UID:20182-1771498800-1771502400@www.nwrls.com
SUMMARY:Preschool Storytime
DESCRIPTION:Stories\, songs\, movement and music to instill a love a reading\, followed by time to play with friends in our well-equipped classroom! Program geared for 6 months – 5 years of age with caregiver.
URL:https://www.nwrls.com/event/preschool-storytime-43/
LOCATION:Corinne Costin Gibson Memorial Public Library\, 110 Library Drive\, Port St. Joe\, FL\, 32456\, United States
CATEGORIES:Corinne Costin Gibson Memorial Public Library,Events,Locations
ATTACH;FMTTYPE=image/png:https://www.nwrls.com/wp-content/uploads/2025/08/PSJ-Preschool-Storytime.png
END:VEVENT
BEGIN:VEVENT
DTSTART;TZID=America/New_York:20260223T103000
DTEND;TZID=America/New_York:20260223T110000
DTSTAMP:20260419T133716
CREATED:20251204T195226Z
LAST-MODIFIED:20251204T195226Z
UID:20479-1771842600-1771844400@www.nwrls.com
SUMMARY:Library Book Club
DESCRIPTION:New members welcome to join our Library Book Club! Contact the Library for book club titles at 850-229-8879. \nFebruary:  To be decided
URL:https://www.nwrls.com/event/library-book-club-11/
LOCATION:Corinne Costin Gibson Memorial Public Library\, 110 Library Drive\, Port St. Joe\, FL\, 32456\, United States
CATEGORIES:Corinne Costin Gibson Memorial Public Library,Events,Locations
ATTACH;FMTTYPE=image/jpeg:https://www.nwrls.com/wp-content/uploads/2025/02/Library-Book-Club-2.jpg
END:VEVENT
BEGIN:VEVENT
DTSTART;TZID=America/New_York:20260223T143000
DTEND;TZID=America/New_York:20260223T170000
DTSTAMP:20260419T133716
CREATED:20251114T205021Z
LAST-MODIFIED:20251114T205021Z
UID:20155-1771857000-1771866000@www.nwrls.com
SUMMARY:Chess Club (All Ages)
DESCRIPTION:All ages and abilities welcome\, including new learners. Adults and homeschoolers can arrive at 2:30 p.m.\, children can follow when school gets out. Chess boards and instruction provided. Program geared for all ages.
URL:https://www.nwrls.com/event/chess-club-all-ages-11/
LOCATION:Corinne Costin Gibson Memorial Public Library\, 110 Library Drive\, Port St. Joe\, FL\, 32456\, United States
CATEGORIES:Corinne Costin Gibson Memorial Public Library,Events,Locations
ATTACH;FMTTYPE=image/jpeg:https://www.nwrls.com/wp-content/uploads/2024/02/Chess-Club-PSJ.jpg
END:VEVENT
BEGIN:VEVENT
DTSTART;TZID=America/New_York:20260224T140000
DTEND;TZID=America/New_York:20260224T150000
DTSTAMP:20260419T133716
CREATED:20251205T200549Z
LAST-MODIFIED:20251205T200549Z
UID:20481-1771941600-1771945200@www.nwrls.com
SUMMARY:Porch Light On:  Meet Author Gina Briggs
DESCRIPTION:Gina Briggs is a self-taught writer who refuse to be limited by genre. Author of the forthcoming “Porch Light On”\, a women’s psychological fiction novel set in Port St. Joe\, Gina is also a regular at the PSJ library! Books will be available for purchase and signing. \n“Blake\, a resident of Port St. Joe\, Florida\, wants nothing more than to be a mother. But chasing a perfect family has only damaged her marriage and shattered her faith. Lily is an outcast in Damariscotta\, Maine; the “girl whose mother ran away.” With dreams of meeting a real-life Romeo\, she easily falls for the new guy in town. Their worlds unexpectedly meld and friendship blossoms. But Blake’s haunted past and Lily’s paralyzing present throw them into a missing person’s case that jeopardizes what they cherish most.” \nThis program is a part of our Tuesdays @ 2 Educational Presentation series.
URL:https://www.nwrls.com/event/porch-light-on-meet-author-gina-briggs/
LOCATION:Corinne Costin Gibson Memorial Public Library\, 110 Library Drive\, Port St. Joe\, FL\, 32456\, United States
CATEGORIES:Corinne Costin Gibson Memorial Public Library,Events,Locations
ATTACH;FMTTYPE=image/jpeg:https://www.nwrls.com/wp-content/uploads/2025/12/Author-Gina-Briggs-scaled.jpg
END:VEVENT
BEGIN:VEVENT
DTSTART;TZID=America/New_York:20260226T110000
DTEND;TZID=America/New_York:20260226T120000
DTSTAMP:20260419T133716
CREATED:20251114T210332Z
LAST-MODIFIED:20251114T210332Z
UID:20181-1772103600-1772107200@www.nwrls.com
SUMMARY:Preschool Storytime
DESCRIPTION:Stories\, songs\, movement and music to instill a love a reading\, followed by time to play with friends in our well-equipped classroom! Program geared for 6 months – 5 years of age with caregiver.
URL:https://www.nwrls.com/event/preschool-storytime-44/
LOCATION:Corinne Costin Gibson Memorial Public Library\, 110 Library Drive\, Port St. Joe\, FL\, 32456\, United States
CATEGORIES:Corinne Costin Gibson Memorial Public Library,Events,Locations
ATTACH;FMTTYPE=image/png:https://www.nwrls.com/wp-content/uploads/2025/08/PSJ-Preschool-Storytime.png
END:VEVENT
END:VCALENDAR