BEGIN:VCALENDAR
VERSION:2.0
PRODID:-//Northwest Regional Library System - ECPv6.15.20//NONSGML v1.0//EN
CALSCALE:GREGORIAN
METHOD:PUBLISH
X-WR-CALNAME:Northwest Regional Library System
X-ORIGINAL-URL:https://www.nwrls.com
X-WR-CALDESC:Events for Northwest Regional Library System
REFRESH-INTERVAL;VALUE=DURATION:PT1H
X-Robots-Tag:noindex
X-PUBLISHED-TTL:PT1H
BEGIN:VTIMEZONE
TZID:America/New_York
BEGIN:DAYLIGHT
TZOFFSETFROM:-0500
TZOFFSETTO:-0400
TZNAME:EDT
DTSTART:20240310T070000
END:DAYLIGHT
BEGIN:STANDARD
TZOFFSETFROM:-0400
TZOFFSETTO:-0500
TZNAME:EST
DTSTART:20241103T060000
END:STANDARD
BEGIN:DAYLIGHT
TZOFFSETFROM:-0500
TZOFFSETTO:-0400
TZNAME:EDT
DTSTART:20250309T070000
END:DAYLIGHT
BEGIN:STANDARD
TZOFFSETFROM:-0400
TZOFFSETTO:-0500
TZNAME:EST
DTSTART:20251102T060000
END:STANDARD
BEGIN:DAYLIGHT
TZOFFSETFROM:-0500
TZOFFSETTO:-0400
TZNAME:EDT
DTSTART:20260308T070000
END:DAYLIGHT
BEGIN:STANDARD
TZOFFSETFROM:-0400
TZOFFSETTO:-0500
TZNAME:EST
DTSTART:20261101T060000
END:STANDARD
END:VTIMEZONE
BEGIN:VTIMEZONE
TZID:America/Chicago
BEGIN:DAYLIGHT
TZOFFSETFROM:-0600
TZOFFSETTO:-0500
TZNAME:CDT
DTSTART:20240310T080000
END:DAYLIGHT
BEGIN:STANDARD
TZOFFSETFROM:-0500
TZOFFSETTO:-0600
TZNAME:CST
DTSTART:20241103T070000
END:STANDARD
BEGIN:DAYLIGHT
TZOFFSETFROM:-0600
TZOFFSETTO:-0500
TZNAME:CDT
DTSTART:20250309T080000
END:DAYLIGHT
BEGIN:STANDARD
TZOFFSETFROM:-0500
TZOFFSETTO:-0600
TZNAME:CST
DTSTART:20251102T070000
END:STANDARD
BEGIN:DAYLIGHT
TZOFFSETFROM:-0600
TZOFFSETTO:-0500
TZNAME:CDT
DTSTART:20260308T080000
END:DAYLIGHT
BEGIN:STANDARD
TZOFFSETFROM:-0500
TZOFFSETTO:-0600
TZNAME:CST
DTSTART:20261101T070000
END:STANDARD
END:VTIMEZONE
BEGIN:VEVENT
DTSTART;TZID=America/New_York:20251201T103000
DTEND;TZID=America/New_York:20251201T113000
DTSTAMP:20260419T164340
CREATED:20251114T203439Z
LAST-MODIFIED:20251114T203439Z
UID:20137-1764585000-1764588600@www.nwrls.com
SUMMARY:Strum Your Way to Fun! Ukulele Practice (Adult)
DESCRIPTION:Learn chords and strumming patterns and have fun playing together. All levels welcome; ukuleles available for check-out. (no practices on holidays)
URL:https://www.nwrls.com/event/strum-your-way-to-fun-ukulele-practice-adult/
LOCATION:Corinne Costin Gibson Memorial Public Library\, 110 Library Drive\, Port St. Joe\, FL\, 32456\, United States
CATEGORIES:Corinne Costin Gibson Memorial Public Library,Events,Locations
ATTACH;FMTTYPE=image/jpeg:https://www.nwrls.com/wp-content/uploads/2025/11/6-1.jpg
END:VEVENT
BEGIN:VEVENT
DTSTART;TZID=America/New_York:20251201T143000
DTEND;TZID=America/New_York:20251201T170000
DTSTAMP:20260419T164340
CREATED:20251114T204206Z
LAST-MODIFIED:20251114T204206Z
UID:20153-1764599400-1764608400@www.nwrls.com
SUMMARY:Chess Club (All Ages)
DESCRIPTION:All ages and abilities welcome\, including new learners. Adults and homeschoolers can arrive at 2:30 p.m.\, children can follow when school gets out. Chess boards and instruction provided. Program geared for all ages.
URL:https://www.nwrls.com/event/chess-club-all-ages/
LOCATION:Corinne Costin Gibson Memorial Public Library\, 110 Library Drive\, Port St. Joe\, FL\, 32456\, United States
CATEGORIES:Corinne Costin Gibson Memorial Public Library,Events,Locations
ATTACH;FMTTYPE=image/jpeg:https://www.nwrls.com/wp-content/uploads/2024/02/Chess-Club-PSJ.jpg
END:VEVENT
BEGIN:VEVENT
DTSTART;TZID=America/New_York:20251202T100000
DTEND;TZID=America/New_York:20251202T140000
DTSTAMP:20260419T164340
CREATED:20250821T211145Z
LAST-MODIFIED:20251016T195541Z
UID:19166-1764669600-1764684000@www.nwrls.com
SUMMARY:Seaside Stitchers
DESCRIPTION:We offer a warm\, seaside welcome to anyone who is interested in needle arts. Bring your latest project and join us as we knit together a more vibrant community!
URL:https://www.nwrls.com/event/seaside-stitchers-57/
LOCATION:Corinne Costin Gibson Memorial Public Library\, 110 Library Drive\, Port St. Joe\, FL\, 32456\, United States
CATEGORIES:Corinne Costin Gibson Memorial Public Library,Events,Locations
ATTACH;FMTTYPE=image/png:https://www.nwrls.com/wp-content/uploads/2025/08/PSJ-images-fall-4.png
END:VEVENT
BEGIN:VEVENT
DTSTART;TZID=America/New_York:20251204T110000
DTEND;TZID=America/New_York:20251204T120000
DTSTAMP:20260419T164340
CREATED:20251114T202809Z
LAST-MODIFIED:20251114T202809Z
UID:20132-1764846000-1764849600@www.nwrls.com
SUMMARY:Christmas Sing-Along with Ann Comforter (All Ages)
DESCRIPTION:Join in with holiday cheer at this fun sing-along!
URL:https://www.nwrls.com/event/christmas-sing-along-with-ann-comforter-all-ages/
LOCATION:Corinne Costin Gibson Memorial Public Library\, 110 Library Drive\, Port St. Joe\, FL\, 32456\, United States
CATEGORIES:Corinne Costin Gibson Memorial Public Library,Events,Locations
ATTACH;FMTTYPE=image/jpeg:https://www.nwrls.com/wp-content/uploads/2025/11/4-1.jpg
END:VEVENT
BEGIN:VEVENT
DTSTART;TZID=America/New_York:20251204T110000
DTEND;TZID=America/New_York:20251204T120000
DTSTAMP:20260419T164340
CREATED:20251114T205331Z
LAST-MODIFIED:20251114T210402Z
UID:20179-1764846000-1764849600@www.nwrls.com
SUMMARY:Preschool Storytime
DESCRIPTION:Stories\, songs\, movement and music to instill a love a reading\, followed by time to play with friends in our well-equipped classroom! Program geared for 6 months – 5 years of age with caregiver.
URL:https://www.nwrls.com/event/preschool-storytime-10/
LOCATION:Corinne Costin Gibson Memorial Public Library\, 110 Library Drive\, Port St. Joe\, FL\, 32456\, United States
CATEGORIES:Corinne Costin Gibson Memorial Public Library,Events,Locations
ATTACH;FMTTYPE=image/png:https://www.nwrls.com/wp-content/uploads/2025/08/PSJ-Preschool-Storytime.png
END:VEVENT
BEGIN:VEVENT
DTSTART;TZID=America/New_York:20251204T153000
DTEND;TZID=America/New_York:20251204T163000
DTSTAMP:20260419T164340
CREATED:20251114T202017Z
LAST-MODIFIED:20251114T202017Z
UID:20120-1764862200-1764865800@www.nwrls.com
SUMMARY:LEGO Club
DESCRIPTION:Stop by for monthly building challenges followed by time to free build with friends! Program geared for school aged children.
URL:https://www.nwrls.com/event/lego-club-36/
LOCATION:Corinne Costin Gibson Memorial Public Library\, 110 Library Drive\, Port St. Joe\, FL\, 32456\, United States
CATEGORIES:Corinne Costin Gibson Memorial Public Library,Events,Locations
ATTACH;FMTTYPE=image/jpeg:https://www.nwrls.com/wp-content/uploads/2024/08/Lego-challenges-PSJ-1.jpg
END:VEVENT
BEGIN:VEVENT
DTSTART;TZID=America/New_York:20251208T103000
DTEND;TZID=America/New_York:20251208T113000
DTSTAMP:20260419T164340
CREATED:20251114T203607Z
LAST-MODIFIED:20251114T203607Z
UID:20142-1765189800-1765193400@www.nwrls.com
SUMMARY:Strum Your Way to Fun! Ukulele Practice (Adult)
DESCRIPTION:Learn chords and strumming patterns and have fun playing together. All levels welcome; ukuleles available for check-out. (no practices on holidays)
URL:https://www.nwrls.com/event/strum-your-way-to-fun-ukulele-practice-adult-2/
LOCATION:Corinne Costin Gibson Memorial Public Library\, 110 Library Drive\, Port St. Joe\, FL\, 32456\, United States
CATEGORIES:Corinne Costin Gibson Memorial Public Library,Events,Locations
ATTACH;FMTTYPE=image/jpeg:https://www.nwrls.com/wp-content/uploads/2025/11/6-1.jpg
END:VEVENT
BEGIN:VEVENT
DTSTART;TZID=America/New_York:20251208T143000
DTEND;TZID=America/New_York:20251208T170000
DTSTAMP:20260419T164340
CREATED:20251114T204402Z
LAST-MODIFIED:20251114T204402Z
UID:20158-1765204200-1765213200@www.nwrls.com
SUMMARY:Chess Club (All Ages)
DESCRIPTION:All ages and abilities welcome\, including new learners. Adults and homeschoolers can arrive at 2:30 p.m.\, children can follow when school gets out. Chess boards and instruction provided. Program geared for all ages.
URL:https://www.nwrls.com/event/chess-club-all-ages-2/
LOCATION:Corinne Costin Gibson Memorial Public Library\, 110 Library Drive\, Port St. Joe\, FL\, 32456\, United States
CATEGORIES:Corinne Costin Gibson Memorial Public Library,Events,Locations
ATTACH;FMTTYPE=image/jpeg:https://www.nwrls.com/wp-content/uploads/2024/02/Chess-Club-PSJ.jpg
END:VEVENT
BEGIN:VEVENT
DTSTART;TZID=America/New_York:20251209T100000
DTEND;TZID=America/New_York:20251209T140000
DTSTAMP:20260419T164340
CREATED:20250821T211213Z
LAST-MODIFIED:20251016T195704Z
UID:19145-1765274400-1765288800@www.nwrls.com
SUMMARY:Seaside Stitchers
DESCRIPTION:We offer a warm\, seaside welcome to anyone who is interested in needle arts. Bring your latest project and join us as we knit together a more vibrant community!
URL:https://www.nwrls.com/event/seaside-stitchers-58/
LOCATION:Corinne Costin Gibson Memorial Public Library\, 110 Library Drive\, Port St. Joe\, FL\, 32456\, United States
CATEGORIES:Corinne Costin Gibson Memorial Public Library,Events,Locations
ATTACH;FMTTYPE=image/png:https://www.nwrls.com/wp-content/uploads/2025/08/PSJ-images-fall-4.png
END:VEVENT
BEGIN:VEVENT
DTSTART;TZID=America/New_York:20251209T103000
DTEND;TZID=America/New_York:20251209T120000
DTSTAMP:20260419T164340
CREATED:20251114T201902Z
LAST-MODIFIED:20251114T201903Z
UID:20118-1765276200-1765281600@www.nwrls.com
SUMMARY:Kaleidoscope Play & Learn (Ages  0 - 5)
DESCRIPTION:Presented by the Early Learning Coalition of Northwest Florida\, families can drop-in to play\, laugh\, and grow with stories and activities to spark curiosity!
URL:https://www.nwrls.com/event/kaleidoscope-play-learn-ages-0-5/
LOCATION:Corinne Costin Gibson Memorial Public Library\, 110 Library Drive\, Port St. Joe\, FL\, 32456\, United States
CATEGORIES:Corinne Costin Gibson Memorial Public Library,Events,Locations
ATTACH;FMTTYPE=image/jpeg:https://www.nwrls.com/wp-content/uploads/2025/11/1-1.jpg
END:VEVENT
BEGIN:VEVENT
DTSTART;TZID=America/New_York:20251209T153000
DTEND;TZID=America/New_York:20251209T163000
DTSTAMP:20260419T164340
CREATED:20251114T201524Z
LAST-MODIFIED:20251114T201524Z
UID:20099-1765294200-1765297800@www.nwrls.com
SUMMARY:Art Workshops for Children (Ages 6+)
DESCRIPTION:Art workshops inspired by the book Art Workshops for Children by Herve Tullet. \nDecember 9 – Personality Portraits
URL:https://www.nwrls.com/event/art-workshops-for-children-ages-6/
LOCATION:Corinne Costin Gibson Memorial Public Library\, 110 Library Drive\, Port St. Joe\, FL\, 32456\, United States
CATEGORIES:Corinne Costin Gibson Memorial Public Library,Events,Locations
ATTACH;FMTTYPE=image/jpeg:https://www.nwrls.com/wp-content/uploads/2025/11/2-1.jpg
END:VEVENT
BEGIN:VEVENT
DTSTART;TZID=America/New_York:20251211T110000
DTEND;TZID=America/New_York:20251211T120000
DTSTAMP:20260419T164340
CREATED:20251114T205657Z
LAST-MODIFIED:20251114T205657Z
UID:20190-1765450800-1765454400@www.nwrls.com
SUMMARY:Preschool Storytime
DESCRIPTION:Stories\, songs\, movement and music to instill a love a reading\, followed by time to play with friends in our well-equipped classroom! Program geared for 6 months – 5 years of age with caregiver.
URL:https://www.nwrls.com/event/preschool-storytime-35/
LOCATION:Corinne Costin Gibson Memorial Public Library\, 110 Library Drive\, Port St. Joe\, FL\, 32456\, United States
CATEGORIES:Corinne Costin Gibson Memorial Public Library,Events,Locations
ATTACH;FMTTYPE=image/png:https://www.nwrls.com/wp-content/uploads/2025/08/PSJ-Preschool-Storytime.png
END:VEVENT
BEGIN:VEVENT
DTSTART;TZID=America/New_York:20251213T120000
DTEND;TZID=America/New_York:20251213T130000
DTSTAMP:20260419T164340
CREATED:20251114T202502Z
LAST-MODIFIED:20251114T202502Z
UID:20126-1765627200-1765630800@www.nwrls.com
SUMMARY:Teen Book Club (Ages 12 - 17)
DESCRIPTION:Join us for fun book genre discussions and pizza! \nDecember – Harry Potter books
URL:https://www.nwrls.com/event/teen-book-club-ages-12-17/
LOCATION:Corinne Costin Gibson Memorial Public Library\, 110 Library Drive\, Port St. Joe\, FL\, 32456\, United States
CATEGORIES:Corinne Costin Gibson Memorial Public Library,Events,Locations
ATTACH;FMTTYPE=image/jpeg:https://www.nwrls.com/wp-content/uploads/2025/11/3.jpg
END:VEVENT
BEGIN:VEVENT
DTSTART;TZID=America/New_York:20251215T103000
DTEND;TZID=America/New_York:20251215T113000
DTSTAMP:20260419T164340
CREATED:20251114T203637Z
LAST-MODIFIED:20251114T203637Z
UID:20141-1765794600-1765798200@www.nwrls.com
SUMMARY:Strum Your Way to Fun! Ukulele Practice (Adult)
DESCRIPTION:Learn chords and strumming patterns and have fun playing together. All levels welcome; ukuleles available for check-out. (no practices on holidays)
URL:https://www.nwrls.com/event/strum-your-way-to-fun-ukulele-practice-adult-3/
LOCATION:Corinne Costin Gibson Memorial Public Library\, 110 Library Drive\, Port St. Joe\, FL\, 32456\, United States
CATEGORIES:Corinne Costin Gibson Memorial Public Library,Events,Locations
ATTACH;FMTTYPE=image/jpeg:https://www.nwrls.com/wp-content/uploads/2025/11/6-1.jpg
END:VEVENT
BEGIN:VEVENT
DTSTART;TZID=America/New_York:20251215T143000
DTEND;TZID=America/New_York:20251215T170000
DTSTAMP:20260419T164340
CREATED:20251114T204434Z
LAST-MODIFIED:20251114T204434Z
UID:20157-1765809000-1765818000@www.nwrls.com
SUMMARY:Chess Club (All Ages)
DESCRIPTION:All ages and abilities welcome\, including new learners. Adults and homeschoolers can arrive at 2:30 p.m.\, children can follow when school gets out. Chess boards and instruction provided. Program geared for all ages.
URL:https://www.nwrls.com/event/chess-club-all-ages-3/
LOCATION:Corinne Costin Gibson Memorial Public Library\, 110 Library Drive\, Port St. Joe\, FL\, 32456\, United States
CATEGORIES:Corinne Costin Gibson Memorial Public Library,Events,Locations
ATTACH;FMTTYPE=image/jpeg:https://www.nwrls.com/wp-content/uploads/2024/02/Chess-Club-PSJ.jpg
END:VEVENT
BEGIN:VEVENT
DTSTART;TZID=America/New_York:20251216T100000
DTEND;TZID=America/New_York:20251216T140000
DTSTAMP:20260419T164340
CREATED:20251114T204009Z
LAST-MODIFIED:20251114T204009Z
UID:20149-1765879200-1765893600@www.nwrls.com
SUMMARY:Seaside Stitchers
DESCRIPTION:We offer a warm\, seaside welcome to anyone who is interested in needle arts. Bring your latest project and join us as we knit together a more vibrant community!
URL:https://www.nwrls.com/event/seaside-stitchers-8/
LOCATION:Corinne Costin Gibson Memorial Public Library\, 110 Library Drive\, Port St. Joe\, FL\, 32456\, United States
CATEGORIES:Corinne Costin Gibson Memorial Public Library,Events,Locations
ATTACH;FMTTYPE=image/png:https://www.nwrls.com/wp-content/uploads/2025/08/PSJ-images-fall-4.png
END:VEVENT
BEGIN:VEVENT
DTSTART;TZID=America/New_York:20251216T103000
DTEND;TZID=America/New_York:20251216T113000
DTSTAMP:20260419T164340
CREATED:20251114T203119Z
LAST-MODIFIED:20251114T203854Z
UID:20134-1765881000-1765884600@www.nwrls.com
SUMMARY:Christmas Concert with the Ukulele Orchestra of the Forgotten Coast (All Ages)
DESCRIPTION:Ring in the holiday season at this festive concert!
URL:https://www.nwrls.com/event/christmas-concert-with-the-ukulele-orchestra-of-the-forgotten-coast-all-ages/
LOCATION:Corinne Costin Gibson Memorial Public Library\, 110 Library Drive\, Port St. Joe\, FL\, 32456\, United States
CATEGORIES:Corinne Costin Gibson Memorial Public Library,Events,Locations
ATTACH;FMTTYPE=image/jpeg:https://www.nwrls.com/wp-content/uploads/2025/11/5-1.jpg
END:VEVENT
BEGIN:VEVENT
DTSTART;TZID=America/New_York:20251218T110000
DTEND;TZID=America/New_York:20251218T120000
DTSTAMP:20260419T164340
CREATED:20251114T205909Z
LAST-MODIFIED:20251114T205909Z
UID:20189-1766055600-1766059200@www.nwrls.com
SUMMARY:Preschool Storytime
DESCRIPTION:Stories\, songs\, movement and music to instill a love a reading\, followed by time to play with friends in our well-equipped classroom! Program geared for 6 months – 5 years of age with caregiver.
URL:https://www.nwrls.com/event/preschool-storytime-36/
LOCATION:Corinne Costin Gibson Memorial Public Library\, 110 Library Drive\, Port St. Joe\, FL\, 32456\, United States
CATEGORIES:Corinne Costin Gibson Memorial Public Library,Events,Locations
ATTACH;FMTTYPE=image/png:https://www.nwrls.com/wp-content/uploads/2025/08/PSJ-Preschool-Storytime.png
END:VEVENT
BEGIN:VEVENT
DTSTART;TZID=America/New_York:20251222T143000
DTEND;TZID=America/New_York:20251222T170000
DTSTAMP:20260419T164340
CREATED:20251114T204456Z
LAST-MODIFIED:20251114T204456Z
UID:20156-1766413800-1766422800@www.nwrls.com
SUMMARY:Chess Club (All Ages)
DESCRIPTION:All ages and abilities welcome\, including new learners. Adults and homeschoolers can arrive at 2:30 p.m.\, children can follow when school gets out. Chess boards and instruction provided. Program geared for all ages.
URL:https://www.nwrls.com/event/chess-club-all-ages-4/
LOCATION:Corinne Costin Gibson Memorial Public Library\, 110 Library Drive\, Port St. Joe\, FL\, 32456\, United States
CATEGORIES:Corinne Costin Gibson Memorial Public Library,Events,Locations
ATTACH;FMTTYPE=image/jpeg:https://www.nwrls.com/wp-content/uploads/2024/02/Chess-Club-PSJ.jpg
END:VEVENT
BEGIN:VEVENT
DTSTART;TZID=America/New_York:20251223T100000
DTEND;TZID=America/New_York:20251223T140000
DTSTAMP:20260419T164340
CREATED:20251114T204035Z
LAST-MODIFIED:20251114T204035Z
UID:20148-1766484000-1766498400@www.nwrls.com
SUMMARY:Seaside Stitchers
DESCRIPTION:We offer a warm\, seaside welcome to anyone who is interested in needle arts. Bring your latest project and join us as we knit together a more vibrant community!
URL:https://www.nwrls.com/event/seaside-stitchers-9/
LOCATION:Corinne Costin Gibson Memorial Public Library\, 110 Library Drive\, Port St. Joe\, FL\, 32456\, United States
CATEGORIES:Corinne Costin Gibson Memorial Public Library,Events,Locations
ATTACH;FMTTYPE=image/png:https://www.nwrls.com/wp-content/uploads/2025/08/PSJ-images-fall-4.png
END:VEVENT
BEGIN:VEVENT
DTSTART;VALUE=DATE:20251224
DTEND;VALUE=DATE:20251226
DTSTAMP:20260419T164340
CREATED:20251205T210858Z
LAST-MODIFIED:20251205T210858Z
UID:20506-1766534400-1766707199@www.nwrls.com
SUMMARY:Library Closed\, Christmas Holiday
DESCRIPTION:All libraries in the Northwest Regional Library System will be closed on Wednesday\, December 24th\, and Thursday\, December 25th for the Christmas holidays. \n*Libraries will also close by 5 p.m. on Tuesday\, December 23rd. (if usually open)
URL:https://www.nwrls.com/event/library-closed-christmas-holiday/
LOCATION:FL
CATEGORIES:Bay County Public Library,Charles Whitehead Public Library,Corinne Costin Gibson Memorial Public Library,Events,Harrell Memorial Public Library,Jimmy Weaver Memorial Library,Locations,Panama City Beach Library,Parker Public Library
ATTACH;FMTTYPE=image/jpeg:https://www.nwrls.com/wp-content/uploads/2025/12/Christmas-closure.jpg
END:VEVENT
BEGIN:VEVENT
DTSTART;TZID=America/New_York:20251229T103000
DTEND;TZID=America/New_York:20251229T113000
DTSTAMP:20260419T164340
CREATED:20251114T203751Z
LAST-MODIFIED:20251114T203751Z
UID:20139-1767004200-1767007800@www.nwrls.com
SUMMARY:Strum Your Way to Fun! Ukulele Practice (Adult)
DESCRIPTION:Learn chords and strumming patterns and have fun playing together. All levels welcome; ukuleles available for check-out. (no practices on holidays)
URL:https://www.nwrls.com/event/strum-your-way-to-fun-ukulele-practice-adult-5/
LOCATION:Corinne Costin Gibson Memorial Public Library\, 110 Library Drive\, Port St. Joe\, FL\, 32456\, United States
CATEGORIES:Corinne Costin Gibson Memorial Public Library,Events,Locations
ATTACH;FMTTYPE=image/jpeg:https://www.nwrls.com/wp-content/uploads/2025/11/6-1.jpg
END:VEVENT
BEGIN:VEVENT
DTSTART;TZID=America/New_York:20251229T143000
DTEND;TZID=America/New_York:20251229T170000
DTSTAMP:20260419T164340
CREATED:20251114T204635Z
LAST-MODIFIED:20251114T204635Z
UID:20166-1767018600-1767027600@www.nwrls.com
SUMMARY:Chess Club (All Ages)
DESCRIPTION:All ages and abilities welcome\, including new learners. Adults and homeschoolers can arrive at 2:30 p.m.\, children can follow when school gets out. Chess boards and instruction provided. Program geared for all ages.
URL:https://www.nwrls.com/event/chess-club-all-ages-5/
LOCATION:Corinne Costin Gibson Memorial Public Library\, 110 Library Drive\, Port St. Joe\, FL\, 32456\, United States
CATEGORIES:Corinne Costin Gibson Memorial Public Library,Events,Locations
ATTACH;FMTTYPE=image/jpeg:https://www.nwrls.com/wp-content/uploads/2024/02/Chess-Club-PSJ.jpg
END:VEVENT
END:VCALENDAR