BEGIN:VCALENDAR
VERSION:2.0
PRODID:-//Northwest Regional Library System - ECPv6.15.20//NONSGML v1.0//EN
CALSCALE:GREGORIAN
METHOD:PUBLISH
X-ORIGINAL-URL:https://www.nwrls.com
X-WR-CALDESC:Events for Northwest Regional Library System
REFRESH-INTERVAL;VALUE=DURATION:PT1H
X-Robots-Tag:noindex
X-PUBLISHED-TTL:PT1H
BEGIN:VTIMEZONE
TZID:America/New_York
BEGIN:DAYLIGHT
TZOFFSETFROM:-0500
TZOFFSETTO:-0400
TZNAME:EDT
DTSTART:20240310T070000
END:DAYLIGHT
BEGIN:STANDARD
TZOFFSETFROM:-0400
TZOFFSETTO:-0500
TZNAME:EST
DTSTART:20241103T060000
END:STANDARD
BEGIN:DAYLIGHT
TZOFFSETFROM:-0500
TZOFFSETTO:-0400
TZNAME:EDT
DTSTART:20250309T070000
END:DAYLIGHT
BEGIN:STANDARD
TZOFFSETFROM:-0400
TZOFFSETTO:-0500
TZNAME:EST
DTSTART:20251102T060000
END:STANDARD
BEGIN:DAYLIGHT
TZOFFSETFROM:-0500
TZOFFSETTO:-0400
TZNAME:EDT
DTSTART:20260308T070000
END:DAYLIGHT
BEGIN:STANDARD
TZOFFSETFROM:-0400
TZOFFSETTO:-0500
TZNAME:EST
DTSTART:20261101T060000
END:STANDARD
END:VTIMEZONE
BEGIN:VTIMEZONE
TZID:America/Chicago
BEGIN:DAYLIGHT
TZOFFSETFROM:-0600
TZOFFSETTO:-0500
TZNAME:CDT
DTSTART:20240310T080000
END:DAYLIGHT
BEGIN:STANDARD
TZOFFSETFROM:-0500
TZOFFSETTO:-0600
TZNAME:CST
DTSTART:20241103T070000
END:STANDARD
BEGIN:DAYLIGHT
TZOFFSETFROM:-0600
TZOFFSETTO:-0500
TZNAME:CDT
DTSTART:20250309T080000
END:DAYLIGHT
BEGIN:STANDARD
TZOFFSETFROM:-0500
TZOFFSETTO:-0600
TZNAME:CST
DTSTART:20251102T070000
END:STANDARD
BEGIN:DAYLIGHT
TZOFFSETFROM:-0600
TZOFFSETTO:-0500
TZNAME:CDT
DTSTART:20260308T080000
END:DAYLIGHT
BEGIN:STANDARD
TZOFFSETFROM:-0500
TZOFFSETTO:-0600
TZNAME:CST
DTSTART:20261101T070000
END:STANDARD
END:VTIMEZONE
BEGIN:VEVENT
DTSTART;TZID=America/New_York:20250314T110000
DTEND;TZID=America/New_York:20250314T120000
DTSTAMP:20260422T094526
CREATED:20250214T145522Z
LAST-MODIFIED:20250214T145522Z
UID:17963-1741950000-1741953600@www.nwrls.com
SUMMARY:Preschool Storytime
DESCRIPTION:Stories\, songs\, movement and music to instill a love a reading\, followed by time to play with friends in our well equipped classroom! Program geared for 18 months – 5 years of age with caregiver.
URL:https://www.nwrls.com/event/preschool-storytime-2/
LOCATION:Corinne Costin Gibson Memorial Public Library\, 110 Library Drive\, Port St. Joe\, FL\, 32456\, United States
CATEGORIES:Corinne Costin Gibson Memorial Public Library,Events,Locations
ATTACH;FMTTYPE=image/jpeg:https://www.nwrls.com/wp-content/uploads/2024/08/Storytime-PSJ.jpg
END:VEVENT
BEGIN:VEVENT
DTSTART;TZID=America/New_York:20250315T100000
DTEND;TZID=America/New_York:20250315T140000
DTSTAMP:20260422T094526
CREATED:20250214T161318Z
LAST-MODIFIED:20250214T161318Z
UID:18068-1742032800-1742047200@www.nwrls.com
SUMMARY:Seaside Stitchers
DESCRIPTION:We offer a warm\, seaside welcome to anyone who is interested in needle arts. Bring your latest project and join us as we knit together a more vibrant community!
URL:https://www.nwrls.com/event/seaside-stitchers-4/
LOCATION:Corinne Costin Gibson Memorial Public Library\, 110 Library Drive\, Port St. Joe\, FL\, 32456\, United States
CATEGORIES:Corinne Costin Gibson Memorial Public Library,Events,Locations
ATTACH;FMTTYPE=image/jpeg:https://www.nwrls.com/wp-content/uploads/2023/11/Seaside-Stitchers-PSJ-1.jpg
END:VEVENT
BEGIN:VEVENT
DTSTART;TZID=America/New_York:20250315T103000
DTEND;TZID=America/New_York:20250315T113000
DTSTAMP:20260422T094526
CREATED:20250214T160027Z
LAST-MODIFIED:20250214T194215Z
UID:18056-1742034600-1742038200@www.nwrls.com
SUMMARY:Learn and Grow with the Master Gardeners!
DESCRIPTION:Join us for a presentation by the UF/IFAS Master Gardener Volunteers about gardening topics in our region! Call the library for monthly topic at 850-229-8879.
URL:https://www.nwrls.com/event/learn-and-grow-with-the-master-gardeners/
LOCATION:Corinne Costin Gibson Memorial Public Library\, 110 Library Drive\, Port St. Joe\, FL\, 32456\, United States
CATEGORIES:Corinne Costin Gibson Memorial Public Library,Events,Locations
ATTACH;FMTTYPE=image/jpeg:https://www.nwrls.com/wp-content/uploads/2025/02/Master-Gardeners-1.jpg
END:VEVENT
BEGIN:VEVENT
DTSTART;TZID=America/Chicago:20250315T140000
DTEND;TZID=America/Chicago:20250315T150000
DTSTAMP:20260422T094526
CREATED:20250214T162128Z
LAST-MODIFIED:20250214T162128Z
UID:18092-1742047200-1742050800@www.nwrls.com
SUMMARY:Community Drum Circle
DESCRIPTION:Our community drum circle invites people from all backgrounds and musical abilities to come together to create music collaboratively and spontaneously\, with the primary intention of fostering connection\, expression\, and a sense of community through shared rhythm\, regardless of musical training or experience level. Facilitated by Margie Sorge. No experience needed; instruments provided or bring you own. All ages program.
URL:https://www.nwrls.com/event/community-drum-circle-4/
LOCATION:Corinne Costin Gibson Memorial Public Library\, 110 Library Drive\, Port St. Joe\, FL\, 32456\, United States
CATEGORIES:Corinne Costin Gibson Memorial Public Library,Events,Locations
ATTACH;FMTTYPE=image/jpeg:https://www.nwrls.com/wp-content/uploads/2025/02/Drum-Circle.jpg
END:VEVENT
BEGIN:VEVENT
DTSTART;TZID=America/New_York:20250317T143000
DTEND;TZID=America/New_York:20250317T170000
DTSTAMP:20260422T094526
CREATED:20250214T153123Z
LAST-MODIFIED:20250214T153123Z
UID:18015-1742221800-1742230800@www.nwrls.com
SUMMARY:Chess Club
DESCRIPTION:All ages and abilities welcome\, including new learners. Adults and homeschoolers can arrive at 2:30 p.m.\, children can follow when school gets out. Chess boards and instruction provided. Program geared for all ages.
URL:https://www.nwrls.com/event/chess-club-25/
LOCATION:Corinne Costin Gibson Memorial Public Library\, 110 Library Drive\, Port St. Joe\, FL\, 32456\, United States
CATEGORIES:Corinne Costin Gibson Memorial Public Library,Events,Locations
ATTACH;FMTTYPE=image/jpeg:https://www.nwrls.com/wp-content/uploads/2024/02/Chess-Club-PSJ.jpg
END:VEVENT
BEGIN:VEVENT
DTSTART;TZID=America/New_York:20250318T140000
DTEND;TZID=America/New_York:20250318T150000
DTSTAMP:20260422T094526
CREATED:20250210T213513Z
LAST-MODIFIED:20250210T213513Z
UID:17676-1742306400-1742310000@www.nwrls.com
SUMMARY:Past Peoples of the St. Joe Bay Region with USF archaeologist\, Nancy White
DESCRIPTION:Program presented by USF archaeologist\, Nancy White. The natural environments around St. Joseph Bay have provided abundant resources and welcoming climates for many different peoples through time. Join us for an informative talk describing the archaeological record from the first humans to arrive (14\,000+ years ago) through many Native American cultures and into modern times\, highlighting the late prehistoric fisher-foragers and the short-lived nineteenth-century town of old St. Joseph. The research is always made possible by the help of local residents who know the land.
URL:https://www.nwrls.com/event/past-peoples-of-the-st-joe-bay-region-with-usf-archaeologist-nancy-white/
LOCATION:Corinne Costin Gibson Memorial Public Library\, 110 Library Drive\, Port St. Joe\, FL\, 32456\, United States
CATEGORIES:Corinne Costin Gibson Memorial Public Library,Events,Locations
ATTACH;FMTTYPE=image/jpeg:https://www.nwrls.com/wp-content/uploads/2025/02/Gulf-Tuesdays-at-2-2.jpg
END:VEVENT
BEGIN:VEVENT
DTSTART;TZID=America/New_York:20250320T153000
DTEND;TZID=America/New_York:20250320T163000
DTSTAMP:20260422T094526
CREATED:20250214T151532Z
LAST-MODIFIED:20250214T151532Z
UID:17991-1742484600-1742488200@www.nwrls.com
SUMMARY:Nintendo Switch Tournament Play (Ages 6 and up)
DESCRIPTION:Join friends for tournament style play on the big screen. Up to four players at a time; kids ages 6 and up.
URL:https://www.nwrls.com/event/nintendo-switch-tournament-play-ages-6-and-up/
LOCATION:Corinne Costin Gibson Memorial Public Library\, 110 Library Drive\, Port St. Joe\, FL\, 32456\, United States
CATEGORIES:Corinne Costin Gibson Memorial Public Library,Events,Locations
ATTACH;FMTTYPE=image/jpeg:https://www.nwrls.com/wp-content/uploads/2024/02/PSJ-Nintendo-Switch-Gaming-Group.jpg
END:VEVENT
BEGIN:VEVENT
DTSTART;TZID=America/New_York:20250321T110000
DTEND;TZID=America/New_York:20250321T120000
DTSTAMP:20260422T094526
CREATED:20250214T145544Z
LAST-MODIFIED:20250214T145544Z
UID:17965-1742554800-1742558400@www.nwrls.com
SUMMARY:Preschool Storytime
DESCRIPTION:Stories\, songs\, movement and music to instill a love a reading\, followed by time to play with friends in our well equipped classroom! Program geared for 18 months – 5 years of age with caregiver.
URL:https://www.nwrls.com/event/preschool-storytime-3/
LOCATION:Corinne Costin Gibson Memorial Public Library\, 110 Library Drive\, Port St. Joe\, FL\, 32456\, United States
CATEGORIES:Corinne Costin Gibson Memorial Public Library,Events,Locations
ATTACH;FMTTYPE=image/jpeg:https://www.nwrls.com/wp-content/uploads/2024/08/Storytime-PSJ.jpg
END:VEVENT
BEGIN:VEVENT
DTSTART;TZID=America/New_York:20250322T100000
DTEND;TZID=America/New_York:20250322T140000
DTSTAMP:20260422T094526
CREATED:20250214T161333Z
LAST-MODIFIED:20250214T161333Z
UID:18070-1742637600-1742652000@www.nwrls.com
SUMMARY:Seaside Stitchers
DESCRIPTION:We offer a warm\, seaside welcome to anyone who is interested in needle arts. Bring your latest project and join us as we knit together a more vibrant community!
URL:https://www.nwrls.com/event/seaside-stitchers-5/
LOCATION:Corinne Costin Gibson Memorial Public Library\, 110 Library Drive\, Port St. Joe\, FL\, 32456\, United States
CATEGORIES:Corinne Costin Gibson Memorial Public Library,Events,Locations
ATTACH;FMTTYPE=image/jpeg:https://www.nwrls.com/wp-content/uploads/2023/11/Seaside-Stitchers-PSJ-1.jpg
END:VEVENT
BEGIN:VEVENT
DTSTART;TZID=America/New_York:20250324T103000
DTEND;TZID=America/New_York:20250324T113000
DTSTAMP:20260422T094526
CREATED:20250214T154721Z
LAST-MODIFIED:20250214T154721Z
UID:18041-1742812200-1742815800@www.nwrls.com
SUMMARY:Library Book Club
DESCRIPTION:New members welcome to join our Library Book Club! Contact the Library for book club titles at 850-229-8879.
URL:https://www.nwrls.com/event/library-book-club/
LOCATION:Corinne Costin Gibson Memorial Public Library\, 110 Library Drive\, Port St. Joe\, FL\, 32456\, United States
CATEGORIES:Corinne Costin Gibson Memorial Public Library,Events,Locations
ATTACH;FMTTYPE=image/jpeg:https://www.nwrls.com/wp-content/uploads/2025/02/Library-Book-Club-2.jpg
END:VEVENT
BEGIN:VEVENT
DTSTART;TZID=America/New_York:20250324T143000
DTEND;TZID=America/New_York:20250324T170000
DTSTAMP:20260422T094526
CREATED:20250214T153138Z
LAST-MODIFIED:20250214T194357Z
UID:18017-1742826600-1742835600@www.nwrls.com
SUMMARY:Chess Club
DESCRIPTION:All ages and abilities welcome\, including new learners. Adults and homeschoolers can arrive at 2:30 p.m.\, children can follow when school gets out. Chess boards and instruction provided. Program geared for all ages.
URL:https://www.nwrls.com/event/chess-club-32/
LOCATION:Corinne Costin Gibson Memorial Public Library\, 110 Library Drive\, Port St. Joe\, FL\, 32456\, United States
CATEGORIES:Corinne Costin Gibson Memorial Public Library,Events,Locations
ATTACH;FMTTYPE=image/jpeg:https://www.nwrls.com/wp-content/uploads/2024/02/Chess-Club-PSJ.jpg
END:VEVENT
BEGIN:VEVENT
DTSTART;TZID=America/New_York:20250328T110000
DTEND;TZID=America/New_York:20250328T120000
DTSTAMP:20260422T094526
CREATED:20250214T145611Z
LAST-MODIFIED:20250214T145611Z
UID:17967-1743159600-1743163200@www.nwrls.com
SUMMARY:Preschool Storytime
DESCRIPTION:Stories\, songs\, movement and music to instill a love a reading\, followed by time to play with friends in our well equipped classroom! Program geared for 18 months – 5 years of age with caregiver.
URL:https://www.nwrls.com/event/preschool-storytime-4/
LOCATION:Corinne Costin Gibson Memorial Public Library\, 110 Library Drive\, Port St. Joe\, FL\, 32456\, United States
CATEGORIES:Corinne Costin Gibson Memorial Public Library,Events,Locations
ATTACH;FMTTYPE=image/jpeg:https://www.nwrls.com/wp-content/uploads/2024/08/Storytime-PSJ.jpg
END:VEVENT
BEGIN:VEVENT
DTSTART;TZID=America/New_York:20250329T100000
DTEND;TZID=America/New_York:20250329T140000
DTSTAMP:20260422T094526
CREATED:20250214T161345Z
LAST-MODIFIED:20250214T161345Z
UID:18072-1743242400-1743256800@www.nwrls.com
SUMMARY:Seaside Stitchers
DESCRIPTION:We offer a warm\, seaside welcome to anyone who is interested in needle arts. Bring your latest project and join us as we knit together a more vibrant community!
URL:https://www.nwrls.com/event/seaside-stitchers-6/
LOCATION:Corinne Costin Gibson Memorial Public Library\, 110 Library Drive\, Port St. Joe\, FL\, 32456\, United States
CATEGORIES:Corinne Costin Gibson Memorial Public Library,Events,Locations
ATTACH;FMTTYPE=image/jpeg:https://www.nwrls.com/wp-content/uploads/2023/11/Seaside-Stitchers-PSJ-1.jpg
END:VEVENT
BEGIN:VEVENT
DTSTART;TZID=America/New_York:20250331T143000
DTEND;TZID=America/New_York:20250331T170000
DTSTAMP:20260422T094526
CREATED:20250214T153149Z
LAST-MODIFIED:20250214T153149Z
UID:18019-1743431400-1743440400@www.nwrls.com
SUMMARY:Chess Club
DESCRIPTION:All ages and abilities welcome\, including new learners. Adults and homeschoolers can arrive at 2:30 p.m.\, children can follow when school gets out. Chess boards and instruction provided. Program geared for all ages.
URL:https://www.nwrls.com/event/chess-club-33/
LOCATION:Corinne Costin Gibson Memorial Public Library\, 110 Library Drive\, Port St. Joe\, FL\, 32456\, United States
CATEGORIES:Corinne Costin Gibson Memorial Public Library,Events,Locations
ATTACH;FMTTYPE=image/jpeg:https://www.nwrls.com/wp-content/uploads/2024/02/Chess-Club-PSJ.jpg
END:VEVENT
END:VCALENDAR