BEGIN:VCALENDAR
VERSION:2.0
PRODID:-//Northwest Regional Library System - ECPv6.15.20//NONSGML v1.0//EN
CALSCALE:GREGORIAN
METHOD:PUBLISH
X-ORIGINAL-URL:https://www.nwrls.com
X-WR-CALDESC:Events for Northwest Regional Library System
REFRESH-INTERVAL;VALUE=DURATION:PT1H
X-Robots-Tag:noindex
X-PUBLISHED-TTL:PT1H
BEGIN:VTIMEZONE
TZID:America/Chicago
BEGIN:DAYLIGHT
TZOFFSETFROM:-0600
TZOFFSETTO:-0500
TZNAME:CDT
DTSTART:20250309T080000
END:DAYLIGHT
BEGIN:STANDARD
TZOFFSETFROM:-0500
TZOFFSETTO:-0600
TZNAME:CST
DTSTART:20251102T070000
END:STANDARD
BEGIN:DAYLIGHT
TZOFFSETFROM:-0600
TZOFFSETTO:-0500
TZNAME:CDT
DTSTART:20260308T080000
END:DAYLIGHT
BEGIN:STANDARD
TZOFFSETFROM:-0500
TZOFFSETTO:-0600
TZNAME:CST
DTSTART:20261101T070000
END:STANDARD
BEGIN:DAYLIGHT
TZOFFSETFROM:-0600
TZOFFSETTO:-0500
TZNAME:CDT
DTSTART:20270314T080000
END:DAYLIGHT
BEGIN:STANDARD
TZOFFSETFROM:-0500
TZOFFSETTO:-0600
TZNAME:CST
DTSTART:20271107T070000
END:STANDARD
END:VTIMEZONE
BEGIN:VEVENT
DTSTART;TZID=America/Chicago:20260301T090000
DTEND;TZID=America/Chicago:20260531T130000
DTSTAMP:20260419T092808
CREATED:20260211T175643Z
LAST-MODIFIED:20260211T175643Z
UID:20743-1772355600-1780232400@www.nwrls.com
SUMMARY:Spring Reading Challenge
DESCRIPTION:During March – May\, kids that check out 5 books can add to the library’s Spring collage!
URL:https://www.nwrls.com/event/spring-reading-challenge/
LOCATION:Charles Whitehead Memorial Public Library\, 314 North Second Street\, Wewahitchka\, FL\, 32465\, United States
CATEGORIES:Charles Whitehead Public Library,Events,Locations
ATTACH;FMTTYPE=image/jpeg:https://www.nwrls.com/wp-content/uploads/2026/02/Spring-Reading-Challenge.jpg
END:VEVENT
BEGIN:VEVENT
DTSTART;TZID=America/Chicago:20260421T100000
DTEND;TZID=America/Chicago:20260421T103000
DTSTAMP:20260419T092808
CREATED:20260211T174226Z
LAST-MODIFIED:20260211T174226Z
UID:20707-1776765600-1776767400@www.nwrls.com
SUMMARY:Budding Bookworms
DESCRIPTION:Stories\, songs\, & crafts to instill a love of reading! Recommended for up to 5 years of age with a caregiver.
URL:https://www.nwrls.com/event/budding-bookworms-53/
LOCATION:Charles Whitehead Memorial Public Library\, 314 North Second Street\, Wewahitchka\, FL\, 32465\, United States
CATEGORIES:Charles Whitehead Public Library,Events,Locations
ATTACH;FMTTYPE=image/jpeg:https://www.nwrls.com/wp-content/uploads/2026/02/Budding-Bookworms-Tuesdays.jpg
END:VEVENT
BEGIN:VEVENT
DTSTART;TZID=America/Chicago:20260423T153000
DTEND;TZID=America/Chicago:20260423T170000
DTSTAMP:20260419T092808
CREATED:20260211T210709Z
LAST-MODIFIED:20260211T210709Z
UID:20868-1776958200-1776963600@www.nwrls.com
SUMMARY:Sewing Class:  Grocery Bags (Part 2)
DESCRIPTION:Learn to make reusable grocery bags using sewing machines! This is an all ages program. (caregivers should be with children).  This is a two-part class!\nRegistration required\, call 850-639-2419 to register.
URL:https://www.nwrls.com/event/sewing-class-grocery-bags-part-2/
LOCATION:Charles Whitehead Memorial Public Library\, 314 North Second Street\, Wewahitchka\, FL\, 32465\, United States
CATEGORIES:Charles Whitehead Public Library,Events,Locations
ATTACH;FMTTYPE=image/jpeg:https://www.nwrls.com/wp-content/uploads/2026/02/Adult-Sewing-Class-Grocery-Bag.jpg
END:VEVENT
BEGIN:VEVENT
DTSTART;TZID=America/Chicago:20260427T100000
DTEND;TZID=America/Chicago:20260427T110000
DTSTAMP:20260419T092808
CREATED:20260211T182338Z
LAST-MODIFIED:20260211T182338Z
UID:20793-1777284000-1777287600@www.nwrls.com
SUMMARY:Busy Bee Readers Book Club
DESCRIPTION:Please contact Wewahitchka Library for monthly book club titles by calling 850-639-2419. Program geared for adults. New members always welcome!
URL:https://www.nwrls.com/event/busy-bee-readers-book-club-17/
LOCATION:Charles Whitehead Memorial Public Library\, 314 North Second Street\, Wewahitchka\, FL\, 32465\, United States
CATEGORIES:Charles Whitehead Public Library,Events,Locations
ATTACH;FMTTYPE=image/jpeg:https://www.nwrls.com/wp-content/uploads/2026/02/Busy-Bee-Readers-Book-Club-March-May.jpg
END:VEVENT
BEGIN:VEVENT
DTSTART;TZID=America/Chicago:20260428T100000
DTEND;TZID=America/Chicago:20260428T103000
DTSTAMP:20260419T092808
CREATED:20260211T174259Z
LAST-MODIFIED:20260211T174259Z
UID:20706-1777370400-1777372200@www.nwrls.com
SUMMARY:Budding Bookworms
DESCRIPTION:Stories\, songs\, & crafts to instill a love of reading! Recommended for up to 5 years of age with a caregiver.
URL:https://www.nwrls.com/event/budding-bookworms-54/
LOCATION:Charles Whitehead Memorial Public Library\, 314 North Second Street\, Wewahitchka\, FL\, 32465\, United States
CATEGORIES:Charles Whitehead Public Library,Events,Locations
ATTACH;FMTTYPE=image/jpeg:https://www.nwrls.com/wp-content/uploads/2026/02/Budding-Bookworms-Tuesdays.jpg
END:VEVENT
BEGIN:VEVENT
DTSTART;TZID=America/Chicago:20260430T153000
DTEND;TZID=America/Chicago:20260430T163000
DTSTAMP:20260419T092808
CREATED:20260211T180725Z
LAST-MODIFIED:20260211T180726Z
UID:20766-1777563000-1777566600@www.nwrls.com
SUMMARY:Afterschool Bookworms
DESCRIPTION:Enjoy stories\, songs\, activities\, and crafts to instill a love of reading!
URL:https://www.nwrls.com/event/afterschool-bookworms-3/
LOCATION:Charles Whitehead Memorial Public Library\, 314 North Second Street\, Wewahitchka\, FL\, 32465\, United States
CATEGORIES:Charles Whitehead Public Library,Events,Locations
ATTACH;FMTTYPE=image/jpeg:https://www.nwrls.com/wp-content/uploads/2026/02/Afterschool-Bookworms-March-May.jpg
END:VEVENT
END:VCALENDAR