BEGIN:VCALENDAR
VERSION:2.0
PRODID:-//Northwest Regional Library System - ECPv6.15.20//NONSGML v1.0//EN
CALSCALE:GREGORIAN
METHOD:PUBLISH
X-WR-CALNAME:Northwest Regional Library System
X-ORIGINAL-URL:https://www.nwrls.com
X-WR-CALDESC:Events for Northwest Regional Library System
REFRESH-INTERVAL;VALUE=DURATION:PT1H
X-Robots-Tag:noindex
X-PUBLISHED-TTL:PT1H
BEGIN:VTIMEZONE
TZID:America/Chicago
BEGIN:DAYLIGHT
TZOFFSETFROM:-0600
TZOFFSETTO:-0500
TZNAME:CDT
DTSTART:20250309T080000
END:DAYLIGHT
BEGIN:STANDARD
TZOFFSETFROM:-0500
TZOFFSETTO:-0600
TZNAME:CST
DTSTART:20251102T070000
END:STANDARD
BEGIN:DAYLIGHT
TZOFFSETFROM:-0600
TZOFFSETTO:-0500
TZNAME:CDT
DTSTART:20260308T080000
END:DAYLIGHT
BEGIN:STANDARD
TZOFFSETFROM:-0500
TZOFFSETTO:-0600
TZNAME:CST
DTSTART:20261101T070000
END:STANDARD
BEGIN:DAYLIGHT
TZOFFSETFROM:-0600
TZOFFSETTO:-0500
TZNAME:CDT
DTSTART:20270314T080000
END:DAYLIGHT
BEGIN:STANDARD
TZOFFSETFROM:-0500
TZOFFSETTO:-0600
TZNAME:CST
DTSTART:20271107T070000
END:STANDARD
END:VTIMEZONE
BEGIN:VEVENT
DTSTART;TZID=America/Chicago:20260301T090000
DTEND;TZID=America/Chicago:20260531T130000
DTSTAMP:20260419T092357
CREATED:20260211T175643Z
LAST-MODIFIED:20260211T175643Z
UID:20743-1772355600-1780232400@www.nwrls.com
SUMMARY:Spring Reading Challenge
DESCRIPTION:During March – May\, kids that check out 5 books can add to the library’s Spring collage!
URL:https://www.nwrls.com/event/spring-reading-challenge/
LOCATION:Charles Whitehead Memorial Public Library\, 314 North Second Street\, Wewahitchka\, FL\, 32465\, United States
CATEGORIES:Charles Whitehead Public Library,Events,Locations
ATTACH;FMTTYPE=image/jpeg:https://www.nwrls.com/wp-content/uploads/2026/02/Spring-Reading-Challenge.jpg
END:VEVENT
BEGIN:VEVENT
DTSTART;TZID=America/Chicago:20260421T100000
DTEND;TZID=America/Chicago:20260421T103000
DTSTAMP:20260419T092357
CREATED:20260211T174226Z
LAST-MODIFIED:20260211T174226Z
UID:20707-1776765600-1776767400@www.nwrls.com
SUMMARY:Budding Bookworms
DESCRIPTION:Stories\, songs\, & crafts to instill a love of reading! Recommended for up to 5 years of age with a caregiver.
URL:https://www.nwrls.com/event/budding-bookworms-53/
LOCATION:Charles Whitehead Memorial Public Library\, 314 North Second Street\, Wewahitchka\, FL\, 32465\, United States
CATEGORIES:Charles Whitehead Public Library,Events,Locations
ATTACH;FMTTYPE=image/jpeg:https://www.nwrls.com/wp-content/uploads/2026/02/Budding-Bookworms-Tuesdays.jpg
END:VEVENT
BEGIN:VEVENT
DTSTART;TZID=America/Chicago:20260423T153000
DTEND;TZID=America/Chicago:20260423T170000
DTSTAMP:20260419T092357
CREATED:20260211T210709Z
LAST-MODIFIED:20260211T210709Z
UID:20868-1776958200-1776963600@www.nwrls.com
SUMMARY:Sewing Class:  Grocery Bags (Part 2)
DESCRIPTION:Learn to make reusable grocery bags using sewing machines! This is an all ages program. (caregivers should be with children).  This is a two-part class!\nRegistration required\, call 850-639-2419 to register.
URL:https://www.nwrls.com/event/sewing-class-grocery-bags-part-2/
LOCATION:Charles Whitehead Memorial Public Library\, 314 North Second Street\, Wewahitchka\, FL\, 32465\, United States
CATEGORIES:Charles Whitehead Public Library,Events,Locations
ATTACH;FMTTYPE=image/jpeg:https://www.nwrls.com/wp-content/uploads/2026/02/Adult-Sewing-Class-Grocery-Bag.jpg
END:VEVENT
BEGIN:VEVENT
DTSTART;TZID=America/Chicago:20260427T100000
DTEND;TZID=America/Chicago:20260427T110000
DTSTAMP:20260419T092357
CREATED:20260211T182338Z
LAST-MODIFIED:20260211T182338Z
UID:20793-1777284000-1777287600@www.nwrls.com
SUMMARY:Busy Bee Readers Book Club
DESCRIPTION:Please contact Wewahitchka Library for monthly book club titles by calling 850-639-2419. Program geared for adults. New members always welcome!
URL:https://www.nwrls.com/event/busy-bee-readers-book-club-17/
LOCATION:Charles Whitehead Memorial Public Library\, 314 North Second Street\, Wewahitchka\, FL\, 32465\, United States
CATEGORIES:Charles Whitehead Public Library,Events,Locations
ATTACH;FMTTYPE=image/jpeg:https://www.nwrls.com/wp-content/uploads/2026/02/Busy-Bee-Readers-Book-Club-March-May.jpg
END:VEVENT
BEGIN:VEVENT
DTSTART;TZID=America/Chicago:20260428T100000
DTEND;TZID=America/Chicago:20260428T103000
DTSTAMP:20260419T092357
CREATED:20260211T174259Z
LAST-MODIFIED:20260211T174259Z
UID:20706-1777370400-1777372200@www.nwrls.com
SUMMARY:Budding Bookworms
DESCRIPTION:Stories\, songs\, & crafts to instill a love of reading! Recommended for up to 5 years of age with a caregiver.
URL:https://www.nwrls.com/event/budding-bookworms-54/
LOCATION:Charles Whitehead Memorial Public Library\, 314 North Second Street\, Wewahitchka\, FL\, 32465\, United States
CATEGORIES:Charles Whitehead Public Library,Events,Locations
ATTACH;FMTTYPE=image/jpeg:https://www.nwrls.com/wp-content/uploads/2026/02/Budding-Bookworms-Tuesdays.jpg
END:VEVENT
BEGIN:VEVENT
DTSTART;TZID=America/Chicago:20260430T153000
DTEND;TZID=America/Chicago:20260430T163000
DTSTAMP:20260419T092357
CREATED:20260211T180725Z
LAST-MODIFIED:20260211T180726Z
UID:20766-1777563000-1777566600@www.nwrls.com
SUMMARY:Afterschool Bookworms
DESCRIPTION:Enjoy stories\, songs\, activities\, and crafts to instill a love of reading!
URL:https://www.nwrls.com/event/afterschool-bookworms-3/
LOCATION:Charles Whitehead Memorial Public Library\, 314 North Second Street\, Wewahitchka\, FL\, 32465\, United States
CATEGORIES:Charles Whitehead Public Library,Events,Locations
ATTACH;FMTTYPE=image/jpeg:https://www.nwrls.com/wp-content/uploads/2026/02/Afterschool-Bookworms-March-May.jpg
END:VEVENT
BEGIN:VEVENT
DTSTART;TZID=America/Chicago:20260501T153000
DTEND;TZID=America/Chicago:20260501T163000
DTSTAMP:20260419T092357
CREATED:20260211T180213Z
LAST-MODIFIED:20260211T180213Z
UID:20757-1777649400-1777653000@www.nwrls.com
SUMMARY:Chess Club
DESCRIPTION:All ages and levels of experience are welcome: adults\, teens and kids! \nChess board and pieces provided. You may also bring your own. \n 
URL:https://www.nwrls.com/event/chess-club-70/
LOCATION:Charles Whitehead Memorial Public Library\, 314 North Second Street\, Wewahitchka\, FL\, 32465\, United States
CATEGORIES:Charles Whitehead Public Library,Events,Locations
ATTACH;FMTTYPE=image/jpeg:https://www.nwrls.com/wp-content/uploads/2025/11/Chess-Club-without-dates.jpg
END:VEVENT
BEGIN:VEVENT
DTSTART;TZID=America/Chicago:20260502T100000
DTEND;TZID=America/Chicago:20260502T110000
DTSTAMP:20260419T092357
CREATED:20260211T181635Z
LAST-MODIFIED:20260211T181635Z
UID:20774-1777716000-1777719600@www.nwrls.com
SUMMARY:Simply Saturday Book Club
DESCRIPTION:Call the Wewahitchka Library at 850-639-2419 for our monthly book club titles! New members are always welcome.
URL:https://www.nwrls.com/event/simply-saturday-book-club-11/
LOCATION:Charles Whitehead Memorial Public Library\, 314 North Second Street\, Wewahitchka\, FL\, 32465\, United States
CATEGORIES:Charles Whitehead Public Library,Events,Locations
ATTACH;FMTTYPE=image/jpeg:https://www.nwrls.com/wp-content/uploads/2026/02/Simply-Saturday-Book-Club-March-May.jpg
END:VEVENT
BEGIN:VEVENT
DTSTART;TZID=America/Chicago:20260502T110000
DTEND;TZID=America/Chicago:20260502T120000
DTSTAMP:20260419T092357
CREATED:20260213T191101Z
LAST-MODIFIED:20260213T191101Z
UID:21162-1777719600-1777723200@www.nwrls.com
SUMMARY:Saturday Adventures:  Honeybees
DESCRIPTION:Bring a blanket for this outdoor fun day! Read books\, play games\, and have a snack!
URL:https://www.nwrls.com/event/saturday-adventures-honeybees/
LOCATION:Charles Whitehead Memorial Public Library\, 314 North Second Street\, Wewahitchka\, FL\, 32465\, United States
CATEGORIES:Charles Whitehead Public Library,Events,Locations
ATTACH;FMTTYPE=image/jpeg:https://www.nwrls.com/wp-content/uploads/2026/02/Storytime-Adventures-Honeybees.jpg
END:VEVENT
BEGIN:VEVENT
DTSTART;TZID=America/Chicago:20260505T100000
DTEND;TZID=America/Chicago:20260505T103000
DTSTAMP:20260419T092357
CREATED:20260211T174328Z
LAST-MODIFIED:20260211T174328Z
UID:20705-1777975200-1777977000@www.nwrls.com
SUMMARY:Budding Bookworms
DESCRIPTION:Stories\, songs\, & crafts to instill a love of reading! Recommended for up to 5 years of age with a caregiver.
URL:https://www.nwrls.com/event/budding-bookworms-55/
LOCATION:Charles Whitehead Memorial Public Library\, 314 North Second Street\, Wewahitchka\, FL\, 32465\, United States
CATEGORIES:Charles Whitehead Public Library,Events,Locations
ATTACH;FMTTYPE=image/jpeg:https://www.nwrls.com/wp-content/uploads/2026/02/Budding-Bookworms-Tuesdays.jpg
END:VEVENT
BEGIN:VEVENT
DTSTART;TZID=America/Chicago:20260505T153000
DTEND;TZID=America/Chicago:20260505T163000
DTSTAMP:20260419T092357
CREATED:20260213T190744Z
LAST-MODIFIED:20260213T190744Z
UID:21154-1777995000-1777998600@www.nwrls.com
SUMMARY:Dragons Love Tacos! (Family Program)
DESCRIPTION:Join us for a fun program centered around the story Dragons Love Tacos!
URL:https://www.nwrls.com/event/dragons-love-tacos-family-program/
LOCATION:Charles Whitehead Memorial Public Library\, 314 North Second Street\, Wewahitchka\, FL\, 32465\, United States
CATEGORIES:Charles Whitehead Public Library,Events,Locations
ATTACH;FMTTYPE=image/jpeg:https://www.nwrls.com/wp-content/uploads/2026/02/Dragons-Love-Tacos.jpg
END:VEVENT
BEGIN:VEVENT
DTSTART;TZID=America/Chicago:20260508T153000
DTEND;TZID=America/Chicago:20260508T163000
DTSTAMP:20260419T092357
CREATED:20260213T190903Z
LAST-MODIFIED:20260213T190903Z
UID:21153-1778254200-1778257800@www.nwrls.com
SUMMARY:Mother's Day Tea Party (Family Program)
DESCRIPTION:Let’s dress up fancy and have a tea party to celebrate Mother’s Day!
URL:https://www.nwrls.com/event/mothers-day-tea-party-family-program/
LOCATION:Charles Whitehead Memorial Public Library\, 314 North Second Street\, Wewahitchka\, FL\, 32465\, United States
CATEGORIES:Charles Whitehead Public Library,Events,Locations
ATTACH;FMTTYPE=image/jpeg:https://www.nwrls.com/wp-content/uploads/2026/02/Mothers-Day-Tea-Party-May-2026.jpg
END:VEVENT
BEGIN:VEVENT
DTSTART;TZID=America/Chicago:20260512T100000
DTEND;TZID=America/Chicago:20260512T103000
DTSTAMP:20260419T092357
CREATED:20260211T174505Z
LAST-MODIFIED:20260211T174505Z
UID:20702-1778580000-1778581800@www.nwrls.com
SUMMARY:Budding Bookworms
DESCRIPTION:Stories\, songs\, & crafts to instill a love of reading! Recommended for up to 5 years of age with a caregiver.
URL:https://www.nwrls.com/event/budding-bookworms-58/
LOCATION:Charles Whitehead Memorial Public Library\, 314 North Second Street\, Wewahitchka\, FL\, 32465\, United States
CATEGORIES:Charles Whitehead Public Library,Events,Locations
ATTACH;FMTTYPE=image/jpeg:https://www.nwrls.com/wp-content/uploads/2026/02/Budding-Bookworms-Tuesdays.jpg
END:VEVENT
BEGIN:VEVENT
DTSTART;TZID=America/Chicago:20260512T153000
DTEND;TZID=America/Chicago:20260512T163000
DTSTAMP:20260419T092357
CREATED:20260211T180021Z
LAST-MODIFIED:20260211T180021Z
UID:20752-1778599800-1778603400@www.nwrls.com
SUMMARY:Chess Club
DESCRIPTION:All ages and levels of experience are welcome: adults\, teens and kids! \nChess board and pieces provided. You may also bring your own. \n 
URL:https://www.nwrls.com/event/chess-club-68/
LOCATION:Charles Whitehead Memorial Public Library\, 314 North Second Street\, Wewahitchka\, FL\, 32465\, United States
CATEGORIES:Charles Whitehead Public Library,Events,Locations
ATTACH;FMTTYPE=image/jpeg:https://www.nwrls.com/wp-content/uploads/2025/11/Chess-Club-without-dates.jpg
END:VEVENT
BEGIN:VEVENT
DTSTART;TZID=America/Chicago:20260515T130000
DTEND;TZID=America/Chicago:20260515T140000
DTSTAMP:20260419T092357
CREATED:20260211T182114Z
LAST-MODIFIED:20260211T182115Z
UID:20784-1778850000-1778853600@www.nwrls.com
SUMMARY:Mahjong
DESCRIPTION:Join us for a fun\, social time playing this tile-based game! Program geared for adults.
URL:https://www.nwrls.com/event/mahjong-8/
LOCATION:Charles Whitehead Memorial Public Library\, 314 North Second Street\, Wewahitchka\, FL\, 32465\, United States
CATEGORIES:Charles Whitehead Public Library,Events,Locations
ATTACH;FMTTYPE=image/jpeg:https://www.nwrls.com/wp-content/uploads/2026/02/Mahjong-March-May.jpg
END:VEVENT
BEGIN:VEVENT
DTSTART;TZID=America/Chicago:20260516T100000
DTEND;TZID=America/Chicago:20260516T110000
DTSTAMP:20260419T092357
CREATED:20260211T175101Z
LAST-MODIFIED:20260211T175101Z
UID:20732-1778925600-1778929200@www.nwrls.com
SUMMARY:LEGO Club
DESCRIPTION:Build unique challenges followed by free play. Program geared for school aged children.
URL:https://www.nwrls.com/event/lego-club-41/
LOCATION:Charles Whitehead Memorial Public Library\, 314 North Second Street\, Wewahitchka\, FL\, 32465\, United States
CATEGORIES:Charles Whitehead Public Library,Events,Locations
ATTACH;FMTTYPE=image/jpeg:https://www.nwrls.com/wp-content/uploads/2026/02/Saturday-Lego-Club-MAR-MAY.jpg
END:VEVENT
BEGIN:VEVENT
DTSTART;TZID=America/Chicago:20260516T110000
DTEND;TZID=America/Chicago:20260516T130000
DTSTAMP:20260419T092357
CREATED:20260211T180415Z
LAST-MODIFIED:20260211T180415Z
UID:20748-1778929200-1778936400@www.nwrls.com
SUMMARY:Chess Club
DESCRIPTION:All ages and levels of experience are welcome: adults\, teens and kids! \nChess board and pieces provided. You may also bring your own. \n 
URL:https://www.nwrls.com/event/chess-club-73/
LOCATION:Charles Whitehead Memorial Public Library\, 314 North Second Street\, Wewahitchka\, FL\, 32465\, United States
CATEGORIES:Charles Whitehead Public Library,Events,Locations
ATTACH;FMTTYPE=image/jpeg:https://www.nwrls.com/wp-content/uploads/2025/11/Chess-Club-without-dates.jpg
END:VEVENT
BEGIN:VEVENT
DTSTART;TZID=America/Chicago:20260518T100000
DTEND;TZID=America/Chicago:20260518T110000
DTSTAMP:20260419T092357
CREATED:20260211T182414Z
LAST-MODIFIED:20260211T182414Z
UID:20792-1779098400-1779102000@www.nwrls.com
SUMMARY:Busy Bee Readers Book Club
DESCRIPTION:Please contact Wewahitchka Library for monthly book club titles by calling 850-639-2419. Program geared for adults. New members always welcome!
URL:https://www.nwrls.com/event/busy-bee-readers-book-club-18/
LOCATION:Charles Whitehead Memorial Public Library\, 314 North Second Street\, Wewahitchka\, FL\, 32465\, United States
CATEGORIES:Charles Whitehead Public Library,Events,Locations
ATTACH;FMTTYPE=image/jpeg:https://www.nwrls.com/wp-content/uploads/2026/02/Busy-Bee-Readers-Book-Club-March-May.jpg
END:VEVENT
BEGIN:VEVENT
DTSTART;TZID=America/Chicago:20260519T100000
DTEND;TZID=America/Chicago:20260519T103000
DTSTAMP:20260419T092357
CREATED:20260211T174358Z
LAST-MODIFIED:20260211T174358Z
UID:20704-1779184800-1779186600@www.nwrls.com
SUMMARY:Budding Bookworms
DESCRIPTION:Stories\, songs\, & crafts to instill a love of reading! Recommended for up to 5 years of age with a caregiver.
URL:https://www.nwrls.com/event/budding-bookworms-56/
LOCATION:Charles Whitehead Memorial Public Library\, 314 North Second Street\, Wewahitchka\, FL\, 32465\, United States
CATEGORIES:Charles Whitehead Public Library,Events,Locations
ATTACH;FMTTYPE=image/jpeg:https://www.nwrls.com/wp-content/uploads/2026/02/Budding-Bookworms-Tuesdays.jpg
END:VEVENT
BEGIN:VEVENT
DTSTART;TZID=America/Chicago:20260521T153000
DTEND;TZID=America/Chicago:20260521T163000
DTSTAMP:20260419T092357
CREATED:20260213T190531Z
LAST-MODIFIED:20260213T190531Z
UID:21155-1779377400-1779381000@www.nwrls.com
SUMMARY:Freshwater Turtles (Children's Program)
DESCRIPTION:Learn about freshwater turtles in our area and see live turtles!  This program is presented by the Florida Coastal Conservancy. \nThis program is free and open to the public.
URL:https://www.nwrls.com/event/freshwater-turtles-childrens-program/
LOCATION:Charles Whitehead Memorial Public Library\, 314 North Second Street\, Wewahitchka\, FL\, 32465\, United States
CATEGORIES:Charles Whitehead Public Library,Events,Locations
ATTACH;FMTTYPE=image/jpeg:https://www.nwrls.com/wp-content/uploads/2026/02/Freshwater-Turtles-May.jpg
END:VEVENT
BEGIN:VEVENT
DTSTART;TZID=America/Chicago:20260526T100000
DTEND;TZID=America/Chicago:20260526T103000
DTSTAMP:20260419T092357
CREATED:20260211T174431Z
LAST-MODIFIED:20260211T174431Z
UID:20703-1779789600-1779791400@www.nwrls.com
SUMMARY:Budding Bookworms
DESCRIPTION:Stories\, songs\, & crafts to instill a love of reading! Recommended for up to 5 years of age with a caregiver.
URL:https://www.nwrls.com/event/budding-bookworms-57/
LOCATION:Charles Whitehead Memorial Public Library\, 314 North Second Street\, Wewahitchka\, FL\, 32465\, United States
CATEGORIES:Charles Whitehead Public Library,Events,Locations
ATTACH;FMTTYPE=image/jpeg:https://www.nwrls.com/wp-content/uploads/2026/02/Budding-Bookworms-Tuesdays.jpg
END:VEVENT
BEGIN:VEVENT
DTSTART;TZID=America/Chicago:20260528T153000
DTEND;TZID=America/Chicago:20260528T163000
DTSTAMP:20260419T092357
CREATED:20260211T180802Z
LAST-MODIFIED:20260323T134212Z
UID:20765-1779982200-1779985800@www.nwrls.com
SUMMARY:Afterschool Bookworms
DESCRIPTION:Enjoy stories\, songs\, activities\, and crafts to instill a love of reading!
URL:https://www.nwrls.com/event/afterschool-bookworms-4/
LOCATION:Charles Whitehead Memorial Public Library\, 314 North Second Street\, Wewahitchka\, FL\, 32465\, United States
CATEGORIES:Charles Whitehead Public Library,Events,Locations
ATTACH;FMTTYPE=image/jpeg:https://www.nwrls.com/wp-content/uploads/2026/02/Afterschool-Bookworms-March-May.jpg
END:VEVENT
END:VCALENDAR