BEGIN:VCALENDAR
VERSION:2.0
PRODID:-//Northwest Regional Library System - ECPv6.15.20//NONSGML v1.0//EN
CALSCALE:GREGORIAN
METHOD:PUBLISH
X-WR-CALNAME:Northwest Regional Library System
X-ORIGINAL-URL:https://www.nwrls.com
X-WR-CALDESC:Events for Northwest Regional Library System
REFRESH-INTERVAL;VALUE=DURATION:PT1H
X-Robots-Tag:noindex
X-PUBLISHED-TTL:PT1H
BEGIN:VTIMEZONE
TZID:America/Chicago
BEGIN:DAYLIGHT
TZOFFSETFROM:-0600
TZOFFSETTO:-0500
TZNAME:CDT
DTSTART:20240310T080000
END:DAYLIGHT
BEGIN:STANDARD
TZOFFSETFROM:-0500
TZOFFSETTO:-0600
TZNAME:CST
DTSTART:20241103T070000
END:STANDARD
BEGIN:DAYLIGHT
TZOFFSETFROM:-0600
TZOFFSETTO:-0500
TZNAME:CDT
DTSTART:20250309T080000
END:DAYLIGHT
BEGIN:STANDARD
TZOFFSETFROM:-0500
TZOFFSETTO:-0600
TZNAME:CST
DTSTART:20251102T070000
END:STANDARD
BEGIN:DAYLIGHT
TZOFFSETFROM:-0600
TZOFFSETTO:-0500
TZNAME:CDT
DTSTART:20260308T080000
END:DAYLIGHT
BEGIN:STANDARD
TZOFFSETFROM:-0500
TZOFFSETTO:-0600
TZNAME:CST
DTSTART:20261101T070000
END:STANDARD
END:VTIMEZONE
BEGIN:VEVENT
DTSTART;TZID=America/Chicago:20250517T110000
DTEND;TZID=America/Chicago:20250517T120000
DTSTAMP:20260420T030500
CREATED:20250213T224310Z
LAST-MODIFIED:20250213T224310Z
UID:17953-1747479600-1747483200@www.nwrls.com
SUMMARY:Chess Club
DESCRIPTION:All ages and levels of experience are welcome: Adults\, Teens and Kids! \nChess board and pieces provided. You may also bring your own. Children can arrive after school gets out. \n 
URL:https://www.nwrls.com/event/chess-club-12/
LOCATION:Charles Whitehead Memorial Public Library\, 314 North Second Street\, Wewahitchka\, FL\, 32465\, United States
CATEGORIES:Charles Whitehead Public Library,Events,Locations
ATTACH;FMTTYPE=image/jpeg:https://www.nwrls.com/wp-content/uploads/2025/02/Chess-Club-March-April-May.jpg
END:VEVENT
END:VCALENDAR