BEGIN:VCALENDAR
VERSION:2.0
PRODID:-//Northwest Regional Library System - ECPv6.15.20//NONSGML v1.0//EN
CALSCALE:GREGORIAN
METHOD:PUBLISH
X-WR-CALNAME:Northwest Regional Library System
X-ORIGINAL-URL:https://www.nwrls.com
X-WR-CALDESC:Events for Northwest Regional Library System
REFRESH-INTERVAL;VALUE=DURATION:PT1H
X-Robots-Tag:noindex
X-PUBLISHED-TTL:PT1H
BEGIN:VTIMEZONE
TZID:America/Chicago
BEGIN:DAYLIGHT
TZOFFSETFROM:-0600
TZOFFSETTO:-0500
TZNAME:CDT
DTSTART:20240310T080000
END:DAYLIGHT
BEGIN:STANDARD
TZOFFSETFROM:-0500
TZOFFSETTO:-0600
TZNAME:CST
DTSTART:20241103T070000
END:STANDARD
BEGIN:DAYLIGHT
TZOFFSETFROM:-0600
TZOFFSETTO:-0500
TZNAME:CDT
DTSTART:20250309T080000
END:DAYLIGHT
BEGIN:STANDARD
TZOFFSETFROM:-0500
TZOFFSETTO:-0600
TZNAME:CST
DTSTART:20251102T070000
END:STANDARD
BEGIN:DAYLIGHT
TZOFFSETFROM:-0600
TZOFFSETTO:-0500
TZNAME:CDT
DTSTART:20260308T080000
END:DAYLIGHT
BEGIN:STANDARD
TZOFFSETFROM:-0500
TZOFFSETTO:-0600
TZNAME:CST
DTSTART:20261101T070000
END:STANDARD
END:VTIMEZONE
BEGIN:VEVENT
DTSTART;TZID=America/Chicago:20250508T100000
DTEND;TZID=America/Chicago:20250508T110000
DTSTAMP:20260420T025856
CREATED:20250213T190145Z
LAST-MODIFIED:20250213T190145Z
UID:17899-1746698400-1746702000@www.nwrls.com
SUMMARY:Friends of the Wewahitchka Library Monthly Meeting
DESCRIPTION:Meetings are open to all members. If you are not yet a member\, but are interested in supporting the library through advocacy\, volunteer work and fundraising\, we invite you to join us. \nPrintable Membership Form
URL:https://www.nwrls.com/event/friends-of-the-wewahitchka-library-monthly-meeting-6/
LOCATION:Charles Whitehead Memorial Public Library\, 314 North Second Street\, Wewahitchka\, FL\, 32465\, United States
CATEGORIES:Charles Whitehead Public Library,Events,Locations
ATTACH;FMTTYPE=image/jpeg:https://www.nwrls.com/wp-content/uploads/2025/02/Friends-Meetings-Mar-Apr-May.jpg
END:VEVENT
BEGIN:VEVENT
DTSTART;TZID=America/Chicago:20250508T153000
DTEND;TZID=America/Chicago:20250508T163000
DTSTAMP:20260420T025857
CREATED:20250213T184029Z
LAST-MODIFIED:20250213T184115Z
UID:17879-1746718200-1746721800@www.nwrls.com
SUMMARY:Cornbread in a Mug! (Family Program)
DESCRIPTION:Learn to make microwave cornbread in a mug. Enjoy it with some local honey. Program for kids with an adult.
URL:https://www.nwrls.com/event/cornbread-in-a-mug-family-program/
LOCATION:Charles Whitehead Memorial Public Library\, 314 North Second Street\, Wewahitchka\, FL\, 32465\, United States
CATEGORIES:Charles Whitehead Public Library,Events,Locations
ATTACH;FMTTYPE=image/jpeg:https://www.nwrls.com/wp-content/uploads/2025/02/Cornbread.jpg
END:VEVENT
END:VCALENDAR