BEGIN:VCALENDAR
VERSION:2.0
PRODID:-//Northwest Regional Library System - ECPv6.15.20//NONSGML v1.0//EN
CALSCALE:GREGORIAN
METHOD:PUBLISH
X-ORIGINAL-URL:https://www.nwrls.com
X-WR-CALDESC:Events for Northwest Regional Library System
REFRESH-INTERVAL;VALUE=DURATION:PT1H
X-Robots-Tag:noindex
X-PUBLISHED-TTL:PT1H
BEGIN:VTIMEZONE
TZID:America/Chicago
BEGIN:DAYLIGHT
TZOFFSETFROM:-0600
TZOFFSETTO:-0500
TZNAME:CDT
DTSTART:20240310T080000
END:DAYLIGHT
BEGIN:STANDARD
TZOFFSETFROM:-0500
TZOFFSETTO:-0600
TZNAME:CST
DTSTART:20241103T070000
END:STANDARD
BEGIN:DAYLIGHT
TZOFFSETFROM:-0600
TZOFFSETTO:-0500
TZNAME:CDT
DTSTART:20250309T080000
END:DAYLIGHT
BEGIN:STANDARD
TZOFFSETFROM:-0500
TZOFFSETTO:-0600
TZNAME:CST
DTSTART:20251102T070000
END:STANDARD
BEGIN:DAYLIGHT
TZOFFSETFROM:-0600
TZOFFSETTO:-0500
TZNAME:CDT
DTSTART:20260308T080000
END:DAYLIGHT
BEGIN:STANDARD
TZOFFSETFROM:-0500
TZOFFSETTO:-0600
TZNAME:CST
DTSTART:20261101T070000
END:STANDARD
END:VTIMEZONE
BEGIN:VEVENT
DTSTART;TZID=America/Chicago:20250320T110000
DTEND;TZID=America/Chicago:20250320T120000
DTSTAMP:20260420T060705
CREATED:20250213T183106Z
LAST-MODIFIED:20250213T183106Z
UID:17871-1742468400-1742472000@www.nwrls.com
SUMMARY:Roar! Dinosaurs! (Ages 5+\, Registration Required)
DESCRIPTION:Create your own dinosaur with skeletons and clay. Program geared for ages 5+.  Registration required. Supplies limited. Visit or call the library at (850) 639-2419.
URL:https://www.nwrls.com/event/roar-dinosaurs-ages-5-registration-required/
LOCATION:Charles Whitehead Memorial Public Library\, 314 North Second Street\, Wewahitchka\, FL\, 32465\, United States
CATEGORIES:Charles Whitehead Public Library,Events,Locations
ATTACH;FMTTYPE=image/jpeg:https://www.nwrls.com/wp-content/uploads/2025/02/Clay-Dinosaurs-1.jpg
END:VEVENT
BEGIN:VEVENT
DTSTART;TZID=America/Chicago:20250320T140000
DTEND;TZID=America/Chicago:20250320T150000
DTSTAMP:20260420T060705
CREATED:20250213T223412Z
LAST-MODIFIED:20250213T223629Z
UID:17931-1742479200-1742482800@www.nwrls.com
SUMMARY:Technology Training Q & A Session (6th Grade - Adults)
DESCRIPTION:Free training in Cybersecurity\, WordPress\, Google Docs\, Google Sheets\, and more! Gain in-demand skills to kickstart your journey toward tech certifications and career growth. Program presented by Dennis Keefe.
URL:https://www.nwrls.com/event/technology-training-q-a-session-6th-grade-adults/
LOCATION:Charles Whitehead Memorial Public Library\, 314 North Second Street\, Wewahitchka\, FL\, 32465\, United States
CATEGORIES:Charles Whitehead Public Library,Events,Locations
ATTACH;FMTTYPE=image/jpeg:https://www.nwrls.com/wp-content/uploads/2025/02/Technology-Training-1-1.jpg
END:VEVENT
END:VCALENDAR