BEGIN:VCALENDAR
VERSION:2.0
PRODID:-//Northwest Regional Library System - ECPv6.15.20//NONSGML v1.0//EN
CALSCALE:GREGORIAN
METHOD:PUBLISH
X-WR-CALNAME:Northwest Regional Library System
X-ORIGINAL-URL:https://www.nwrls.com
X-WR-CALDESC:Events for Northwest Regional Library System
REFRESH-INTERVAL;VALUE=DURATION:PT1H
X-Robots-Tag:noindex
X-PUBLISHED-TTL:PT1H
BEGIN:VTIMEZONE
TZID:America/Chicago
BEGIN:DAYLIGHT
TZOFFSETFROM:-0600
TZOFFSETTO:-0500
TZNAME:CDT
DTSTART:20240310T080000
END:DAYLIGHT
BEGIN:STANDARD
TZOFFSETFROM:-0500
TZOFFSETTO:-0600
TZNAME:CST
DTSTART:20241103T070000
END:STANDARD
BEGIN:DAYLIGHT
TZOFFSETFROM:-0600
TZOFFSETTO:-0500
TZNAME:CDT
DTSTART:20250309T080000
END:DAYLIGHT
BEGIN:STANDARD
TZOFFSETFROM:-0500
TZOFFSETTO:-0600
TZNAME:CST
DTSTART:20251102T070000
END:STANDARD
BEGIN:DAYLIGHT
TZOFFSETFROM:-0600
TZOFFSETTO:-0500
TZNAME:CDT
DTSTART:20260308T080000
END:DAYLIGHT
BEGIN:STANDARD
TZOFFSETFROM:-0500
TZOFFSETTO:-0600
TZNAME:CST
DTSTART:20261101T070000
END:STANDARD
END:VTIMEZONE
BEGIN:VEVENT
DTSTART;VALUE=DATE:20250901
DTEND;VALUE=DATE:20250902
DTSTAMP:20260419T191258
CREATED:20250822T130645Z
LAST-MODIFIED:20250822T130645Z
UID:19306-1756684800-1756771199@www.nwrls.com
SUMMARY:Labor Day - Library Closure
DESCRIPTION:
URL:https://www.nwrls.com/event/labor-day-library-closure/
LOCATION:FL
CATEGORIES:Bay County Public Library,Charles Whitehead Public Library,Corinne Costin Gibson Memorial Public Library,Events,Harrell Memorial Public Library,Jimmy Weaver Memorial Library,Locations,Panama City Beach Library,Parker Public Library
ATTACH;FMTTYPE=image/png:https://www.nwrls.com/wp-content/uploads/2025/08/Labor-Day-closure.png
END:VEVENT
BEGIN:VEVENT
DTSTART;TZID=America/Chicago:20250902T100000
DTEND;TZID=America/Chicago:20250902T103000
DTSTAMP:20260419T191258
CREATED:20250815T150158Z
LAST-MODIFIED:20250815T150158Z
UID:18956-1756807200-1756809000@www.nwrls.com
SUMMARY:Budding Bookworms
DESCRIPTION:Stories\, songs\, & crafts to instill a love of reading! Recommended for up to 5 years of age with a caregiver.
URL:https://www.nwrls.com/event/budding-bookworms-26/
LOCATION:Charles Whitehead Memorial Public Library\, 314 North Second Street\, Wewahitchka\, FL\, 32465\, United States
CATEGORIES:Charles Whitehead Public Library,Events,Locations
ATTACH;FMTTYPE=image/jpeg:https://www.nwrls.com/wp-content/uploads/2025/08/Budding-Bookworms-Sept-Oct-Nov.jpg
END:VEVENT
BEGIN:VEVENT
DTSTART;TZID=America/Chicago:20250904T153000
DTEND;TZID=America/Chicago:20250904T163000
DTSTAMP:20260419T191258
CREATED:20250815T150646Z
LAST-MODIFIED:20250815T150646Z
UID:18989-1756999800-1757003400@www.nwrls.com
SUMMARY:LEGO Club
DESCRIPTION:Build unique challenges followed by free play. Program geared for school aged children.
URL:https://www.nwrls.com/event/lego-club-27/
LOCATION:Charles Whitehead Memorial Public Library\, 314 North Second Street\, Wewahitchka\, FL\, 32465\, United States
CATEGORIES:Charles Whitehead Public Library,Events,Locations
ATTACH;FMTTYPE=image/jpeg:https://www.nwrls.com/wp-content/uploads/2025/08/Thursday-Lego-Club-Sept-Oct-Nov.jpg
END:VEVENT
BEGIN:VEVENT
DTSTART;TZID=America/Chicago:20250905T153000
DTEND;TZID=America/Chicago:20250905T170000
DTSTAMP:20260419T191258
CREATED:20250815T151518Z
LAST-MODIFIED:20250821T203846Z
UID:19007-1757086200-1757091600@www.nwrls.com
SUMMARY:Grandparent's Day Tea Party
DESCRIPTION:Grandparents or guardians are invited to bring their little ones to our Grandparent’s Day Tea!  Fancy dress is welcome.
URL:https://www.nwrls.com/event/grandparents-day-tea-party/
LOCATION:Charles Whitehead Memorial Public Library\, 314 North Second Street\, Wewahitchka\, FL\, 32465\, United States
CATEGORIES:Charles Whitehead Public Library,Events,Locations
ATTACH;FMTTYPE=image/jpeg:https://www.nwrls.com/wp-content/uploads/2025/08/Grandparents-Tea-Party-3.jpg
END:VEVENT
BEGIN:VEVENT
DTSTART;TZID=America/Chicago:20250906T113000
DTEND;TZID=America/Chicago:20250906T123000
DTSTAMP:20260419T191258
CREATED:20250815T151126Z
LAST-MODIFIED:20250815T151126Z
UID:19001-1757158200-1757161800@www.nwrls.com
SUMMARY:Saturday Adventures:  Horses
DESCRIPTION:Bring a blanket for this outdoor fun day! Read books\, play games\, and have a snack!
URL:https://www.nwrls.com/event/saturday-adventures-horses/
LOCATION:Charles Whitehead Memorial Public Library\, 314 North Second Street\, Wewahitchka\, FL\, 32465\, United States
CATEGORIES:Charles Whitehead Public Library,Events,Locations
ATTACH;FMTTYPE=image/jpeg:https://www.nwrls.com/wp-content/uploads/2025/08/Saturday-adventures-Horses-1.jpg
END:VEVENT
BEGIN:VEVENT
DTSTART;TZID=America/Chicago:20250909T100000
DTEND;TZID=America/Chicago:20250909T103000
DTSTAMP:20260419T191258
CREATED:20250815T150337Z
LAST-MODIFIED:20250815T150337Z
UID:18984-1757412000-1757413800@www.nwrls.com
SUMMARY:Budding Bookworms
DESCRIPTION:Stories\, songs\, & crafts to instill a love of reading! Recommended for up to 5 years of age with a caregiver.
URL:https://www.nwrls.com/event/budding-bookworms-27/
LOCATION:Charles Whitehead Memorial Public Library\, 314 North Second Street\, Wewahitchka\, FL\, 32465\, United States
CATEGORIES:Charles Whitehead Public Library,Events,Locations
ATTACH;FMTTYPE=image/jpeg:https://www.nwrls.com/wp-content/uploads/2025/08/Budding-Bookworms-Sept-Oct-Nov.jpg
END:VEVENT
BEGIN:VEVENT
DTSTART;TZID=America/Chicago:20250911T153000
DTEND;TZID=America/Chicago:20250911T163000
DTSTAMP:20260419T191258
CREATED:20250815T152112Z
LAST-MODIFIED:20250815T152112Z
UID:19012-1757604600-1757608200@www.nwrls.com
SUMMARY:Camping Fun! (Geared for Families)
DESCRIPTION:We’ll gather on sleeping bags in low light to read stories by flashlight!  Includes crafts and yummy s’mores!
URL:https://www.nwrls.com/event/camping-fun-geared-for-families/
LOCATION:Charles Whitehead Memorial Public Library\, 314 North Second Street\, Wewahitchka\, FL\, 32465\, United States
CATEGORIES:Charles Whitehead Public Library,Events,Locations
ATTACH;FMTTYPE=image/jpeg:https://www.nwrls.com/wp-content/uploads/2025/08/Camping-Fun-2.jpg
END:VEVENT
BEGIN:VEVENT
DTSTART;TZID=America/Chicago:20250915T100000
DTEND;TZID=America/Chicago:20250915T110000
DTSTAMP:20260419T191258
CREATED:20250815T152350Z
LAST-MODIFIED:20250815T152350Z
UID:19016-1757930400-1757934000@www.nwrls.com
SUMMARY:Diamond Painting: Bookmark (Adults)
DESCRIPTION:Stop by the library while the kids are in school to create a corner bookmark with “diamonds.”
URL:https://www.nwrls.com/event/diamond-painting-bookmark-adults/
LOCATION:Charles Whitehead Memorial Public Library\, 314 North Second Street\, Wewahitchka\, FL\, 32465\, United States
CATEGORIES:Charles Whitehead Public Library,Events,Locations
ATTACH;FMTTYPE=image/jpeg:https://www.nwrls.com/wp-content/uploads/2025/08/Diamond-Painting-Bookmark.jpg
END:VEVENT
BEGIN:VEVENT
DTSTART;TZID=America/Chicago:20250916T100000
DTEND;TZID=America/Chicago:20250916T103000
DTSTAMP:20260419T191258
CREATED:20250815T150358Z
LAST-MODIFIED:20250815T150358Z
UID:18983-1758016800-1758018600@www.nwrls.com
SUMMARY:Budding Bookworms
DESCRIPTION:Stories\, songs\, & crafts to instill a love of reading! Recommended for up to 5 years of age with a caregiver.
URL:https://www.nwrls.com/event/budding-bookworms-28/
LOCATION:Charles Whitehead Memorial Public Library\, 314 North Second Street\, Wewahitchka\, FL\, 32465\, United States
CATEGORIES:Charles Whitehead Public Library,Events,Locations
ATTACH;FMTTYPE=image/jpeg:https://www.nwrls.com/wp-content/uploads/2025/08/Budding-Bookworms-Sept-Oct-Nov.jpg
END:VEVENT
BEGIN:VEVENT
DTSTART;TZID=America/Chicago:20250919T130000
DTEND;TZID=America/Chicago:20250919T140000
DTSTAMP:20260419T191258
CREATED:20250815T153044Z
LAST-MODIFIED:20250815T153109Z
UID:19030-1758286800-1758290400@www.nwrls.com
SUMMARY:Mahjong
DESCRIPTION:Join us for a fun\, social time playing this tile-based game! Program geared for adults.
URL:https://www.nwrls.com/event/majong/
LOCATION:Charles Whitehead Memorial Public Library\, 314 North Second Street\, Wewahitchka\, FL\, 32465\, United States
CATEGORIES:Charles Whitehead Public Library,Events,Locations
ATTACH;FMTTYPE=image/jpeg:https://www.nwrls.com/wp-content/uploads/2025/08/Mahjong-Sept-Nov.jpg
END:VEVENT
BEGIN:VEVENT
DTSTART;TZID=America/Chicago:20250920T110000
DTEND;TZID=America/Chicago:20250920T120000
DTSTAMP:20260419T191258
CREATED:20250815T153924Z
LAST-MODIFIED:20250815T153924Z
UID:19037-1758366000-1758369600@www.nwrls.com
SUMMARY:Chess Club
DESCRIPTION:All ages and levels of experience are welcome: Adults\, Teens and Kids! \nChess board and pieces provided. You may also bring your own. \n 
URL:https://www.nwrls.com/event/chess-club-41/
LOCATION:Charles Whitehead Memorial Public Library\, 314 North Second Street\, Wewahitchka\, FL\, 32465\, United States
CATEGORIES:Charles Whitehead Public Library,Events,Locations
ATTACH;FMTTYPE=image/jpeg:https://www.nwrls.com/wp-content/uploads/2025/08/Chess-Club-Sept-Nov.jpg
END:VEVENT
BEGIN:VEVENT
DTSTART;TZID=America/Chicago:20250923T100000
DTEND;TZID=America/Chicago:20250923T103000
DTSTAMP:20260419T191258
CREATED:20250815T150432Z
LAST-MODIFIED:20250815T150432Z
UID:18982-1758621600-1758623400@www.nwrls.com
SUMMARY:Budding Bookworms
DESCRIPTION:Stories\, songs\, & crafts to instill a love of reading! Recommended for up to 5 years of age with a caregiver.
URL:https://www.nwrls.com/event/budding-bookworms-29/
LOCATION:Charles Whitehead Memorial Public Library\, 314 North Second Street\, Wewahitchka\, FL\, 32465\, United States
CATEGORIES:Charles Whitehead Public Library,Events,Locations
ATTACH;FMTTYPE=image/jpeg:https://www.nwrls.com/wp-content/uploads/2025/08/Budding-Bookworms-Sept-Oct-Nov.jpg
END:VEVENT
BEGIN:VEVENT
DTSTART;TZID=America/Chicago:20250925T153000
DTEND;TZID=America/Chicago:20250925T163000
DTSTAMP:20260419T191258
CREATED:20250815T151637Z
LAST-MODIFIED:20250815T151637Z
UID:19009-1758814200-1758817800@www.nwrls.com
SUMMARY:Llama Llama Red Pajama Party!
DESCRIPTION:Let’s have fun with books\, crafts\, games\, and snacks!  Wearing pajamas is encouraged!
URL:https://www.nwrls.com/event/llama-llama-red-pajama-party/
LOCATION:Charles Whitehead Memorial Public Library\, 314 North Second Street\, Wewahitchka\, FL\, 32465\, United States
CATEGORIES:Charles Whitehead Public Library,Events,Locations
ATTACH;FMTTYPE=image/jpeg:https://www.nwrls.com/wp-content/uploads/2025/08/Llama-Llama-Red-Pajama-Party-2.jpg
END:VEVENT
BEGIN:VEVENT
DTSTART;TZID=America/Chicago:20250927T100000
DTEND;TZID=America/Chicago:20250927T110000
DTSTAMP:20260419T191258
CREATED:20250815T152758Z
LAST-MODIFIED:20250815T152758Z
UID:19024-1758967200-1758970800@www.nwrls.com
SUMMARY:Simply Saturday Book Club
DESCRIPTION:Call the Wewahitchka Library at 850-639-2419 for our monthly book club titles!
URL:https://www.nwrls.com/event/simply-saturday-book-club-4/
LOCATION:Charles Whitehead Memorial Public Library\, 314 North Second Street\, Wewahitchka\, FL\, 32465\, United States
CATEGORIES:Charles Whitehead Public Library,Events,Locations
ATTACH;FMTTYPE=image/jpeg:https://www.nwrls.com/wp-content/uploads/2025/08/Simply-Saturday-Book-Club-Sept-Nov.jpg
END:VEVENT
BEGIN:VEVENT
DTSTART;TZID=America/Chicago:20250927T113000
DTEND;TZID=America/Chicago:20250927T123000
DTSTAMP:20260419T191258
CREATED:20250815T150858Z
LAST-MODIFIED:20250815T150858Z
UID:18995-1758972600-1758976200@www.nwrls.com
SUMMARY:LEGO Club
DESCRIPTION:Build unique challenges followed by free play. Program geared for school aged children.
URL:https://www.nwrls.com/event/lego-club-30/
LOCATION:Charles Whitehead Memorial Public Library\, 314 North Second Street\, Wewahitchka\, FL\, 32465\, United States
CATEGORIES:Charles Whitehead Public Library,Events,Locations
ATTACH;FMTTYPE=image/jpeg:https://www.nwrls.com/wp-content/uploads/2025/08/Saturday-Lego-Club-Sept-Oct-Nov.jpg
END:VEVENT
BEGIN:VEVENT
DTSTART;TZID=America/Chicago:20250929T100000
DTEND;TZID=America/Chicago:20250929T110000
DTSTAMP:20260419T191258
CREATED:20250815T152515Z
LAST-MODIFIED:20250815T152515Z
UID:19018-1759140000-1759143600@www.nwrls.com
SUMMARY:Busy Bee Readers Book Club
DESCRIPTION:Please contact Wewahitchka Library for monthly book club titles by calling 850-639-2419. Program geared for adults. 
URL:https://www.nwrls.com/event/busy-bee-readers-book-club-11/
LOCATION:Charles Whitehead Memorial Public Library\, 314 North Second Street\, Wewahitchka\, FL\, 32465\, United States
CATEGORIES:Charles Whitehead Public Library,Events,Locations
ATTACH;FMTTYPE=image/jpeg:https://www.nwrls.com/wp-content/uploads/2025/08/Busy-Bee-Readers-Book-Club-Sept-Nov.jpg
END:VEVENT
BEGIN:VEVENT
DTSTART;TZID=America/Chicago:20250930T100000
DTEND;TZID=America/Chicago:20250930T103000
DTSTAMP:20260419T191258
CREATED:20250815T150517Z
LAST-MODIFIED:20250815T150517Z
UID:18981-1759226400-1759228200@www.nwrls.com
SUMMARY:Budding Bookworms
DESCRIPTION:Stories\, songs\, & crafts to instill a love of reading! Recommended for up to 5 years of age with a caregiver.
URL:https://www.nwrls.com/event/budding-bookworms-30/
LOCATION:Charles Whitehead Memorial Public Library\, 314 North Second Street\, Wewahitchka\, FL\, 32465\, United States
CATEGORIES:Charles Whitehead Public Library,Events,Locations
ATTACH;FMTTYPE=image/jpeg:https://www.nwrls.com/wp-content/uploads/2025/08/Budding-Bookworms-Sept-Oct-Nov.jpg
END:VEVENT
END:VCALENDAR