BEGIN:VCALENDAR
VERSION:2.0
PRODID:-//Northwest Regional Library System - ECPv6.15.20//NONSGML v1.0//EN
CALSCALE:GREGORIAN
METHOD:PUBLISH
X-ORIGINAL-URL:https://www.nwrls.com
X-WR-CALDESC:Events for Northwest Regional Library System
REFRESH-INTERVAL;VALUE=DURATION:PT1H
X-Robots-Tag:noindex
X-PUBLISHED-TTL:PT1H
BEGIN:VTIMEZONE
TZID:America/Chicago
BEGIN:DAYLIGHT
TZOFFSETFROM:-0600
TZOFFSETTO:-0500
TZNAME:CDT
DTSTART:20240310T080000
END:DAYLIGHT
BEGIN:STANDARD
TZOFFSETFROM:-0500
TZOFFSETTO:-0600
TZNAME:CST
DTSTART:20241103T070000
END:STANDARD
BEGIN:DAYLIGHT
TZOFFSETFROM:-0600
TZOFFSETTO:-0500
TZNAME:CDT
DTSTART:20250309T080000
END:DAYLIGHT
BEGIN:STANDARD
TZOFFSETFROM:-0500
TZOFFSETTO:-0600
TZNAME:CST
DTSTART:20251102T070000
END:STANDARD
BEGIN:DAYLIGHT
TZOFFSETFROM:-0600
TZOFFSETTO:-0500
TZNAME:CDT
DTSTART:20260308T080000
END:DAYLIGHT
BEGIN:STANDARD
TZOFFSETFROM:-0500
TZOFFSETTO:-0600
TZNAME:CST
DTSTART:20261101T070000
END:STANDARD
END:VTIMEZONE
BEGIN:VEVENT
DTSTART;TZID=America/Chicago:20250801T150000
DTEND;TZID=America/Chicago:20250801T160000
DTSTAMP:20260419T203742
CREATED:20250529T125314Z
LAST-MODIFIED:20250529T125314Z
UID:18497-1754060400-1754064000@www.nwrls.com
SUMMARY:Summer Programs for School Ages:  Art Party!
DESCRIPTION:
URL:https://www.nwrls.com/event/summer-programs-for-school-ages-art-party/
LOCATION:Charles Whitehead Memorial Public Library\, 314 North Second Street\, Wewahitchka\, FL\, 32465\, United States
CATEGORIES:Charles Whitehead Public Library,Events,Locations
ATTACH;FMTTYPE=image/jpeg:https://www.nwrls.com/wp-content/uploads/2025/05/ART-PARTY-School-Age.jpg
END:VEVENT
BEGIN:VEVENT
DTSTART;TZID=America/Chicago:20250802T113000
DTEND;TZID=America/Chicago:20250802T123000
DTSTAMP:20260419T203742
CREATED:20250529T125501Z
LAST-MODIFIED:20250529T125501Z
UID:18499-1754134200-1754137800@www.nwrls.com
SUMMARY:Saturday Adventures:  Monkeys
DESCRIPTION:Bring a blanket for this outdoor fun day! Read books\, play games\, and have a snack!
URL:https://www.nwrls.com/event/saturday-adventures-monkeys/
LOCATION:Charles Whitehead Memorial Public Library\, 314 North Second Street\, Wewahitchka\, FL\, 32465\, United States
CATEGORIES:Charles Whitehead Public Library,Events,Locations
ATTACH;FMTTYPE=image/jpeg:https://www.nwrls.com/wp-content/uploads/2025/05/Saturday-adventures-Monkeys.jpg
END:VEVENT
BEGIN:VEVENT
DTSTART;TZID=America/Chicago:20250809T120000
DTEND;TZID=America/Chicago:20250809T130000
DTSTAMP:20260419T203742
CREATED:20250529T130212Z
LAST-MODIFIED:20250529T130212Z
UID:18512-1754740800-1754744400@www.nwrls.com
SUMMARY:LEGO Club
DESCRIPTION:Build unique challenges followed by free play. Program geared for school aged children.
URL:https://www.nwrls.com/event/lego-club-24/
LOCATION:Charles Whitehead Memorial Public Library\, 314 North Second Street\, Wewahitchka\, FL\, 32465\, United States
CATEGORIES:Charles Whitehead Public Library,Events,Locations
ATTACH;FMTTYPE=image/jpeg:https://www.nwrls.com/wp-content/uploads/2025/05/Lego-Club-June-July-August.jpg
END:VEVENT
BEGIN:VEVENT
DTSTART;TZID=America/Chicago:20250814T130000
DTEND;TZID=America/Chicago:20250814T140000
DTSTAMP:20260419T203742
CREATED:20250529T124116Z
LAST-MODIFIED:20250529T124116Z
UID:18476-1755176400-1755180000@www.nwrls.com
SUMMARY:Let's Bee Crafty! Let's make Pinecone Flowers!
DESCRIPTION:Paint pinecones to look like flowers!
URL:https://www.nwrls.com/event/lets-bee-crafty-lets-make-pinecone-flowers/
LOCATION:Charles Whitehead Memorial Public Library\, 314 North Second Street\, Wewahitchka\, FL\, 32465\, United States
CATEGORIES:Charles Whitehead Public Library,Events,Locations
ATTACH;FMTTYPE=image/jpeg:https://www.nwrls.com/wp-content/uploads/2025/05/Pinecone-flowers-1.jpg
END:VEVENT
BEGIN:VEVENT
DTSTART;TZID=America/Chicago:20250815T153000
DTEND;TZID=America/Chicago:20250815T163000
DTSTAMP:20260419T203742
CREATED:20250528T215202Z
LAST-MODIFIED:20250528T215202Z
UID:18460-1755271800-1755275400@www.nwrls.com
SUMMARY:Monster Truck Mania
DESCRIPTION:Build tracks and arenas for BIG Fun! Bring your own or play with one of ours.
URL:https://www.nwrls.com/event/monster-truck-mania/
LOCATION:Charles Whitehead Memorial Public Library\, 314 North Second Street\, Wewahitchka\, FL\, 32465\, United States
CATEGORIES:Charles Whitehead Public Library,Events,Locations
ATTACH;FMTTYPE=image/jpeg:https://www.nwrls.com/wp-content/uploads/2025/05/Monster-Truck-Mania.jpg
END:VEVENT
BEGIN:VEVENT
DTSTART;TZID=America/Chicago:20250819T100000
DTEND;TZID=America/Chicago:20250819T103000
DTSTAMP:20260419T203742
CREATED:20250529T130717Z
LAST-MODIFIED:20250529T130717Z
UID:18518-1755597600-1755599400@www.nwrls.com
SUMMARY:Budding Bookworms
DESCRIPTION:Stories\, songs\, & crafts to instill a love of reading! Recommended for up to 5 years of age with a caregiver.
URL:https://www.nwrls.com/event/budding-bookworms-24/
LOCATION:Charles Whitehead Memorial Public Library\, 314 North Second Street\, Wewahitchka\, FL\, 32465\, United States
CATEGORIES:Charles Whitehead Public Library,Events,Locations
END:VEVENT
BEGIN:VEVENT
DTSTART;TZID=America/Chicago:20250819T153000
DTEND;TZID=America/Chicago:20250819T163000
DTSTAMP:20260419T203742
CREATED:20250804T183502Z
LAST-MODIFIED:20250804T183502Z
UID:18826-1755617400-1755621000@www.nwrls.com
SUMMARY:LEGO Club
DESCRIPTION:Build unique challenges followed by free play. Program geared for school aged children.
URL:https://www.nwrls.com/event/lego-club-26/
LOCATION:Charles Whitehead Memorial Public Library\, 314 North Second Street\, Wewahitchka\, FL\, 32465\, United States
CATEGORIES:Charles Whitehead Public Library,Events,Locations
ATTACH;FMTTYPE=image/jpeg:https://www.nwrls.com/wp-content/uploads/2025/05/Lego-Club-June-July-August.jpg
END:VEVENT
BEGIN:VEVENT
DTSTART;TZID=America/Chicago:20250821T110000
DTEND;TZID=America/Chicago:20250821T130000
DTSTAMP:20260419T203742
CREATED:20250812T195704Z
LAST-MODIFIED:20250821T204408Z
UID:18855-1755774000-1755781200@www.nwrls.com
SUMMARY:Senior Citizen's Day: Ice Cream Social
DESCRIPTION:All adults are welcome to celebrate Senior Citizen’s Day with an ice cream social at Wewahitchka Public Library! Join us from 11:00am – 1:00pm to enjoy a sweet treat.(Program geared for adults)\n\n*Program generously sponsored by the Friends of the Wewahitchka Library & the GFWC Wewahitchka Woman’s Club
URL:https://www.nwrls.com/event/senior-citizens-day-ice-cream-social/
LOCATION:Charles Whitehead Memorial Public Library\, 314 North Second Street\, Wewahitchka\, FL\, 32465\, United States
CATEGORIES:Charles Whitehead Public Library,Events,Locations
ATTACH;FMTTYPE=image/jpeg:https://www.nwrls.com/wp-content/uploads/2025/08/Senior-Citizen-Ice-Cream-Social-002.jpg
END:VEVENT
BEGIN:VEVENT
DTSTART;TZID=America/Chicago:20250821T153000
DTEND;TZID=America/Chicago:20250821T160000
DTSTAMP:20260419T203742
CREATED:20250529T130910Z
LAST-MODIFIED:20250529T130910Z
UID:18521-1755790200-1755792000@www.nwrls.com
SUMMARY:Pet Rock Adoption Event
DESCRIPTION:Adopt a pet rock! Care for your pet\, play a game\, and receive an official adoption certificate!
URL:https://www.nwrls.com/event/pet-rock-adoption-event/
LOCATION:Charles Whitehead Memorial Public Library\, 314 North Second Street\, Wewahitchka\, FL\, 32465\, United States
CATEGORIES:Charles Whitehead Public Library,Events,Locations
ATTACH;FMTTYPE=image/jpeg:https://www.nwrls.com/wp-content/uploads/2025/05/Pet-Rock-4.jpg
END:VEVENT
BEGIN:VEVENT
DTSTART;TZID=America/Chicago:20250825T113000
DTEND;TZID=America/Chicago:20250825T123000
DTSTAMP:20260419T203742
CREATED:20250529T200336Z
LAST-MODIFIED:20250529T200336Z
UID:18765-1756121400-1756125000@www.nwrls.com
SUMMARY:Busy Bee Readers Book Club
DESCRIPTION:Please contact Wewahitchka Library for monthly book club titles by calling 850-639-2419. Program geared for adults. 
URL:https://www.nwrls.com/event/busy-bee-readers-book-club-10/
LOCATION:Charles Whitehead Memorial Public Library\, 314 North Second Street\, Wewahitchka\, FL\, 32465\, United States
CATEGORIES:Charles Whitehead Public Library,Events,Locations
ATTACH;FMTTYPE=image/jpeg:https://www.nwrls.com/wp-content/uploads/2025/05/Busy-Bee-Readers-Book-Club.jpg
END:VEVENT
BEGIN:VEVENT
DTSTART;TZID=America/Chicago:20250826T100000
DTEND;TZID=America/Chicago:20250826T103000
DTSTAMP:20260419T203742
CREATED:20250529T130807Z
LAST-MODIFIED:20250529T130807Z
UID:18517-1756202400-1756204200@www.nwrls.com
SUMMARY:Budding Bookworms
DESCRIPTION:Stories\, songs\, & crafts to instill a love of reading! Recommended for up to 5 years of age with a caregiver.
URL:https://www.nwrls.com/event/budding-bookworms-25/
LOCATION:Charles Whitehead Memorial Public Library\, 314 North Second Street\, Wewahitchka\, FL\, 32465\, United States
CATEGORIES:Charles Whitehead Public Library,Events,Locations
END:VEVENT
BEGIN:VEVENT
DTSTART;TZID=America/Chicago:20250829T153000
DTEND;TZID=America/Chicago:20250829T163000
DTSTAMP:20260419T203742
CREATED:20250826T131605Z
LAST-MODIFIED:20250826T145615Z
UID:19344-1756481400-1756485000@www.nwrls.com
SUMMARY:Story Stroll
DESCRIPTION:Join us at the Wewahitchka Library for a story stroll!  Event in partnership with UF/IFAS Extension Office. \nCall the library at 850-639-2419 for more information!
URL:https://www.nwrls.com/event/story-stroll/
LOCATION:Charles Whitehead Memorial Public Library\, 314 North Second Street\, Wewahitchka\, FL\, 32465\, United States
CATEGORIES:Charles Whitehead Public Library,Events,Locations
ATTACH;FMTTYPE=image/jpeg:https://www.nwrls.com/wp-content/uploads/2025/08/Story-stroll.jpg
END:VEVENT
BEGIN:VEVENT
DTSTART;TZID=America/Chicago:20250830T100000
DTEND;TZID=America/Chicago:20250830T110000
DTSTAMP:20260419T203742
CREATED:20250529T200136Z
LAST-MODIFIED:20250529T200136Z
UID:18761-1756548000-1756551600@www.nwrls.com
SUMMARY:Simply Saturday Book Club
DESCRIPTION:Call the library at 850-639-2419 for monthly book club titles.
URL:https://www.nwrls.com/event/simply-saturday-book-club-3/
LOCATION:Charles Whitehead Memorial Public Library\, 314 North Second Street\, Wewahitchka\, FL\, 32465\, United States
CATEGORIES:Charles Whitehead Public Library,Events,Locations
ATTACH;FMTTYPE=image/jpeg:https://www.nwrls.com/wp-content/uploads/2025/05/Simply-Saturday-Book-Club.jpg
END:VEVENT
BEGIN:VEVENT
DTSTART;TZID=America/Chicago:20250830T120000
DTEND;TZID=America/Chicago:20250830T130000
DTSTAMP:20260419T203742
CREATED:20250529T130241Z
LAST-MODIFIED:20250529T130241Z
UID:18511-1756555200-1756558800@www.nwrls.com
SUMMARY:LEGO Club
DESCRIPTION:Build unique challenges followed by free play. Program geared for school aged children.
URL:https://www.nwrls.com/event/lego-club-25/
LOCATION:Charles Whitehead Memorial Public Library\, 314 North Second Street\, Wewahitchka\, FL\, 32465\, United States
CATEGORIES:Charles Whitehead Public Library,Events,Locations
ATTACH;FMTTYPE=image/jpeg:https://www.nwrls.com/wp-content/uploads/2025/05/Lego-Club-June-July-August.jpg
END:VEVENT
END:VCALENDAR