BEGIN:VCALENDAR
VERSION:2.0
PRODID:-//Northwest Regional Library System - ECPv6.15.20//NONSGML v1.0//EN
CALSCALE:GREGORIAN
METHOD:PUBLISH
X-ORIGINAL-URL:https://www.nwrls.com
X-WR-CALDESC:Events for Northwest Regional Library System
REFRESH-INTERVAL;VALUE=DURATION:PT1H
X-Robots-Tag:noindex
X-PUBLISHED-TTL:PT1H
BEGIN:VTIMEZONE
TZID:America/Chicago
BEGIN:DAYLIGHT
TZOFFSETFROM:-0600
TZOFFSETTO:-0500
TZNAME:CDT
DTSTART:20240310T080000
END:DAYLIGHT
BEGIN:STANDARD
TZOFFSETFROM:-0500
TZOFFSETTO:-0600
TZNAME:CST
DTSTART:20241103T070000
END:STANDARD
BEGIN:DAYLIGHT
TZOFFSETFROM:-0600
TZOFFSETTO:-0500
TZNAME:CDT
DTSTART:20250309T080000
END:DAYLIGHT
BEGIN:STANDARD
TZOFFSETFROM:-0500
TZOFFSETTO:-0600
TZNAME:CST
DTSTART:20251102T070000
END:STANDARD
BEGIN:DAYLIGHT
TZOFFSETFROM:-0600
TZOFFSETTO:-0500
TZNAME:CDT
DTSTART:20260308T080000
END:DAYLIGHT
BEGIN:STANDARD
TZOFFSETFROM:-0500
TZOFFSETTO:-0600
TZNAME:CST
DTSTART:20261101T070000
END:STANDARD
END:VTIMEZONE
BEGIN:VEVENT
DTSTART;TZID=America/Chicago:20250403T130000
DTEND;TZID=America/Chicago:20250403T140000
DTSTAMP:20260420T025302
CREATED:20250213T205647Z
LAST-MODIFIED:20250213T205647Z
UID:17918-1743685200-1743688800@www.nwrls.com
SUMMARY:Let’s Be Crafty: String Easter Eggs
DESCRIPTION:Create a fun Easter Egg from colorful string\, glue/water and a balloon! All materials provided. Program geared for adults. 
URL:https://www.nwrls.com/event/lets-be-crafty-string-easter-eggs/
LOCATION:Charles Whitehead Memorial Public Library\, 314 North Second Street\, Wewahitchka\, FL\, 32465\, United States
CATEGORIES:Charles Whitehead Public Library,Events,Locations
ATTACH;FMTTYPE=image/jpeg:https://www.nwrls.com/wp-content/uploads/2025/02/String-Eggs.jpg
END:VEVENT
BEGIN:VEVENT
DTSTART;TZID=America/Chicago:20250403T153000
DTEND;TZID=America/Chicago:20250403T163000
DTSTAMP:20260420T025302
CREATED:20250211T172619Z
LAST-MODIFIED:20250211T214405Z
UID:17812-1743694200-1743697800@www.nwrls.com
SUMMARY:LEGO Club
DESCRIPTION:Build unique challenges followed by free play. Program geared for school aged children.
URL:https://www.nwrls.com/event/lego-club-2/
LOCATION:Charles Whitehead Memorial Public Library\, 314 North Second Street\, Wewahitchka\, FL\, 32465\, United States
CATEGORIES:Charles Whitehead Public Library,Events,Locations
ATTACH;FMTTYPE=image/jpeg:https://www.nwrls.com/wp-content/uploads/2025/02/Lego-Club-March-April-May-1.jpg
END:VEVENT
BEGIN:VEVENT
DTSTART;TZID=America/Chicago:20250404T130000
DTEND;TZID=America/Chicago:20250404T140000
DTSTAMP:20260420T025302
CREATED:20250213T185216Z
LAST-MODIFIED:20250213T185216Z
UID:17890-1743771600-1743775200@www.nwrls.com
SUMMARY:Mahjong
DESCRIPTION:Join us for a fun\, social time with this tile-based game! All ages welcome to play and learn!
URL:https://www.nwrls.com/event/mahjong-3/
LOCATION:Charles Whitehead Memorial Public Library\, 314 North Second Street\, Wewahitchka\, FL\, 32465\, United States
CATEGORIES:Charles Whitehead Public Library,Events,Locations
ATTACH;FMTTYPE=image/jpeg:https://www.nwrls.com/wp-content/uploads/2025/02/Mahjong-March-April-May.jpg
END:VEVENT
BEGIN:VEVENT
DTSTART;TZID=America/Chicago:20250404T150000
DTEND;TZID=America/Chicago:20250404T160000
DTSTAMP:20260420T025302
CREATED:20250213T223856Z
LAST-MODIFIED:20250213T223856Z
UID:17939-1743778800-1743782400@www.nwrls.com
SUMMARY:Chess Club
DESCRIPTION:All ages and levels of experience are welcome: Adults\, Teens and Kids! \nChess board and pieces provided. You may also bring your own. Children can arrive after school gets out. \n 
URL:https://www.nwrls.com/event/chess-club-2/
LOCATION:Charles Whitehead Memorial Public Library\, 314 North Second Street\, Wewahitchka\, FL\, 32465\, United States
CATEGORIES:Charles Whitehead Public Library,Events,Locations
ATTACH;FMTTYPE=image/jpeg:https://www.nwrls.com/wp-content/uploads/2025/02/Chess-Club-March-April-May.jpg
END:VEVENT
BEGIN:VEVENT
DTSTART;TZID=America/Chicago:20250405T110000
DTEND;TZID=America/Chicago:20250405T120000
DTSTAMP:20260420T025302
CREATED:20250213T181409Z
LAST-MODIFIED:20250213T181409Z
UID:17857-1743850800-1743854400@www.nwrls.com
SUMMARY:Saturday Stories + Crafts (Children with Caregiver)
DESCRIPTION:Enjoy wonderful stories and create a fun craft! All children welcome with caregiver.
URL:https://www.nwrls.com/event/saturday-stories-crafts-children-with-caregiver-5/
LOCATION:Charles Whitehead Memorial Public Library\, 314 North Second Street\, Wewahitchka\, FL\, 32465\, United States
CATEGORIES:Charles Whitehead Public Library,Events,Locations
ATTACH;FMTTYPE=image/jpeg:https://www.nwrls.com/wp-content/uploads/2025/02/Saturday-Stories-Craft-March-April-May-1.jpg
END:VEVENT
BEGIN:VEVENT
DTSTART;TZID=America/Chicago:20250407T100000
DTEND;TZID=America/Chicago:20250407T103000
DTSTAMP:20260420T025302
CREATED:20250211T172039Z
LAST-MODIFIED:20250211T172039Z
UID:17801-1744020000-1744021800@www.nwrls.com
SUMMARY:Budding Bookworms
DESCRIPTION:Stories\, songs\, & crafts to instill a love of reading! Recommended for up to 5 years of age with a caregiver.
URL:https://www.nwrls.com/event/budding-bookworms-6/
LOCATION:Charles Whitehead Memorial Public Library\, 314 North Second Street\, Wewahitchka\, FL\, 32465\, United States
CATEGORIES:Charles Whitehead Public Library,Events,Locations
ATTACH;FMTTYPE=image/jpeg:https://www.nwrls.com/wp-content/uploads/2025/02/Budding-Bookworms-March-April-1.jpg
END:VEVENT
BEGIN:VEVENT
DTSTART;TZID=America/Chicago:20250408T150000
DTEND;TZID=America/Chicago:20250408T160000
DTSTAMP:20260420T025302
CREATED:20250213T224125Z
LAST-MODIFIED:20250213T224125Z
UID:17945-1744124400-1744128000@www.nwrls.com
SUMMARY:Chess Club
DESCRIPTION:All ages and levels of experience are welcome: Adults\, Teens and Kids! \nChess board and pieces provided. You may also bring your own. Children can arrive after school gets out. \n 
URL:https://www.nwrls.com/event/chess-club-5/
LOCATION:Charles Whitehead Memorial Public Library\, 314 North Second Street\, Wewahitchka\, FL\, 32465\, United States
CATEGORIES:Charles Whitehead Public Library,Events,Locations
ATTACH;FMTTYPE=image/jpeg:https://www.nwrls.com/wp-content/uploads/2025/02/Chess-Club-March-April-May.jpg
END:VEVENT
BEGIN:VEVENT
DTSTART;TZID=America/Chicago:20250410T100000
DTEND;TZID=America/Chicago:20250410T110000
DTSTAMP:20260420T025302
CREATED:20250213T190129Z
LAST-MODIFIED:20250213T190129Z
UID:17897-1744279200-1744282800@www.nwrls.com
SUMMARY:Friends of the Wewahitchka Library Monthly Meeting
DESCRIPTION:Meetings are open to all members. If you are not yet a member\, but are interested in supporting the library through advocacy\, volunteer work and fundraising\, we invite you to join us. \nPrintable Membership Form
URL:https://www.nwrls.com/event/friends-of-the-wewahitchka-library-monthly-meeting-2/
LOCATION:Charles Whitehead Memorial Public Library\, 314 North Second Street\, Wewahitchka\, FL\, 32465\, United States
CATEGORIES:Charles Whitehead Public Library,Events,Locations
ATTACH;FMTTYPE=image/jpeg:https://www.nwrls.com/wp-content/uploads/2025/02/Friends-Meetings-Mar-Apr-May.jpg
END:VEVENT
BEGIN:VEVENT
DTSTART;TZID=America/Chicago:20250410T153000
DTEND;TZID=America/Chicago:20250410T163000
DTSTAMP:20260420T025302
CREATED:20250213T183404Z
LAST-MODIFIED:20250214T194641Z
UID:17874-1744299000-1744302600@www.nwrls.com
SUMMARY:Easter Egg Hunt
DESCRIPTION:Join us for an after school outdoor Easter egg hunt. Bring a basket. Children must have a caregiver outside with them.
URL:https://www.nwrls.com/event/easter-egg-hunt/
LOCATION:Charles Whitehead Memorial Public Library\, 314 North Second Street\, Wewahitchka\, FL\, 32465\, United States
CATEGORIES:Charles Whitehead Public Library,Events,Locations
ATTACH;FMTTYPE=image/jpeg:https://www.nwrls.com/wp-content/uploads/2025/02/Easter-Egg-Hunt.jpg
END:VEVENT
BEGIN:VEVENT
DTSTART;TZID=America/Chicago:20250412T110000
DTEND;TZID=America/Chicago:20250412T120000
DTSTAMP:20260420T025302
CREATED:20250213T224726Z
LAST-MODIFIED:20250213T224726Z
UID:17955-1744455600-1744459200@www.nwrls.com
SUMMARY:National Board Game Day
DESCRIPTION:Spend your Saturday enjoying a variety of games with others. Children must be accompanied by an adult. \n 
URL:https://www.nwrls.com/event/national-board-game-day/
LOCATION:Charles Whitehead Memorial Public Library\, 314 North Second Street\, Wewahitchka\, FL\, 32465\, United States
CATEGORIES:Charles Whitehead Public Library,Events,Locations
ATTACH;FMTTYPE=image/jpeg:https://www.nwrls.com/wp-content/uploads/2025/02/Board-Game-Day.jpg
END:VEVENT
BEGIN:VEVENT
DTSTART;TZID=America/Chicago:20250414T100000
DTEND;TZID=America/Chicago:20250414T103000
DTSTAMP:20260420T025302
CREATED:20250211T172050Z
LAST-MODIFIED:20250211T172050Z
UID:17803-1744624800-1744626600@www.nwrls.com
SUMMARY:Budding Bookworms
DESCRIPTION:Stories\, songs\, & crafts to instill a love of reading! Recommended for up to 5 years of age with a caregiver.
URL:https://www.nwrls.com/event/budding-bookworms-7/
LOCATION:Charles Whitehead Memorial Public Library\, 314 North Second Street\, Wewahitchka\, FL\, 32465\, United States
CATEGORIES:Charles Whitehead Public Library,Events,Locations
ATTACH;FMTTYPE=image/jpeg:https://www.nwrls.com/wp-content/uploads/2025/02/Budding-Bookworms-March-April-1.jpg
END:VEVENT
BEGIN:VEVENT
DTSTART;TZID=America/Chicago:20250417T150000
DTEND;TZID=America/Chicago:20250417T160000
DTSTAMP:20260420T025302
CREATED:20250213T182414Z
LAST-MODIFIED:20250213T182414Z
UID:17866-1744902000-1744905600@www.nwrls.com
SUMMARY:Easter Tea Party (Children's Program)
DESCRIPTION:Let’s dress up fancy and have an Easter tea party to celebrate the holiday! Sponsored by the Friends of the Wewahitchka Library.
URL:https://www.nwrls.com/event/easter-tea-party-childrens-program/
LOCATION:Charles Whitehead Memorial Public Library\, 314 North Second Street\, Wewahitchka\, FL\, 32465\, United States
CATEGORIES:Charles Whitehead Public Library,Events,Locations
ATTACH;FMTTYPE=image/jpeg:https://www.nwrls.com/wp-content/uploads/2025/02/Easter-Tea-Party-1.jpg
END:VEVENT
BEGIN:VEVENT
DTSTART;VALUE=DATE:20250418
DTEND;VALUE=DATE:20250419
DTSTAMP:20260420T025302
CREATED:20250206T211810Z
LAST-MODIFIED:20250206T212608Z
UID:17470-1744934400-1745020799@www.nwrls.com
SUMMARY:Closed for Good Friday
DESCRIPTION:All Northwest Regional Library System Locations will be CLOSED for Good Friday (Friday\, April 18). \n**Locations will close by 5 p.m. on April 17.
URL:https://www.nwrls.com/event/closed-for-good-friday/
LOCATION:FL
CATEGORIES:Bay County Public Library,Charles Whitehead Public Library,Corinne Costin Gibson Memorial Public Library,Events,Harrell Memorial Public Library,Jimmy Weaver Memorial Library,Locations,Panama City Beach Library,Parker Public Library
ATTACH;FMTTYPE=image/jpeg:https://www.nwrls.com/wp-content/uploads/2025/02/Spring-Holidays.jpg
END:VEVENT
BEGIN:VEVENT
DTSTART;TZID=America/Chicago:20250419T110000
DTEND;TZID=America/Chicago:20250419T120000
DTSTAMP:20260420T025302
CREATED:20250213T224237Z
LAST-MODIFIED:20250213T224237Z
UID:17951-1745060400-1745064000@www.nwrls.com
SUMMARY:Chess Club
DESCRIPTION:All ages and levels of experience are welcome: Adults\, Teens and Kids! \nChess board and pieces provided. You may also bring your own. Children can arrive after school gets out. \n 
URL:https://www.nwrls.com/event/chess-club-11/
LOCATION:Charles Whitehead Memorial Public Library\, 314 North Second Street\, Wewahitchka\, FL\, 32465\, United States
CATEGORIES:Charles Whitehead Public Library,Events,Locations
ATTACH;FMTTYPE=image/jpeg:https://www.nwrls.com/wp-content/uploads/2025/02/Chess-Club-March-April-May.jpg
END:VEVENT
BEGIN:VEVENT
DTSTART;TZID=America/Chicago:20250421T100000
DTEND;TZID=America/Chicago:20250421T103000
DTSTAMP:20260420T025302
CREATED:20250211T172101Z
LAST-MODIFIED:20250211T172101Z
UID:17805-1745229600-1745231400@www.nwrls.com
SUMMARY:Budding Bookworms
DESCRIPTION:Stories\, songs\, & crafts to instill a love of reading! Recommended for up to 5 years of age with a caregiver.
URL:https://www.nwrls.com/event/budding-bookworms-18/
LOCATION:Charles Whitehead Memorial Public Library\, 314 North Second Street\, Wewahitchka\, FL\, 32465\, United States
CATEGORIES:Charles Whitehead Public Library,Events,Locations
ATTACH;FMTTYPE=image/jpeg:https://www.nwrls.com/wp-content/uploads/2025/02/Budding-Bookworms-March-April-1.jpg
END:VEVENT
BEGIN:VEVENT
DTSTART;TZID=America/Chicago:20250422T130000
DTEND;TZID=America/Chicago:20250422T140000
DTSTAMP:20260420T025302
CREATED:20250213T203516Z
LAST-MODIFIED:20250213T203516Z
UID:17906-1745326800-1745330400@www.nwrls.com
SUMMARY:Rummikub
DESCRIPTION:Join us for a fun and social game of Rummikub! All ages are welcome to play and learn.
URL:https://www.nwrls.com/event/rummikub-5/
LOCATION:Charles Whitehead Memorial Public Library\, 314 North Second Street\, Wewahitchka\, FL\, 32465\, United States
CATEGORIES:Charles Whitehead Public Library,Events,Locations
ATTACH;FMTTYPE=image/jpeg:https://www.nwrls.com/wp-content/uploads/2025/02/Rummikub-March-April-May.jpg
END:VEVENT
BEGIN:VEVENT
DTSTART;TZID=America/Chicago:20250422T153000
DTEND;TZID=America/Chicago:20250422T163000
DTSTAMP:20260420T025302
CREATED:20250213T210841Z
LAST-MODIFIED:20250214T194840Z
UID:17927-1745335800-1745339400@www.nwrls.com
SUMMARY:Scrapbooking Workshops (All Ages)
DESCRIPTION:Join us to preserve your memories by bringing at least ten photos. Come early if printing from your phone. Some supplies provided or bring your own.
URL:https://www.nwrls.com/event/scrapbooking-workshops-all-ages-2/
LOCATION:Charles Whitehead Memorial Public Library\, 314 North Second Street\, Wewahitchka\, FL\, 32465\, United States
CATEGORIES:Charles Whitehead Public Library,Events,Locations
ATTACH;FMTTYPE=image/jpeg:https://www.nwrls.com/wp-content/uploads/2025/02/Scrapbooking-Workshops.jpg
END:VEVENT
BEGIN:VEVENT
DTSTART;TZID=America/Chicago:20250425T150000
DTEND;TZID=America/Chicago:20250425T160000
DTSTAMP:20260420T025302
CREATED:20250213T205331Z
LAST-MODIFIED:20250213T205331Z
UID:17916-1745593200-1745596800@www.nwrls.com
SUMMARY:Genealogy: DNA
DESCRIPTION:Learn about how DNA can help you find your ancestors. We’ll discuss the various forms of DNA and companies that offer it. Program geared for adults. 
URL:https://www.nwrls.com/event/genealogy-dna/
LOCATION:Charles Whitehead Memorial Public Library\, 314 North Second Street\, Wewahitchka\, FL\, 32465\, United States
CATEGORIES:Charles Whitehead Public Library,Events,Locations
ATTACH;FMTTYPE=image/jpeg:https://www.nwrls.com/wp-content/uploads/2025/02/Geneology-DNA.jpg
END:VEVENT
BEGIN:VEVENT
DTSTART;TZID=America/Chicago:20250426T110000
DTEND;TZID=America/Chicago:20250426T120000
DTSTAMP:20260420T025302
CREATED:20250211T172749Z
LAST-MODIFIED:20250211T213912Z
UID:17818-1745665200-1745668800@www.nwrls.com
SUMMARY:LEGO Club
DESCRIPTION:Build unique challenges followed by free play. Program geared for school aged children.
URL:https://www.nwrls.com/event/lego-club-6/
LOCATION:Charles Whitehead Memorial Public Library\, 314 North Second Street\, Wewahitchka\, FL\, 32465\, United States
CATEGORIES:Charles Whitehead Public Library,Events,Locations
ATTACH;FMTTYPE=image/jpeg:https://www.nwrls.com/wp-content/uploads/2025/02/Lego-Club-March-April-May-1.jpg
END:VEVENT
BEGIN:VEVENT
DTSTART;TZID=America/Chicago:20250428T100000
DTEND;TZID=America/Chicago:20250428T103000
DTSTAMP:20260420T025302
CREATED:20250211T172112Z
LAST-MODIFIED:20250211T172112Z
UID:17807-1745834400-1745836200@www.nwrls.com
SUMMARY:Budding Bookworms
DESCRIPTION:Stories\, songs\, & crafts to instill a love of reading! Recommended for up to 5 years of age with a caregiver.
URL:https://www.nwrls.com/event/budding-bookworms-23/
LOCATION:Charles Whitehead Memorial Public Library\, 314 North Second Street\, Wewahitchka\, FL\, 32465\, United States
CATEGORIES:Charles Whitehead Public Library,Events,Locations
ATTACH;FMTTYPE=image/jpeg:https://www.nwrls.com/wp-content/uploads/2025/02/Budding-Bookworms-March-April-1.jpg
END:VEVENT
BEGIN:VEVENT
DTSTART;TZID=America/Chicago:20250428T113000
DTEND;TZID=America/Chicago:20250428T123000
DTSTAMP:20260420T025302
CREATED:20250213T204621Z
LAST-MODIFIED:20250213T204621Z
UID:17912-1745839800-1745843400@www.nwrls.com
SUMMARY:Busy Bee Readers Book Club
DESCRIPTION:Please contact Wewahitchka Library for monthly book club titles by calling 850-639-2419. Program geared for adults. 
URL:https://www.nwrls.com/event/busy-bee-readers-book-club-2/
LOCATION:Charles Whitehead Memorial Public Library\, 314 North Second Street\, Wewahitchka\, FL\, 32465\, United States
CATEGORIES:Charles Whitehead Public Library,Events,Locations
ATTACH;FMTTYPE=image/jpeg:https://www.nwrls.com/wp-content/uploads/2024/11/Wewa-Book-CLub-busy-bee-readers.jpg
END:VEVENT
END:VCALENDAR