BEGIN:VCALENDAR
VERSION:2.0
PRODID:-//Northwest Regional Library System - ECPv6.15.20//NONSGML v1.0//EN
CALSCALE:GREGORIAN
METHOD:PUBLISH
X-ORIGINAL-URL:https://www.nwrls.com
X-WR-CALDESC:Events for Northwest Regional Library System
REFRESH-INTERVAL;VALUE=DURATION:PT1H
X-Robots-Tag:noindex
X-PUBLISHED-TTL:PT1H
BEGIN:VTIMEZONE
TZID:America/Chicago
BEGIN:DAYLIGHT
TZOFFSETFROM:-0600
TZOFFSETTO:-0500
TZNAME:CDT
DTSTART:20250309T080000
END:DAYLIGHT
BEGIN:STANDARD
TZOFFSETFROM:-0500
TZOFFSETTO:-0600
TZNAME:CST
DTSTART:20251102T070000
END:STANDARD
BEGIN:DAYLIGHT
TZOFFSETFROM:-0600
TZOFFSETTO:-0500
TZNAME:CDT
DTSTART:20260308T080000
END:DAYLIGHT
BEGIN:STANDARD
TZOFFSETFROM:-0500
TZOFFSETTO:-0600
TZNAME:CST
DTSTART:20261101T070000
END:STANDARD
BEGIN:DAYLIGHT
TZOFFSETFROM:-0600
TZOFFSETTO:-0500
TZNAME:CDT
DTSTART:20270314T080000
END:DAYLIGHT
BEGIN:STANDARD
TZOFFSETFROM:-0500
TZOFFSETTO:-0600
TZNAME:CST
DTSTART:20271107T070000
END:STANDARD
END:VTIMEZONE
BEGIN:VEVENT
DTSTART;TZID=America/Chicago:20260401T090000
DTEND;TZID=America/Chicago:20260430T170000
DTSTAMP:20260419T120109
CREATED:20260224T191318Z
LAST-MODIFIED:20260224T191318Z
UID:21420-1775034000-1777568400@www.nwrls.com
SUMMARY:Spring Reading Challenge (April 1 - 30)
DESCRIPTION:Participating Libraries:  Bay County Public Library\, Parker Public Library\, Panama City Beach Public Library \nApril 1 – 30\nCheck out items in April to be entered in a raffle prize drawing! (1 entry per person) There will be one small prize for kids\, one for teens\, and one for adults. \nThank you to the Friends of the Bay County Public Libraries for funding special campaigns like this!
URL:https://www.nwrls.com/event/spring-reading-challenge-april-1-30/
LOCATION:FL
CATEGORIES:Bay County Public Library,Events,Locations,Panama City Beach Library,Parker Public Library
ATTACH;FMTTYPE=image/jpeg:https://www.nwrls.com/wp-content/uploads/2026/02/BCPL-Spring-Programs-1-1.jpg
END:VEVENT
BEGIN:VEVENT
DTSTART;TZID=America/Chicago:20260414T093000
DTEND;TZID=America/Chicago:20260414T110000
DTSTAMP:20260419T120109
CREATED:20260212T215817Z
LAST-MODIFIED:20260212T215817Z
UID:20991-1776159000-1776164400@www.nwrls.com
SUMMARY:Bouncin' Babies & Toddlin' 2's  (Ages 0 - 2 with caregiver)
DESCRIPTION:Two start times for the same class – 9:30 a.m. and 10:30 a.m. \nStories\, bounces and rhymes for littles to build early literacy skills. Class limited to 40 people per session\, arrive early to reserve your spot. \nBouncin’ Babies & Toddlin’ 2’s happens weekly on Tuesdays thru May 12!
URL:https://www.nwrls.com/event/bouncin-babies-toddlin-2s-ages-0-2-with-caregiver-49/
LOCATION:Bay County Public Library\, 898 W 11th Street\, Panama City\, FL\, 32401\, United States
CATEGORIES:Bay County Public Library,Events,Locations
ATTACH;FMTTYPE=image/jpeg:https://www.nwrls.com/wp-content/uploads/2025/11/Bouncin-Babes.jpg
END:VEVENT
BEGIN:VEVENT
DTSTART;TZID=America/Chicago:20260414T160000
DTEND;TZID=America/Chicago:20260414T170000
DTSTAMP:20260419T120109
CREATED:20260213T161750Z
LAST-MODIFIED:20260213T161752Z
UID:21045-1776182400-1776186000@www.nwrls.com
SUMMARY:Gardening Basics (Ages 14 - 17 / Registration Required)
DESCRIPTION:Learn some gardening tips from experts with UF/IFAS Bay County Extension Office! \nRegistration required. Call 850-522-2118 to register or message us on the Bay County Public Library Facebook page.
URL:https://www.nwrls.com/event/gardening-basics-ages-14-17-registration-required/
LOCATION:Bay County Public Library\, 898 W 11th Street\, Panama City\, FL\, 32401\, United States
CATEGORIES:Bay County Public Library,Events,Locations
ATTACH;FMTTYPE=image/jpeg:https://www.nwrls.com/wp-content/uploads/2026/02/Gardening-Basics.jpg
END:VEVENT
BEGIN:VEVENT
DTSTART;TZID=America/Chicago:20260414T170000
DTEND;TZID=America/Chicago:20260414T180000
DTSTAMP:20260419T120109
CREATED:20260401T144902Z
LAST-MODIFIED:20260401T144902Z
UID:21656-1776186000-1776189600@www.nwrls.com
SUMMARY:Audubon Art Exhibit & Reception
DESCRIPTION:The Audubon Art Exhibit will be on display throughout April and May 2026 in the Bay County Public Library galleries. The bird photographs and paintings are by members and friends of the Bay County Audubon Society. The art reception is Tuesday\, April 14 from 5 – 6 p.m. CT. Visit anytime during this timeframe to meet the artists\, and learn about their creative process and our local Audubon chapter. The event is free and open to the public with light refreshments.\n\nFeatured Bay County Audubon Society Artists:Bonnie Brant\, Susan Butler\, Mary Jo Capra\, Gail Casteel\, Donna Cronwell\, Earl Henderson\, Jocelyn Labranche\, Robert McGill\, Sandi Newsom\, and Cathy Vaden\n\nIf interested in birds or learning more about them\, you are invited to join your local Audubon Chapter. The Bay County Audubon Society’s monthly meetings are held at the St. Andrews Episcopal Church on the second Monday of each month from September to May. You can also participate in their birding field trips. For more information\, visit https://baycountyaudubon.org.
URL:https://www.nwrls.com/event/audubon-art-exhibit-reception/
LOCATION:Bay County Public Library\, 898 W 11th Street\, Panama City\, FL\, 32401\, United States
CATEGORIES:Bay County Public Library,Events,Locations
ATTACH;FMTTYPE=image/jpeg:https://www.nwrls.com/wp-content/uploads/2026/04/BCPL-Spring-Programs-10.jpg
END:VEVENT
END:VCALENDAR