BEGIN:VCALENDAR
VERSION:2.0
PRODID:-//Northwest Regional Library System - ECPv6.15.20//NONSGML v1.0//EN
CALSCALE:GREGORIAN
METHOD:PUBLISH
X-ORIGINAL-URL:https://www.nwrls.com
X-WR-CALDESC:Events for Northwest Regional Library System
REFRESH-INTERVAL;VALUE=DURATION:PT1H
X-Robots-Tag:noindex
X-PUBLISHED-TTL:PT1H
BEGIN:VTIMEZONE
TZID:America/Chicago
BEGIN:DAYLIGHT
TZOFFSETFROM:-0600
TZOFFSETTO:-0500
TZNAME:CDT
DTSTART:20250309T080000
END:DAYLIGHT
BEGIN:STANDARD
TZOFFSETFROM:-0500
TZOFFSETTO:-0600
TZNAME:CST
DTSTART:20251102T070000
END:STANDARD
BEGIN:DAYLIGHT
TZOFFSETFROM:-0600
TZOFFSETTO:-0500
TZNAME:CDT
DTSTART:20260308T080000
END:DAYLIGHT
BEGIN:STANDARD
TZOFFSETFROM:-0500
TZOFFSETTO:-0600
TZNAME:CST
DTSTART:20261101T070000
END:STANDARD
BEGIN:DAYLIGHT
TZOFFSETFROM:-0600
TZOFFSETTO:-0500
TZNAME:CDT
DTSTART:20270314T080000
END:DAYLIGHT
BEGIN:STANDARD
TZOFFSETFROM:-0500
TZOFFSETTO:-0600
TZNAME:CST
DTSTART:20271107T070000
END:STANDARD
END:VTIMEZONE
BEGIN:VEVENT
DTSTART;TZID=America/Chicago:20260326T093000
DTEND;TZID=America/Chicago:20260326T110000
DTSTAMP:20260419T132516
CREATED:20260212T202352Z
LAST-MODIFIED:20260212T202354Z
UID:20918-1774517400-1774522800@www.nwrls.com
SUMMARY:Digital Literacy Class: Diamonds in the Dot.com (Registration Required)
DESCRIPTION:There are so many hidden gems online!  Learn about these helpful websites and online tips from an expert librarian. \nRegistration required. Seating is limited. Visit the Adult Services Information Desk or call 850-522-2107 to register. \n 
URL:https://www.nwrls.com/event/digital-literacy-class-diamonds-in-the-dot-com-registration-required/
LOCATION:Bay County Public Library\, 898 W 11th Street\, Panama City\, FL\, 32401\, United States
CATEGORIES:Bay County Public Library,Events,Locations
ATTACH;FMTTYPE=image/jpeg:https://www.nwrls.com/wp-content/uploads/2026/02/DL-Diamonds.jpg
END:VEVENT
BEGIN:VEVENT
DTSTART;TZID=America/Chicago:20260326T103000
DTEND;TZID=America/Chicago:20260326T110000
DTSTAMP:20260419T132516
CREATED:20260213T162436Z
LAST-MODIFIED:20260213T162438Z
UID:21055-1774521000-1774522800@www.nwrls.com
SUMMARY:Read & Rhyme Storytime (Ages 3 - 5 with Caregiver)
DESCRIPTION:Enjoy stories and songs with your preschooler while they learn early literacy skills.
URL:https://www.nwrls.com/event/read-rhyme-storytime-ages-3-5-with-caregiver-49/
LOCATION:Bay County Public Library\, 898 W 11th Street\, Panama City\, FL\, 32401\, United States
CATEGORIES:Bay County Public Library,Events,Locations
ATTACH;FMTTYPE=image/jpeg:https://www.nwrls.com/wp-content/uploads/2024/08/ReadRhyme-Presentation-Size.jpg
END:VEVENT
BEGIN:VEVENT
DTSTART;TZID=America/Chicago:20260326T140000
DTEND;TZID=America/Chicago:20260326T163000
DTSTAMP:20260419T132516
CREATED:20260223T140931Z
LAST-MODIFIED:20260223T140931Z
UID:21376-1774533600-1774542600@www.nwrls.com
SUMMARY:Ready\, Set\, Sketch (Ages 6 - 12)
DESCRIPTION:Drop by for basic art lessons and free-draw sessions. (Same Class each time)\nThere are two class times available: \n\n2:00 – 3:00 p.m. CT\n3:30 – 4:30 p.m. CT
URL:https://www.nwrls.com/event/ready-set-sketch-ages-6-12-3/
LOCATION:Bay County Public Library\, 898 W 11th Street\, Panama City\, FL\, 32401\, United States
CATEGORIES:Bay County Public Library,Events,Locations
ATTACH;FMTTYPE=image/jpeg:https://www.nwrls.com/wp-content/uploads/2026/02/Ready-Set-Sketch.jpg
END:VEVENT
END:VCALENDAR