BEGIN:VCALENDAR
VERSION:2.0
PRODID:-//Northwest Regional Library System - ECPv6.15.20//NONSGML v1.0//EN
CALSCALE:GREGORIAN
METHOD:PUBLISH
X-WR-CALNAME:Northwest Regional Library System
X-ORIGINAL-URL:https://www.nwrls.com
X-WR-CALDESC:Events for Northwest Regional Library System
REFRESH-INTERVAL;VALUE=DURATION:PT1H
X-Robots-Tag:noindex
X-PUBLISHED-TTL:PT1H
BEGIN:VTIMEZONE
TZID:America/Chicago
BEGIN:DAYLIGHT
TZOFFSETFROM:-0600
TZOFFSETTO:-0500
TZNAME:CDT
DTSTART:20250309T080000
END:DAYLIGHT
BEGIN:STANDARD
TZOFFSETFROM:-0500
TZOFFSETTO:-0600
TZNAME:CST
DTSTART:20251102T070000
END:STANDARD
BEGIN:DAYLIGHT
TZOFFSETFROM:-0600
TZOFFSETTO:-0500
TZNAME:CDT
DTSTART:20260308T080000
END:DAYLIGHT
BEGIN:STANDARD
TZOFFSETFROM:-0500
TZOFFSETTO:-0600
TZNAME:CST
DTSTART:20261101T070000
END:STANDARD
BEGIN:DAYLIGHT
TZOFFSETFROM:-0600
TZOFFSETTO:-0500
TZNAME:CDT
DTSTART:20270314T080000
END:DAYLIGHT
BEGIN:STANDARD
TZOFFSETFROM:-0500
TZOFFSETTO:-0600
TZNAME:CST
DTSTART:20271107T070000
END:STANDARD
END:VTIMEZONE
BEGIN:VEVENT
DTSTART;TZID=America/Chicago:20260325T160000
DTEND;TZID=America/Chicago:20260325T170000
DTSTAMP:20260419T132252
CREATED:20260224T180333Z
LAST-MODIFIED:20260224T180333Z
UID:21404-1774454400-1774458000@www.nwrls.com
SUMMARY:Youth Japanese Language Club (Ages 6 - 12\, Registration Required)
DESCRIPTION:Learn basic words and phrases in this beginner-friendly Japanese class.  Registration Required. Call 850-522-2118 or visit Youth Services to register.
URL:https://www.nwrls.com/event/youth-japanese-language-club-ages-6-12-registration-required-6/
LOCATION:Bay County Public Library\, 898 W 11th Street\, Panama City\, FL\, 32401\, United States
CATEGORIES:Bay County Public Library,Events,Locations
ATTACH;FMTTYPE=image/jpeg:https://www.nwrls.com/wp-content/uploads/2026/02/Youth-JLC-No-Logo.jpg
END:VEVENT
BEGIN:VEVENT
DTSTART;TZID=America/Chicago:20260325T163000
DTEND;TZID=America/Chicago:20260325T183000
DTSTAMP:20260419T132252
CREATED:20260213T161232Z
LAST-MODIFIED:20260213T161232Z
UID:21034-1774456200-1774463400@www.nwrls.com
SUMMARY:Teen Game Night (Ages 13 - 18 / Registration Required)
DESCRIPTION:Play various Switch games in the Meeting Room. Program in the Meeting Room. Program geared for ages 13 – 18. \nRegistration encouraged. Visit the Youth Services Department or call 850-522-2118 to register. \n 
URL:https://www.nwrls.com/event/teen-game-night-ages-13-18-registration-required-9/
LOCATION:Bay County Public Library\, 898 W 11th Street\, Panama City\, FL\, 32401\, United States
CATEGORIES:Bay County Public Library,Events,Locations
ATTACH;FMTTYPE=image/jpeg:https://www.nwrls.com/wp-content/uploads/2026/02/Teen-Game-Night.jpg
END:VEVENT
END:VCALENDAR