BEGIN:VCALENDAR
VERSION:2.0
PRODID:-//Northwest Regional Library System - ECPv6.15.20//NONSGML v1.0//EN
CALSCALE:GREGORIAN
METHOD:PUBLISH
X-WR-CALNAME:Northwest Regional Library System
X-ORIGINAL-URL:https://www.nwrls.com
X-WR-CALDESC:Events for Northwest Regional Library System
REFRESH-INTERVAL;VALUE=DURATION:PT1H
X-Robots-Tag:noindex
X-PUBLISHED-TTL:PT1H
BEGIN:VTIMEZONE
TZID:America/Chicago
BEGIN:DAYLIGHT
TZOFFSETFROM:-0600
TZOFFSETTO:-0500
TZNAME:CDT
DTSTART:20240310T080000
END:DAYLIGHT
BEGIN:STANDARD
TZOFFSETFROM:-0500
TZOFFSETTO:-0600
TZNAME:CST
DTSTART:20241103T070000
END:STANDARD
BEGIN:DAYLIGHT
TZOFFSETFROM:-0600
TZOFFSETTO:-0500
TZNAME:CDT
DTSTART:20250309T080000
END:DAYLIGHT
BEGIN:STANDARD
TZOFFSETFROM:-0500
TZOFFSETTO:-0600
TZNAME:CST
DTSTART:20251102T070000
END:STANDARD
BEGIN:DAYLIGHT
TZOFFSETFROM:-0600
TZOFFSETTO:-0500
TZNAME:CDT
DTSTART:20260308T080000
END:DAYLIGHT
BEGIN:STANDARD
TZOFFSETFROM:-0500
TZOFFSETTO:-0600
TZNAME:CST
DTSTART:20261101T070000
END:STANDARD
END:VTIMEZONE
BEGIN:VEVENT
DTSTART;VALUE=DATE:20250902
DTEND;VALUE=DATE:20251001
DTSTAMP:20260419T220721
CREATED:20250903T152533Z
LAST-MODIFIED:20250903T152533Z
UID:19207-1756771200-1759276799@www.nwrls.com
SUMMARY:September - Kids Scavenger Hunt
DESCRIPTION:Library Scavenger Hunt (School Age)\nSeptember 1 – 30 \nComplete a scavenger hunt at the library and be entered in our Library Card Sign-Up Month raffle!  Limit one scavenger hunt per child. \nParticipating Libraries: Bay County Public Library\, Panama City Beach Public Library\, and Parker Public Library \nPrize: Lego Classic Set & 365 Things to do With Lego Bricks book
URL:https://www.nwrls.com/event/september-kids-scavenger-hunt/
LOCATION:Bay County Public Library\, 898 W 11th Street\, Panama City\, FL\, 32401\, United States
CATEGORIES:Bay County Public Library,Events,Locations,Panama City Beach Library,Parker Public Library
ATTACH;FMTTYPE=image/png:https://www.nwrls.com/wp-content/uploads/2025/09/What-would-the-title-of-your-memoir-be-1.png
END:VEVENT
BEGIN:VEVENT
DTSTART;VALUE=DATE:20250902
DTEND;VALUE=DATE:20251001
DTSTAMP:20260419T220721
CREATED:20250903T152844Z
LAST-MODIFIED:20250903T152844Z
UID:19542-1756771200-1759276799@www.nwrls.com
SUMMARY:September - Adult Scavenger Hunt
DESCRIPTION:Library Scavenger Hunt (Adults)\nSeptember 1 – 30 \nComplete a scavenger hunt at the library and be entered in our Library Card Sign-Up Month raffle!  Limit one scavenger hunt per adult. \nParticipating Library: Bay County Public Library \nPrize:  a blanket\, compass\, National Parks of the USA travel guide\, PBS The Hummingbird Effect DVD\, & A Happier Life by Kristy Woodson Harvey
URL:https://www.nwrls.com/event/september-adult-scavenger-hunt/
LOCATION:Bay County Public Library\, 898 W 11th Street\, Panama City\, FL\, 32401\, United States
CATEGORIES:Bay County Public Library,Events,Locations
ATTACH;FMTTYPE=image/png:https://www.nwrls.com/wp-content/uploads/2025/09/What-would-the-title-of-your-memoir-be-2.png
END:VEVENT
BEGIN:VEVENT
DTSTART;TZID=America/Chicago:20250909T093000
DTEND;TZID=America/Chicago:20250909T110000
DTSTAMP:20260419T220721
CREATED:20250821T192311Z
LAST-MODIFIED:20250821T192311Z
UID:19096-1757410200-1757415600@www.nwrls.com
SUMMARY:Digital Literacy Class: Computer & Internet Basics (Registration Required)
DESCRIPTION:Computer Basics is an introduction for those who are new to using a PC or want to build more confidence using the Windows 11 operating system. Internet Basics are for those new to the internet or want to build more confidence finding information online and navigating websites. \nRegistration required. Seating is limited. Visit the Adult Services Information Desk or call 850-522-2107 to register. \nLocation for class: Adult Services Computer Lab \n 
URL:https://www.nwrls.com/event/digital-literacy-class-computer-internet-basics-registration-required-8/
LOCATION:Bay County Public Library\, 898 W 11th Street\, Panama City\, FL\, 32401\, United States
CATEGORIES:Bay County Public Library,Events,Locations
ATTACH;FMTTYPE=image/jpeg:https://www.nwrls.com/wp-content/uploads/2024/11/Digital-Literacy-Classes.jpg
END:VEVENT
BEGIN:VEVENT
DTSTART;TZID=America/Chicago:20250909T093000
DTEND;TZID=America/Chicago:20250909T110000
DTSTAMP:20260419T220721
CREATED:20250903T134951Z
LAST-MODIFIED:20250903T134951Z
UID:19494-1757410200-1757415600@www.nwrls.com
SUMMARY:Bouncin’ Babies & Toddlin’ 2s (Ages 0 - 2 with Caregiver)
DESCRIPTION:Two start times for the same class – 9:30 a.m. and 10:30 a.m. \nStories\, bounces and rhymes for littles to build early literacy skills. Class limited to 40 people per session\, arrive early to reserve your spot.
URL:https://www.nwrls.com/event/bouncin-babies-toddlin-2s-ages-0-2-with-caregiver-10/
LOCATION:Bay County Public Library\, 898 W 11th Street\, Panama City\, FL\, 32401\, United States
CATEGORIES:Bay County Public Library,Events,Locations
ATTACH;FMTTYPE=image/jpeg:https://www.nwrls.com/wp-content/uploads/2024/08/BBTT-Presentation-Size.jpg
END:VEVENT
BEGIN:VEVENT
DTSTART;TZID=America/Chicago:20250909T160000
DTEND;TZID=America/Chicago:20250909T170000
DTSTAMP:20260419T220721
CREATED:20250804T204147Z
LAST-MODIFIED:20250821T204129Z
UID:18838-1757433600-1757437200@www.nwrls.com
SUMMARY:Art Club (Registration Required)
DESCRIPTION:Make themed art/craft projects or bring your own! Program geared for ages 12-17.\nSeptember:  Air Dry Clay \nRegistration Required. To register\, call 850-522-2118 or send us a message on our Bay County Public Library Facebook page.
URL:https://www.nwrls.com/event/art-club-registration-required/
LOCATION:Bay County Public Library\, 898 W 11th Street\, Panama City\, FL\, 32401\, United States
CATEGORIES:Bay County Public Library,Events,Locations
ATTACH;FMTTYPE=image/jpeg:https://www.nwrls.com/wp-content/uploads/2025/08/Art-Club.jpg
END:VEVENT
END:VCALENDAR