BEGIN:VCALENDAR
VERSION:2.0
PRODID:-//Northwest Regional Library System - ECPv6.15.20//NONSGML v1.0//EN
CALSCALE:GREGORIAN
METHOD:PUBLISH
X-ORIGINAL-URL:https://www.nwrls.com
X-WR-CALDESC:Events for Northwest Regional Library System
REFRESH-INTERVAL;VALUE=DURATION:PT1H
X-Robots-Tag:noindex
X-PUBLISHED-TTL:PT1H
BEGIN:VTIMEZONE
TZID:America/Chicago
BEGIN:DAYLIGHT
TZOFFSETFROM:-0600
TZOFFSETTO:-0500
TZNAME:CDT
DTSTART:20240310T080000
END:DAYLIGHT
BEGIN:STANDARD
TZOFFSETFROM:-0500
TZOFFSETTO:-0600
TZNAME:CST
DTSTART:20241103T070000
END:STANDARD
BEGIN:DAYLIGHT
TZOFFSETFROM:-0600
TZOFFSETTO:-0500
TZNAME:CDT
DTSTART:20250309T080000
END:DAYLIGHT
BEGIN:STANDARD
TZOFFSETFROM:-0500
TZOFFSETTO:-0600
TZNAME:CST
DTSTART:20251102T070000
END:STANDARD
BEGIN:DAYLIGHT
TZOFFSETFROM:-0600
TZOFFSETTO:-0500
TZNAME:CDT
DTSTART:20260308T080000
END:DAYLIGHT
BEGIN:STANDARD
TZOFFSETFROM:-0500
TZOFFSETTO:-0600
TZNAME:CST
DTSTART:20261101T070000
END:STANDARD
END:VTIMEZONE
BEGIN:VEVENT
DTSTART;TZID=America/Chicago:20250717T093000
DTEND;TZID=America/Chicago:20250717T110000
DTSTAMP:20260420T012046
CREATED:20250529T134739Z
LAST-MODIFIED:20250529T134739Z
UID:18582-1752744600-1752750000@www.nwrls.com
SUMMARY:Digital Literacy Class: Computer & Internet Basics (Registration Required)
DESCRIPTION:Learn computer and internet basics Computer Basics is an introduction for those who are new to using a PC or want to build more confidence using the Windows 11 operating system. Internet Basics are for those new to the internet or want to build more confidence finding information online and navigating websites. \nRegistration required. Seating is limited. Visit the Adult Services Information Desk or call 850-522-2107 to register. \nLocation for class: Adult Services Computer Lab \n 
URL:https://www.nwrls.com/event/digital-literacy-class-computer-internet-basics-registration-required-7/
LOCATION:Bay County Public Library\, 898 W 11th Street\, Panama City\, FL\, 32401\, United States
CATEGORIES:Bay County Public Library,Events,Locations
ATTACH;FMTTYPE=image/jpeg:https://www.nwrls.com/wp-content/uploads/2024/11/Digital-Literacy-Classes.jpg
END:VEVENT
END:VCALENDAR