BEGIN:VCALENDAR
VERSION:2.0
PRODID:-//Northwest Regional Library System - ECPv6.15.20//NONSGML v1.0//EN
CALSCALE:GREGORIAN
METHOD:PUBLISH
X-ORIGINAL-URL:https://www.nwrls.com
X-WR-CALDESC:Events for Northwest Regional Library System
REFRESH-INTERVAL;VALUE=DURATION:PT1H
X-Robots-Tag:noindex
X-PUBLISHED-TTL:PT1H
BEGIN:VTIMEZONE
TZID:America/Chicago
BEGIN:DAYLIGHT
TZOFFSETFROM:-0600
TZOFFSETTO:-0500
TZNAME:CDT
DTSTART:20240310T080000
END:DAYLIGHT
BEGIN:STANDARD
TZOFFSETFROM:-0500
TZOFFSETTO:-0600
TZNAME:CST
DTSTART:20241103T070000
END:STANDARD
BEGIN:DAYLIGHT
TZOFFSETFROM:-0600
TZOFFSETTO:-0500
TZNAME:CDT
DTSTART:20250309T080000
END:DAYLIGHT
BEGIN:STANDARD
TZOFFSETFROM:-0500
TZOFFSETTO:-0600
TZNAME:CST
DTSTART:20251102T070000
END:STANDARD
BEGIN:DAYLIGHT
TZOFFSETFROM:-0600
TZOFFSETTO:-0500
TZNAME:CDT
DTSTART:20260308T080000
END:DAYLIGHT
BEGIN:STANDARD
TZOFFSETFROM:-0500
TZOFFSETTO:-0600
TZNAME:CST
DTSTART:20261101T070000
END:STANDARD
END:VTIMEZONE
BEGIN:VEVENT
DTSTART;TZID=America/Chicago:20250715T100000
DTEND;TZID=America/Chicago:20250715T130000
DTSTAMP:20260420T030827
CREATED:20250529T135425Z
LAST-MODIFIED:20250529T135425Z
UID:18593-1752573600-1752584400@www.nwrls.com
SUMMARY:The Legal Clinic
DESCRIPTION:Eligible clients can receive legal help from Legal Services of North Florida on a first-come\, first-served basis. Bring documents related to your question. \n  \nWhat to expect:\nThey will be able to help with legal information or help eligible clients apply for services on a first-come\, first-served basis. Bring all documents needed related to your question. \nAreas of law may include:\nLandlord-Tenant\nFamily Law Issues\nEmployment Law\nBankruptcy/Collections\nCustody/Child Support\nProperty Disputes\nTitle Clearing/Probate\nHousing Law\nDomestic Violence\nSexual Violence
URL:https://www.nwrls.com/event/the-legal-clinic-4/
LOCATION:Bay County Public Library\, 898 W 11th Street\, Panama City\, FL\, 32401\, United States
CATEGORIES:Bay County Public Library,Events,Locations
ATTACH;FMTTYPE=image/jpeg:https://www.nwrls.com/wp-content/uploads/2025/02/Legal-Clinic-Bay-County-.jpg
END:VEVENT
END:VCALENDAR