BEGIN:VCALENDAR
VERSION:2.0
PRODID:-//Northwest Regional Library System - ECPv6.15.20//NONSGML v1.0//EN
CALSCALE:GREGORIAN
METHOD:PUBLISH
X-ORIGINAL-URL:https://www.nwrls.com
X-WR-CALDESC:Events for Northwest Regional Library System
REFRESH-INTERVAL;VALUE=DURATION:PT1H
X-Robots-Tag:noindex
X-PUBLISHED-TTL:PT1H
BEGIN:VTIMEZONE
TZID:America/Chicago
BEGIN:DAYLIGHT
TZOFFSETFROM:-0600
TZOFFSETTO:-0500
TZNAME:CDT
DTSTART:20250309T080000
END:DAYLIGHT
BEGIN:STANDARD
TZOFFSETFROM:-0500
TZOFFSETTO:-0600
TZNAME:CST
DTSTART:20251102T070000
END:STANDARD
BEGIN:DAYLIGHT
TZOFFSETFROM:-0600
TZOFFSETTO:-0500
TZNAME:CDT
DTSTART:20260308T080000
END:DAYLIGHT
BEGIN:STANDARD
TZOFFSETFROM:-0500
TZOFFSETTO:-0600
TZNAME:CST
DTSTART:20261101T070000
END:STANDARD
BEGIN:DAYLIGHT
TZOFFSETFROM:-0600
TZOFFSETTO:-0500
TZNAME:CDT
DTSTART:20270314T080000
END:DAYLIGHT
BEGIN:STANDARD
TZOFFSETFROM:-0500
TZOFFSETTO:-0600
TZNAME:CST
DTSTART:20271107T070000
END:STANDARD
END:VTIMEZONE
BEGIN:VEVENT
DTSTART;TZID=America/Chicago:20260302T170000
DTEND;TZID=America/Chicago:20260302T183000
DTSTAMP:20260419T114748
CREATED:20260212T203546Z
LAST-MODIFIED:20260212T203546Z
UID:20926-1772470800-1772476200@www.nwrls.com
SUMMARY:New Adult Social Hour (Geared for Ages 18 - 25)
DESCRIPTION:Drop in to hang out and work on a craft on select Mondays!  This program is meant for ages 18 – 25. \nToday’s Activity:  Air-Dry Clay
URL:https://www.nwrls.com/event/new-adult-social-hour-geared-for-ages-18-25-17/
LOCATION:Bay County Public Library\, 898 W 11th Street\, Panama City\, FL\, 32401\, United States
CATEGORIES:Bay County Public Library,Events,Locations
ATTACH;FMTTYPE=image/jpeg:https://www.nwrls.com/wp-content/uploads/2025/12/NASH-1920-x-1080-px.jpg
END:VEVENT
BEGIN:VEVENT
DTSTART;TZID=America/Chicago:20260303T093000
DTEND;TZID=America/Chicago:20260303T110000
DTSTAMP:20260419T114748
CREATED:20260212T215344Z
LAST-MODIFIED:20260212T215344Z
UID:20997-1772530200-1772535600@www.nwrls.com
SUMMARY:Bouncin' Babies & Toddlin' 2's  (Ages 0 - 2 with caregiver)
DESCRIPTION:Two start times for the same class – 9:30 a.m. and 10:30 a.m. \nStories\, bounces and rhymes for littles to build early literacy skills. Class limited to 40 people per session\, arrive early to reserve your spot. \nBouncin’ Babies & Toddlin’ 2’s happens weekly on Tuesdays thru May 12!
URL:https://www.nwrls.com/event/bouncin-babies-toddlin-2s-ages-0-2-with-caregiver-43/
LOCATION:Bay County Public Library\, 898 W 11th Street\, Panama City\, FL\, 32401\, United States
CATEGORIES:Bay County Public Library,Events,Locations
ATTACH;FMTTYPE=image/jpeg:https://www.nwrls.com/wp-content/uploads/2025/11/Bouncin-Babes.jpg
END:VEVENT
BEGIN:VEVENT
DTSTART;TZID=America/Chicago:20260303T160000
DTEND;TZID=America/Chicago:20260303T170000
DTSTAMP:20260419T114748
CREATED:20260213T152706Z
LAST-MODIFIED:20260213T152707Z
UID:21021-1772553600-1772557200@www.nwrls.com
SUMMARY:Teen Advisory Board (Ages 14 - 17\, Registration Required)
DESCRIPTION:Earn volunteer hours and help your library! Discuss books you enjoy and potential teen library programs. We also have crafts and games. Registration required. To register\, call 850-522-2118 or send us a message on our Bay County Public Library Facebook page.
URL:https://www.nwrls.com/event/teen-advisory-board-ages-14-17-registration-required-12/
LOCATION:Bay County Public Library\, 898 W 11th Street\, Panama City\, FL\, 32401\, United States
CATEGORIES:Bay County Public Library,Events,Locations
ATTACH;FMTTYPE=image/jpeg:https://www.nwrls.com/wp-content/uploads/2025/11/Teen-Advisory-Board-9.jpg
END:VEVENT
BEGIN:VEVENT
DTSTART;TZID=America/Chicago:20260304T160000
DTEND;TZID=America/Chicago:20260304T170000
DTSTAMP:20260419T114748
CREATED:20260223T141343Z
LAST-MODIFIED:20260223T141343Z
UID:21387-1772640000-1772643600@www.nwrls.com
SUMMARY:Teen Japanese Language Club (Ages 13-17\, Registration Required)
DESCRIPTION:Learn basic words and phrases in this beginner-friendly Japanese class.  Registration Required. Call 850-522-2118 or visit Youth Services to register.
URL:https://www.nwrls.com/event/teen-japanese-language-club-ages-13-17-registration-required-4/
LOCATION:Bay County Public Library\, 898 W 11th Street\, Panama City\, FL\, 32401\, United States
CATEGORIES:Bay County Public Library,Events,Locations
ATTACH;FMTTYPE=image/jpeg:https://www.nwrls.com/wp-content/uploads/2026/02/Teen-JLC.jpg
END:VEVENT
BEGIN:VEVENT
DTSTART;TZID=America/Chicago:20260305T103000
DTEND;TZID=America/Chicago:20260305T110000
DTSTAMP:20260419T114748
CREATED:20260213T162210Z
LAST-MODIFIED:20260213T162210Z
UID:21058-1772706600-1772708400@www.nwrls.com
SUMMARY:Read & Rhyme Storytime (Ages 3 - 5 with Caregiver)
DESCRIPTION:Enjoy stories and songs with your preschooler while they learn early literacy skills.
URL:https://www.nwrls.com/event/read-rhyme-storytime-ages-3-5-with-caregiver-46/
LOCATION:Bay County Public Library\, 898 W 11th Street\, Panama City\, FL\, 32401\, United States
CATEGORIES:Bay County Public Library,Events,Locations
ATTACH;FMTTYPE=image/jpeg:https://www.nwrls.com/wp-content/uploads/2024/08/ReadRhyme-Presentation-Size.jpg
END:VEVENT
BEGIN:VEVENT
DTSTART;TZID=America/Chicago:20260305T180000
DTEND;TZID=America/Chicago:20260305T190000
DTSTAMP:20260419T114748
CREATED:20260210T224005Z
LAST-MODIFIED:20260210T224005Z
UID:20667-1772733600-1772737200@www.nwrls.com
SUMMARY:Friends Annual Celebration: Panama City Youth Orchestra
DESCRIPTION:Join us at the Bay County Public Library for this after-hours event! The highlight of the evening will be a performance by the impressive Panama City Youth Orchestra! The musical compositions will range from classical to contemporary. Light refreshments will be provided. The program is FREE and open to the public.\n\nThis performance is generously sponsored by the St. Joe Community Foundation.\n\nA short Friends meeting will follow the performance. Learn what the Friends of the Bay County Public Libraries have accomplished in 2025 and the goals for 2026. Thank you for your support of the Friends and our local Bay County libraries!\nInterested in learning more about the Friends of the Bay County Public Libraries? Visit https://baycountylibraryfriends.org/ to become a member and for upcoming Friends Events.
URL:https://www.nwrls.com/event/friends-annual-celebration-panama-city-youth-orchestra/
LOCATION:Bay County Public Library\, 898 W 11th Street\, Panama City\, FL\, 32401\, United States
CATEGORIES:Bay County Public Library,Events,Locations
ATTACH;FMTTYPE=image/jpeg:https://www.nwrls.com/wp-content/uploads/2026/02/Friends-Annual-Celebration-1920-x-1080-px.jpg
END:VEVENT
BEGIN:VEVENT
DTSTART;TZID=America/Chicago:20260309T170000
DTEND;TZID=America/Chicago:20260309T183000
DTSTAMP:20260419T114748
CREATED:20260212T203628Z
LAST-MODIFIED:20260212T203628Z
UID:20931-1773075600-1773081000@www.nwrls.com
SUMMARY:New Adult Social Hour (Geared for Ages 18 - 25)
DESCRIPTION:Drop in to hang out and work on a craft on select Mondays!  This program is meant for ages 18 – 25. \nToday’s Activity:  Painting Clay Creations
URL:https://www.nwrls.com/event/new-adult-social-hour-geared-for-ages-18-25-18/
LOCATION:Bay County Public Library\, 898 W 11th Street\, Panama City\, FL\, 32401\, United States
CATEGORIES:Bay County Public Library,Events,Locations
ATTACH;FMTTYPE=image/jpeg:https://www.nwrls.com/wp-content/uploads/2025/12/NASH-1920-x-1080-px.jpg
END:VEVENT
BEGIN:VEVENT
DTSTART;TZID=America/Chicago:20260310T093000
DTEND;TZID=America/Chicago:20260310T110000
DTSTAMP:20260419T114748
CREATED:20260212T215427Z
LAST-MODIFIED:20260212T215429Z
UID:20996-1773135000-1773140400@www.nwrls.com
SUMMARY:Bouncin' Babies & Toddlin' 2's  (Ages 0 - 2 with caregiver)
DESCRIPTION:Two start times for the same class – 9:30 a.m. and 10:30 a.m. \nStories\, bounces and rhymes for littles to build early literacy skills. Class limited to 40 people per session\, arrive early to reserve your spot. \nBouncin’ Babies & Toddlin’ 2’s happens weekly on Tuesdays thru May 12!
URL:https://www.nwrls.com/event/bouncin-babies-toddlin-2s-ages-0-2-with-caregiver-44/
LOCATION:Bay County Public Library\, 898 W 11th Street\, Panama City\, FL\, 32401\, United States
CATEGORIES:Bay County Public Library,Events,Locations
ATTACH;FMTTYPE=image/jpeg:https://www.nwrls.com/wp-content/uploads/2025/11/Bouncin-Babes.jpg
END:VEVENT
BEGIN:VEVENT
DTSTART;TZID=America/Chicago:20260310T160000
DTEND;TZID=America/Chicago:20260310T170000
DTSTAMP:20260419T114748
CREATED:20260213T153155Z
LAST-MODIFIED:20260213T153155Z
UID:21027-1773158400-1773162000@www.nwrls.com
SUMMARY:Art Club (Registration Required)
DESCRIPTION:Make themed art/craft projects or bring your own! Program geared for ages 12-17.\nMarch:  Beaded Suncatcher \nRegistration Required. To register\, call 850-522-2118 or send us a message on our Bay County Public Library Facebook page.
URL:https://www.nwrls.com/event/art-club-registration-required-7/
LOCATION:Bay County Public Library\, 898 W 11th Street\, Panama City\, FL\, 32401\, United States
CATEGORIES:Bay County Public Library,Events,Locations
ATTACH;FMTTYPE=image/jpeg:https://www.nwrls.com/wp-content/uploads/2025/08/Art-Club.jpg
END:VEVENT
BEGIN:VEVENT
DTSTART;TZID=America/Chicago:20260312T093000
DTEND;TZID=America/Chicago:20260312T110000
DTSTAMP:20260419T114748
CREATED:20260212T201928Z
LAST-MODIFIED:20260212T201930Z
UID:20913-1773307800-1773313200@www.nwrls.com
SUMMARY:Digital Literacy Class: Computer & Internet Basics (Registration Required)
DESCRIPTION:Computer Basics is an introduction for those who are new to using a PC or want to build more confidence using the Windows 11 operating system. Internet Basics are for those new to the internet or want to build more confidence finding information online and navigating websites. \nRegistration required. Seating is limited. Visit the Adult Services Information Desk or call 850-522-2107 to register. \nLocation for class: Adult Services Computer Lab \n 
URL:https://www.nwrls.com/event/digital-literacy-class-computer-internet-basics-registration-required-14/
LOCATION:Bay County Public Library\, 898 W 11th Street\, Panama City\, FL\, 32401\, United States
CATEGORIES:Bay County Public Library,Events,Locations
ATTACH;FMTTYPE=image/jpeg:https://www.nwrls.com/wp-content/uploads/2024/11/Digital-Literacy-Classes.jpg
END:VEVENT
BEGIN:VEVENT
DTSTART;TZID=America/Chicago:20260312T103000
DTEND;TZID=America/Chicago:20260312T110000
DTSTAMP:20260419T114748
CREATED:20260213T162244Z
LAST-MODIFIED:20260213T162244Z
UID:21057-1773311400-1773313200@www.nwrls.com
SUMMARY:Read & Rhyme Storytime (Ages 3 - 5 with Caregiver)
DESCRIPTION:Enjoy stories and songs with your preschooler while they learn early literacy skills.
URL:https://www.nwrls.com/event/read-rhyme-storytime-ages-3-5-with-caregiver-47/
LOCATION:Bay County Public Library\, 898 W 11th Street\, Panama City\, FL\, 32401\, United States
CATEGORIES:Bay County Public Library,Events,Locations
ATTACH;FMTTYPE=image/jpeg:https://www.nwrls.com/wp-content/uploads/2024/08/ReadRhyme-Presentation-Size.jpg
END:VEVENT
BEGIN:VEVENT
DTSTART;TZID=America/Chicago:20260312T103000
DTEND;TZID=America/Chicago:20260312T113000
DTSTAMP:20260419T114748
CREATED:20260212T205037Z
LAST-MODIFIED:20260212T205037Z
UID:20946-1773311400-1773315000@www.nwrls.com
SUMMARY:BCPL Virtual Book Club (Zoom Program\, Registration Required)
DESCRIPTION:March 12: My Antonia by Willa Cather \nBCPL Book Club meets every 2nd Thursday of the month at 10:30 a.m. on Zoom. New members are welcome! Email Rachael at rfillingame@nwrls.com for Zoom invitation. \nCopies are available through the catalog.
URL:https://www.nwrls.com/event/bcpl-virtual-book-club-zoom-program-registration-required-15/
LOCATION:Bay County Public Library\, 898 W 11th Street\, Panama City\, FL\, 32401\, United States
CATEGORIES:Bay County Public Library,Events
ATTACH;FMTTYPE=image/png:https://www.nwrls.com/wp-content/uploads/2026/02/Book-club-1920-x-1080-px.png
END:VEVENT
BEGIN:VEVENT
DTSTART;TZID=America/Chicago:20260312T130000
DTEND;TZID=America/Chicago:20260312T140000
DTSTAMP:20260419T114748
CREATED:20251222T155812Z
LAST-MODIFIED:20251222T155812Z
UID:20545-1773320400-1773324000@www.nwrls.com
SUMMARY:Library Advisory Council Meeting
DESCRIPTION:The Library Advisory Committee is a seven-member board whose members advise Bay\, Gulf\, and Liberty County Commissioners on library related issues.  The LAC meets on the second Thursday\, unless otherwise noted\, of the month in January\, March\, May\, July\, September and November. Meetings are held at the Bay County Public Library in the public meeting room\, beginning at 1:00 PM Central. All meetings are open to the public.
URL:https://www.nwrls.com/event/library-advisory-council-meeting-2/
LOCATION:Bay County Public Library\, 898 W 11th Street\, Panama City\, FL\, 32401\, United States
CATEGORIES:Bay County Public Library,Events,Locations
ATTACH;FMTTYPE=image/png:https://www.nwrls.com/wp-content/uploads/2025/12/LAC.png
END:VEVENT
BEGIN:VEVENT
DTSTART;TZID=America/Chicago:20260314T140000
DTEND;TZID=America/Chicago:20260314T160000
DTSTAMP:20260419T114748
CREATED:20260309T133055Z
LAST-MODIFIED:20260309T133055Z
UID:21454-1773496800-1773504000@www.nwrls.com
SUMMARY:Teen Dungeons and Dragons (Ages 13 – 17\, Registration Required)
DESCRIPTION:Adventure through a tabletop session of Dungeons and Dragons\, Fifth Edition. Beginners welcome. Program geared for teens ages 13 – 17. Registration Required. Call the library at 850-522-2118 or visit the Youth Services Department.
URL:https://www.nwrls.com/event/teen-dungeons-and-dragons-ages-13-17-registration-required-18/
LOCATION:Bay County Public Library\, 898 W 11th Street\, Panama City\, FL\, 32401\, United States
CATEGORIES:Bay County Public Library,Events,Locations
ATTACH;FMTTYPE=image/jpeg:https://www.nwrls.com/wp-content/uploads/2026/03/DND-TEEN-no-logo.jpg
END:VEVENT
BEGIN:VEVENT
DTSTART;TZID=America/Chicago:20260316T160000
DTEND;TZID=America/Chicago:20260316T170000
DTSTAMP:20260419T114748
CREATED:20260223T140351Z
LAST-MODIFIED:20260223T140351Z
UID:21363-1773676800-1773680400@www.nwrls.com
SUMMARY:Craft Camp (Ages 8-12)
DESCRIPTION:Join us for crafts in Youth Services.  Dress for the mess!  *Registration required.  Call 850-522-2118 to register.
URL:https://www.nwrls.com/event/craft-camp-ages-8-12-7/
LOCATION:Bay County Public Library\, 898 W 11th Street\, Panama City\, FL\, 32401\, United States
CATEGORIES:Bay County Public Library,Events,Locations
ATTACH;FMTTYPE=image/png:https://www.nwrls.com/wp-content/uploads/2026/02/Onlinecraftcampspring26.png
END:VEVENT
BEGIN:VEVENT
DTSTART;TZID=America/Chicago:20260317T093000
DTEND;TZID=America/Chicago:20260317T110000
DTSTAMP:20260419T114748
CREATED:20260212T215534Z
LAST-MODIFIED:20260212T215534Z
UID:20995-1773739800-1773745200@www.nwrls.com
SUMMARY:Bouncin' Babies & Toddlin' 2's  (Ages 0 - 2 with caregiver)
DESCRIPTION:Two start times for the same class – 9:30 a.m. and 10:30 a.m. \nStories\, bounces and rhymes for littles to build early literacy skills. Class limited to 40 people per session\, arrive early to reserve your spot. \nBouncin’ Babies & Toddlin’ 2’s happens weekly on Tuesdays thru May 12!
URL:https://www.nwrls.com/event/bouncin-babies-toddlin-2s-ages-0-2-with-caregiver-45/
LOCATION:Bay County Public Library\, 898 W 11th Street\, Panama City\, FL\, 32401\, United States
CATEGORIES:Bay County Public Library,Events,Locations
ATTACH;FMTTYPE=image/jpeg:https://www.nwrls.com/wp-content/uploads/2025/11/Bouncin-Babes.jpg
END:VEVENT
BEGIN:VEVENT
DTSTART;TZID=America/Chicago:20260317T100000
DTEND;TZID=America/Chicago:20260317T130000
DTSTAMP:20260419T114748
CREATED:20260212T211339Z
LAST-MODIFIED:20260212T211339Z
UID:20966-1773741600-1773752400@www.nwrls.com
SUMMARY:The Legal Clinic
DESCRIPTION:Eligible clients can receive legal help from Legal Services of North Florida on a first-come\, first-served basis. Bring documents related to your question. \n  \nWhat to expect:\nThey will be able to help with legal information or help eligible clients apply for services on a first-come\, first-served basis. Bring all documents needed related to your question. \nAreas of law may include:\nLandlord-Tenant\nFamily Law Issues\nEmployment Law\nBankruptcy/Collections\nCustody/Child Support\nProperty Disputes\nTitle Clearing/Probate\nHousing Law\nDomestic Violence\nSexual Violence
URL:https://www.nwrls.com/event/the-legal-clinic-9/
LOCATION:Bay County Public Library\, 898 W 11th Street\, Panama City\, FL\, 32401\, United States
CATEGORIES:Bay County Public Library,Events,Locations
ATTACH;FMTTYPE=image/jpeg:https://www.nwrls.com/wp-content/uploads/2025/02/Legal-Clinic-Bay-County-.jpg
END:VEVENT
BEGIN:VEVENT
DTSTART;TZID=America/Chicago:20260323T130000
DTEND;TZID=America/Chicago:20260323T140000
DTSTAMP:20260419T114748
CREATED:20260212T202843Z
LAST-MODIFIED:20260212T202843Z
UID:20923-1774270800-1774274400@www.nwrls.com
SUMMARY:11th Street Dulcimers Spring Concert
DESCRIPTION:Welcome Spring by enjoying the haunting and lilting melodies of Celtic tunes performed by the 11th Street Dulcimer Group! \nThis concert is free and open to the public of all ages.  Concert will be held in the Bay County Library Meeting Room.
URL:https://www.nwrls.com/event/11th-street-dulcimers-spring-concert/
LOCATION:Bay County Public Library\, 898 W 11th Street\, Panama City\, FL\, 32401\, United States
CATEGORIES:Bay County Public Library,Events,Locations
ATTACH;FMTTYPE=image/jpeg:https://www.nwrls.com/wp-content/uploads/2026/02/dulcimer-concert.jpg
END:VEVENT
BEGIN:VEVENT
DTSTART;TZID=America/Chicago:20260323T160000
DTEND;TZID=America/Chicago:20260323T170000
DTSTAMP:20260419T114748
CREATED:20260223T140644Z
LAST-MODIFIED:20260223T140644Z
UID:21370-1774281600-1774285200@www.nwrls.com
SUMMARY:Mini Makers (Ages 5 - 7) Registration required.
DESCRIPTION:Enjoy a read aloud story followed by a craft. Program geared for ages 5 – 7. Registration Required. Call 850-522-2118 or visit the Youth Services Desk to register.
URL:https://www.nwrls.com/event/mini-makers-ages-5-7-registration-required-9/
LOCATION:Bay County Public Library\, 898 W 11th Street\, Panama City\, FL\, 32401\, United States
CATEGORIES:Bay County Public Library,Events,Locations
ATTACH;FMTTYPE=image/png:https://www.nwrls.com/wp-content/uploads/2026/02/Onlinemakersspring26.png
END:VEVENT
BEGIN:VEVENT
DTSTART;TZID=America/Chicago:20260324T093000
DTEND;TZID=America/Chicago:20260324T110000
DTSTAMP:20260419T114748
CREATED:20260212T215609Z
LAST-MODIFIED:20260212T215609Z
UID:20994-1774344600-1774350000@www.nwrls.com
SUMMARY:Bouncin' Babies & Toddlin' 2's  (Ages 0 - 2 with caregiver)
DESCRIPTION:Two start times for the same class – 9:30 a.m. and 10:30 a.m. \nStories\, bounces and rhymes for littles to build early literacy skills. Class limited to 40 people per session\, arrive early to reserve your spot. \nBouncin’ Babies & Toddlin’ 2’s happens weekly on Tuesdays thru May 12!
URL:https://www.nwrls.com/event/bouncin-babies-toddlin-2s-ages-0-2-with-caregiver-46/
LOCATION:Bay County Public Library\, 898 W 11th Street\, Panama City\, FL\, 32401\, United States
CATEGORIES:Bay County Public Library,Events,Locations
ATTACH;FMTTYPE=image/jpeg:https://www.nwrls.com/wp-content/uploads/2025/11/Bouncin-Babes.jpg
END:VEVENT
BEGIN:VEVENT
DTSTART;TZID=America/Chicago:20260324T170000
DTEND;TZID=America/Chicago:20260324T183000
DTSTAMP:20260419T114748
CREATED:20260212T205904Z
LAST-MODIFIED:20260318T211252Z
UID:20958-1774371600-1774377000@www.nwrls.com
SUMMARY:Photography Club (Adults)
DESCRIPTION:Become more confident in your photography skills and have fun while doing it at Photography Club!  We’ll have workshops\, competitions\, and photo challenges. \nRegistration required\, call 850-522-2107 to register!
URL:https://www.nwrls.com/event/photography-club-adults/
LOCATION:Bay County Public Library\, 898 W 11th Street\, Panama City\, FL\, 32401\, United States
CATEGORIES:Bay County Public Library,Events,Locations
ATTACH;FMTTYPE=image/png:https://www.nwrls.com/wp-content/uploads/2026/02/Photography-Club.png
END:VEVENT
BEGIN:VEVENT
DTSTART;TZID=America/Chicago:20260325T160000
DTEND;TZID=America/Chicago:20260325T170000
DTSTAMP:20260419T114748
CREATED:20260224T180333Z
LAST-MODIFIED:20260224T180333Z
UID:21404-1774454400-1774458000@www.nwrls.com
SUMMARY:Youth Japanese Language Club (Ages 6 - 12\, Registration Required)
DESCRIPTION:Learn basic words and phrases in this beginner-friendly Japanese class.  Registration Required. Call 850-522-2118 or visit Youth Services to register.
URL:https://www.nwrls.com/event/youth-japanese-language-club-ages-6-12-registration-required-6/
LOCATION:Bay County Public Library\, 898 W 11th Street\, Panama City\, FL\, 32401\, United States
CATEGORIES:Bay County Public Library,Events,Locations
ATTACH;FMTTYPE=image/jpeg:https://www.nwrls.com/wp-content/uploads/2026/02/Youth-JLC-No-Logo.jpg
END:VEVENT
BEGIN:VEVENT
DTSTART;TZID=America/Chicago:20260325T163000
DTEND;TZID=America/Chicago:20260325T183000
DTSTAMP:20260419T114748
CREATED:20260213T161232Z
LAST-MODIFIED:20260213T161232Z
UID:21034-1774456200-1774463400@www.nwrls.com
SUMMARY:Teen Game Night (Ages 13 - 18 / Registration Required)
DESCRIPTION:Play various Switch games in the Meeting Room. Program in the Meeting Room. Program geared for ages 13 – 18. \nRegistration encouraged. Visit the Youth Services Department or call 850-522-2118 to register. \n 
URL:https://www.nwrls.com/event/teen-game-night-ages-13-18-registration-required-9/
LOCATION:Bay County Public Library\, 898 W 11th Street\, Panama City\, FL\, 32401\, United States
CATEGORIES:Bay County Public Library,Events,Locations
ATTACH;FMTTYPE=image/jpeg:https://www.nwrls.com/wp-content/uploads/2026/02/Teen-Game-Night.jpg
END:VEVENT
BEGIN:VEVENT
DTSTART;TZID=America/Chicago:20260326T093000
DTEND;TZID=America/Chicago:20260326T110000
DTSTAMP:20260419T114748
CREATED:20260212T202352Z
LAST-MODIFIED:20260212T202354Z
UID:20918-1774517400-1774522800@www.nwrls.com
SUMMARY:Digital Literacy Class: Diamonds in the Dot.com (Registration Required)
DESCRIPTION:There are so many hidden gems online!  Learn about these helpful websites and online tips from an expert librarian. \nRegistration required. Seating is limited. Visit the Adult Services Information Desk or call 850-522-2107 to register. \n 
URL:https://www.nwrls.com/event/digital-literacy-class-diamonds-in-the-dot-com-registration-required/
LOCATION:Bay County Public Library\, 898 W 11th Street\, Panama City\, FL\, 32401\, United States
CATEGORIES:Bay County Public Library,Events,Locations
ATTACH;FMTTYPE=image/jpeg:https://www.nwrls.com/wp-content/uploads/2026/02/DL-Diamonds.jpg
END:VEVENT
BEGIN:VEVENT
DTSTART;TZID=America/Chicago:20260326T103000
DTEND;TZID=America/Chicago:20260326T110000
DTSTAMP:20260419T114748
CREATED:20260213T162436Z
LAST-MODIFIED:20260213T162438Z
UID:21055-1774521000-1774522800@www.nwrls.com
SUMMARY:Read & Rhyme Storytime (Ages 3 - 5 with Caregiver)
DESCRIPTION:Enjoy stories and songs with your preschooler while they learn early literacy skills.
URL:https://www.nwrls.com/event/read-rhyme-storytime-ages-3-5-with-caregiver-49/
LOCATION:Bay County Public Library\, 898 W 11th Street\, Panama City\, FL\, 32401\, United States
CATEGORIES:Bay County Public Library,Events,Locations
ATTACH;FMTTYPE=image/jpeg:https://www.nwrls.com/wp-content/uploads/2024/08/ReadRhyme-Presentation-Size.jpg
END:VEVENT
BEGIN:VEVENT
DTSTART;TZID=America/Chicago:20260326T140000
DTEND;TZID=America/Chicago:20260326T163000
DTSTAMP:20260419T114748
CREATED:20260223T140931Z
LAST-MODIFIED:20260223T140931Z
UID:21376-1774533600-1774542600@www.nwrls.com
SUMMARY:Ready\, Set\, Sketch (Ages 6 - 12)
DESCRIPTION:Drop by for basic art lessons and free-draw sessions. (Same Class each time)\nThere are two class times available: \n\n2:00 – 3:00 p.m. CT\n3:30 – 4:30 p.m. CT
URL:https://www.nwrls.com/event/ready-set-sketch-ages-6-12-3/
LOCATION:Bay County Public Library\, 898 W 11th Street\, Panama City\, FL\, 32401\, United States
CATEGORIES:Bay County Public Library,Events,Locations
ATTACH;FMTTYPE=image/jpeg:https://www.nwrls.com/wp-content/uploads/2026/02/Ready-Set-Sketch.jpg
END:VEVENT
BEGIN:VEVENT
DTSTART;TZID=America/Chicago:20260327T140000
DTEND;TZID=America/Chicago:20260327T160000
DTSTAMP:20260419T114748
CREATED:20260212T205411Z
LAST-MODIFIED:20260212T205411Z
UID:20951-1774620000-1774627200@www.nwrls.com
SUMMARY:Crafternoon @ The Library
DESCRIPTION:Bring a current craft project or the supplies to start a new one! Adult coloring pages provided. Join other crafters in forming a more tight knit (or crocheted) community! Program geared for adults; teens welcome.
URL:https://www.nwrls.com/event/crafternoon-the-library-11/
LOCATION:Bay County Public Library\, 898 W 11th Street\, Panama City\, FL\, 32401\, United States
CATEGORIES:Bay County Public Library,Events,Locations
ATTACH;FMTTYPE=image/png:https://www.nwrls.com/wp-content/uploads/2026/02/Spring-Crafternoon-2026.png
END:VEVENT
BEGIN:VEVENT
DTSTART;TZID=America/Chicago:20260327T153000
DTEND;TZID=America/Chicago:20260327T163000
DTSTAMP:20260419T114748
CREATED:20260223T141131Z
LAST-MODIFIED:20260223T141131Z
UID:21381-1774625400-1774629000@www.nwrls.com
SUMMARY:Youth Game Day (Ages 8 - 12)
DESCRIPTION:Enjoy Nintendo Switch games!
URL:https://www.nwrls.com/event/youth-game-day-ages-8-12-4/
LOCATION:Bay County Public Library\, 898 W 11th Street\, Panama City\, FL\, 32401\, United States
CATEGORIES:Bay County Public Library,Events,Locations
ATTACH;FMTTYPE=image/jpeg:https://www.nwrls.com/wp-content/uploads/2026/02/no-date-Youth-Game-Day.jpg
END:VEVENT
BEGIN:VEVENT
DTSTART;TZID=America/Chicago:20260328T123000
DTEND;TZID=America/Chicago:20260328T160000
DTSTAMP:20260419T114748
CREATED:20260213T152230Z
LAST-MODIFIED:20260213T152232Z
UID:21012-1774701000-1774713600@www.nwrls.com
SUMMARY:Family Game Day (Families with Children Ages 6 +)
DESCRIPTION:Board game and puzzle free play time for families with children 6 and up! Parents must stay with their children. \nProgram is held in the Bay County Public Library Meeting Room. No registration required. \n 
URL:https://www.nwrls.com/event/family-game-day-families-with-children-ages-6-10/
LOCATION:Bay County Public Library\, 898 W 11th Street\, Panama City\, FL\, 32401\, United States
CATEGORIES:Bay County Public Library,Events,Locations
ATTACH;FMTTYPE=image/jpeg:https://www.nwrls.com/wp-content/uploads/2026/02/Family-Game-Day.jpg
END:VEVENT
BEGIN:VEVENT
DTSTART;TZID=America/Chicago:20260331T093000
DTEND;TZID=America/Chicago:20260331T110000
DTSTAMP:20260419T114748
CREATED:20260212T215647Z
LAST-MODIFIED:20260212T215647Z
UID:20993-1774949400-1774954800@www.nwrls.com
SUMMARY:Bouncin' Babies & Toddlin' 2's  (Ages 0 - 2 with caregiver)
DESCRIPTION:Two start times for the same class – 9:30 a.m. and 10:30 a.m. \nStories\, bounces and rhymes for littles to build early literacy skills. Class limited to 40 people per session\, arrive early to reserve your spot. \nBouncin’ Babies & Toddlin’ 2’s happens weekly on Tuesdays thru May 12!
URL:https://www.nwrls.com/event/bouncin-babies-toddlin-2s-ages-0-2-with-caregiver-47/
LOCATION:Bay County Public Library\, 898 W 11th Street\, Panama City\, FL\, 32401\, United States
CATEGORIES:Bay County Public Library,Events,Locations
ATTACH;FMTTYPE=image/jpeg:https://www.nwrls.com/wp-content/uploads/2025/11/Bouncin-Babes.jpg
END:VEVENT
END:VCALENDAR