BEGIN:VCALENDAR
VERSION:2.0
PRODID:-//Northwest Regional Library System - ECPv6.15.20//NONSGML v1.0//EN
CALSCALE:GREGORIAN
METHOD:PUBLISH
X-ORIGINAL-URL:https://www.nwrls.com
X-WR-CALDESC:Events for Northwest Regional Library System
REFRESH-INTERVAL;VALUE=DURATION:PT1H
X-Robots-Tag:noindex
X-PUBLISHED-TTL:PT1H
BEGIN:VTIMEZONE
TZID:America/Chicago
BEGIN:DAYLIGHT
TZOFFSETFROM:-0600
TZOFFSETTO:-0500
TZNAME:CDT
DTSTART:20240310T080000
END:DAYLIGHT
BEGIN:STANDARD
TZOFFSETFROM:-0500
TZOFFSETTO:-0600
TZNAME:CST
DTSTART:20241103T070000
END:STANDARD
BEGIN:DAYLIGHT
TZOFFSETFROM:-0600
TZOFFSETTO:-0500
TZNAME:CDT
DTSTART:20250309T080000
END:DAYLIGHT
BEGIN:STANDARD
TZOFFSETFROM:-0500
TZOFFSETTO:-0600
TZNAME:CST
DTSTART:20251102T070000
END:STANDARD
BEGIN:DAYLIGHT
TZOFFSETFROM:-0600
TZOFFSETTO:-0500
TZNAME:CDT
DTSTART:20260308T080000
END:DAYLIGHT
BEGIN:STANDARD
TZOFFSETFROM:-0500
TZOFFSETTO:-0600
TZNAME:CST
DTSTART:20261101T070000
END:STANDARD
END:VTIMEZONE
BEGIN:VEVENT
DTSTART;TZID=America/Chicago:20250401T093000
DTEND;TZID=America/Chicago:20250401T110000
DTSTAMP:20260420T074418
CREATED:20250206T204546Z
LAST-MODIFIED:20250206T204546Z
UID:17419-1743499800-1743505200@www.nwrls.com
SUMMARY:Bouncin’ Babies & Toddlin’ 2s (Ages 0 - 2 with Caregiver)
DESCRIPTION:Two start times for the same class – 9:30 a.m. and 10:30 a.m. \nStories\, bounces and rhymes for littles to build early literacy skills. Class limited to 40 people per session\, arrive early to reserve your spot.
URL:https://www.nwrls.com/event/bouncin-babies-toddlin-2s-ages-0-2-with-caregiver-5/
LOCATION:Bay County Public Library\, 898 W 11th Street\, Panama City\, FL\, 32401\, United States
CATEGORIES:Bay County Public Library,Events,Locations
ATTACH;FMTTYPE=image/jpeg:https://www.nwrls.com/wp-content/uploads/2024/08/BBTT-Presentation-Size.jpg
END:VEVENT
BEGIN:VEVENT
DTSTART;TZID=America/Chicago:20250403T103000
DTEND;TZID=America/Chicago:20250403T110000
DTSTAMP:20260420T074418
CREATED:20250206T205223Z
LAST-MODIFIED:20250206T205223Z
UID:17441-1743676200-1743678000@www.nwrls.com
SUMMARY:Read & Rhyme Storytime (Ages 3 - 5 with Caregiver)
DESCRIPTION:Enjoy stories and songs with your preschooler while they learn early literacy skills.
URL:https://www.nwrls.com/event/read-rhyme-storytime-ages-3-5-with-caregiver-6/
LOCATION:Bay County Public Library\, 898 W 11th Street\, Panama City\, FL\, 32401\, United States
CATEGORIES:Bay County Public Library,Events,Locations
ATTACH;FMTTYPE=image/jpeg:https://www.nwrls.com/wp-content/uploads/2024/08/ReadRhyme-Presentation-Size.jpg
END:VEVENT
BEGIN:VEVENT
DTSTART;TZID=America/Chicago:20250404T153000
DTEND;TZID=America/Chicago:20250404T163000
DTSTAMP:20260420T074418
CREATED:20250206T211327Z
LAST-MODIFIED:20250206T211327Z
UID:17466-1743780600-1743784200@www.nwrls.com
SUMMARY:Trading Card Game Day
DESCRIPTION:Visit the Youth Services department to trade and share your card collections during TCG Day —Pokémon\, Yu-Gi-Oh!\, Magic the Gathering. \nProgram geared for children ages 6+. Trading Card Game Day takes place on the first Friday of the month at 3:30 p.m.
URL:https://www.nwrls.com/event/trading-card-game-day-2/
LOCATION:Bay County Public Library\, 898 W 11th Street\, Panama City\, FL\, 32401\, United States
CATEGORIES:Bay County Public Library,Events,Locations
ATTACH;FMTTYPE=image/jpeg:https://www.nwrls.com/wp-content/uploads/2024/08/6.jpg
END:VEVENT
BEGIN:VEVENT
DTSTART;TZID=America/Chicago:20250405T140000
DTEND;TZID=America/Chicago:20250405T160000
DTSTAMP:20260420T074418
CREATED:20250211T142735Z
LAST-MODIFIED:20250211T142735Z
UID:17726-1743861600-1743868800@www.nwrls.com
SUMMARY:Writing Corner
DESCRIPTION:Bring your laptops and notebooks to a dedicated writing space filled with other writers. Resource sheets will be available for all those looking to dip their toes in. Light refreshment provided by the Friends of the Bay County Public Libraries. Adult geared\, but teenagers are welcome! Contact Ariel at asmith@nwrls.com for more information.
URL:https://www.nwrls.com/event/writing-corner-5/
LOCATION:Bay County Public Library\, 898 W 11th Street\, Panama City\, FL\, 32401\, United States
CATEGORIES:Bay County Public Library,Events,Locations
ATTACH;FMTTYPE=image/png:https://www.nwrls.com/wp-content/uploads/2025/02/April-5.png
END:VEVENT
BEGIN:VEVENT
DTSTART;TZID=America/Chicago:20250407T153000
DTEND;TZID=America/Chicago:20250407T163000
DTSTAMP:20260420T074418
CREATED:20250127T153457Z
LAST-MODIFIED:20250127T155042Z
UID:17346-1744039800-1744043400@www.nwrls.com
SUMMARY:Ukulele Social Club
DESCRIPTION:First Monday of the Month at 3:30 – 4:30 p.m. \nCome on down to the Bay County Public Library and learn how to play the ukulele! Program held in the Youth Services Program Room. \nThe first part of the class is for beginner basics. The second part is for jammin’. \nA few loaner instruments are available; all ages and playing levels welcome.
URL:https://www.nwrls.com/event/ukulele-social-club-3/
LOCATION:Bay County Public Library\, 898 W 11th Street\, Panama City\, FL\, 32401\, United States
CATEGORIES:Bay County Public Library,Events,Locations
ATTACH;FMTTYPE=image/png:https://www.nwrls.com/wp-content/uploads/2025/01/ukelesocialonline.png
END:VEVENT
BEGIN:VEVENT
DTSTART;TZID=America/Chicago:20250408T093000
DTEND;TZID=America/Chicago:20250408T110000
DTSTAMP:20260420T074418
CREATED:20250206T204557Z
LAST-MODIFIED:20250206T204557Z
UID:17421-1744104600-1744110000@www.nwrls.com
SUMMARY:Bouncin’ Babies & Toddlin’ 2s (Ages 0 - 2 with Caregiver)
DESCRIPTION:Two start times for the same class – 9:30 a.m. and 10:30 a.m. \nStories\, bounces and rhymes for littles to build early literacy skills. Class limited to 40 people per session\, arrive early to reserve your spot.
URL:https://www.nwrls.com/event/bouncin-babies-toddlin-2s-ages-0-2-with-caregiver-6/
LOCATION:Bay County Public Library\, 898 W 11th Street\, Panama City\, FL\, 32401\, United States
CATEGORIES:Bay County Public Library,Events,Locations
ATTACH;FMTTYPE=image/jpeg:https://www.nwrls.com/wp-content/uploads/2024/08/BBTT-Presentation-Size.jpg
END:VEVENT
BEGIN:VEVENT
DTSTART;TZID=America/Chicago:20250408T160000
DTEND;TZID=America/Chicago:20250408T170000
DTSTAMP:20260420T074418
CREATED:20250207T151752Z
LAST-MODIFIED:20250207T151752Z
UID:17565-1744128000-1744131600@www.nwrls.com
SUMMARY:Teen Advisory Board (Ages 14 - 17\, Registration Required)
DESCRIPTION:Earn volunteer hours and help your library! Discuss books you enjoy and potential teen library programs. We also have crafts and games. Registration required. To register\, call 850-522-2118 or send us a message on our Bay County Public Library Facebook page.
URL:https://www.nwrls.com/event/teen-advisory-board-ages-14-17-registration-required-4/
LOCATION:Bay County Public Library\, 898 W 11th Street\, Panama City\, FL\, 32401\, United States
CATEGORIES:Bay County Public Library,Events,Locations
ATTACH;FMTTYPE=image/jpeg:https://www.nwrls.com/wp-content/uploads/2023/08/Teen-Advisory-Board-2.jpg
END:VEVENT
BEGIN:VEVENT
DTSTART;TZID=America/Chicago:20250408T163000
DTEND;TZID=America/Chicago:20250408T183000
DTSTAMP:20260420T074418
CREATED:20250211T142139Z
LAST-MODIFIED:20250211T142139Z
UID:17717-1744129800-1744137000@www.nwrls.com
SUMMARY:Puzzle Competition (Registration Required)
DESCRIPTION:Which group can solve the puzzle the fastest? Registration required. Call 850-522-2107 to register your team of 2 – 4 people
URL:https://www.nwrls.com/event/puzzle-competition-registration-required/
LOCATION:Bay County Public Library\, 898 W 11th Street\, Panama City\, FL\, 32401\, United States
CATEGORIES:Bay County Public Library,Events,Locations
ATTACH;FMTTYPE=image/jpeg:https://www.nwrls.com/wp-content/uploads/2025/02/Puzzle-Competition.jpg
END:VEVENT
BEGIN:VEVENT
DTSTART;TZID=America/Chicago:20250409T093000
DTEND;TZID=America/Chicago:20250409T110000
DTSTAMP:20260420T074418
CREATED:20250211T143235Z
LAST-MODIFIED:20250211T143235Z
UID:17734-1744191000-1744196400@www.nwrls.com
SUMMARY:Digital Literacy Class: Computer & Internet Basics (Registration Required)
DESCRIPTION:Learn computer and internet basics Computer Basics is an introduction for those who are new to using a PC or want to build more confidence using the Windows 11 operating system. Internet Basics are for those new to the internet or want to build more confidence finding information online and navigating websites. \nRegistration required. Seating is limited. Visit the Adult Services Information Desk or call 850-522-2107 to register. \nLocation for class: Adult Services Computer Lab \n 
URL:https://www.nwrls.com/event/digital-literacy-class-computer-internet-basics-registration-required-4/
LOCATION:Bay County Public Library\, 898 W 11th Street\, Panama City\, FL\, 32401\, United States
CATEGORIES:Bay County Public Library,Events,Locations
ATTACH;FMTTYPE=image/jpeg:https://www.nwrls.com/wp-content/uploads/2024/11/Digital-Literacy-Classes.jpg
END:VEVENT
BEGIN:VEVENT
DTSTART;TZID=America/Chicago:20250409T160000
DTEND;TZID=America/Chicago:20250409T170000
DTSTAMP:20260420T074418
CREATED:20250206T213448Z
LAST-MODIFIED:20250206T213448Z
UID:17485-1744214400-1744218000@www.nwrls.com
SUMMARY:Youth Dungeons and Dragons (Ages 8 - 12\, Registration Required)
DESCRIPTION:Adventure through a tabletop session of Dungeons and Dragons\, Fifth Edition. Beginners welcome.  Registration Required. Call 850-522-2118 or visit Youth Services to register.
URL:https://www.nwrls.com/event/youth-dungeons-and-dragons-ages-8-12-registration-required-9/
LOCATION:Bay County Public Library\, 898 W 11th Street\, Panama City\, FL\, 32401\, United States
CATEGORIES:Bay County Public Library,Events,Locations
ATTACH;FMTTYPE=image/jpeg:https://www.nwrls.com/wp-content/uploads/2024/11/Dungeons-Dragons-Youth.jpg
END:VEVENT
BEGIN:VEVENT
DTSTART;TZID=America/Chicago:20250410T103000
DTEND;TZID=America/Chicago:20250410T110000
DTSTAMP:20260420T074418
CREATED:20250206T205234Z
LAST-MODIFIED:20250206T205234Z
UID:17443-1744281000-1744282800@www.nwrls.com
SUMMARY:Read & Rhyme Storytime (Ages 3 - 5 with Caregiver)
DESCRIPTION:Enjoy stories and songs with your preschooler while they learn early literacy skills.
URL:https://www.nwrls.com/event/read-rhyme-storytime-ages-3-5-with-caregiver-7/
LOCATION:Bay County Public Library\, 898 W 11th Street\, Panama City\, FL\, 32401\, United States
CATEGORIES:Bay County Public Library,Events,Locations
ATTACH;FMTTYPE=image/jpeg:https://www.nwrls.com/wp-content/uploads/2024/08/ReadRhyme-Presentation-Size.jpg
END:VEVENT
BEGIN:VEVENT
DTSTART;TZID=America/Chicago:20250410T103000
DTEND;TZID=America/Chicago:20250410T113000
DTSTAMP:20260420T074418
CREATED:20250211T152032Z
LAST-MODIFIED:20250211T152032Z
UID:17749-1744281000-1744284600@www.nwrls.com
SUMMARY:BCPL Virtual Book Club (Zoom Program\, Registration Required)
DESCRIPTION:April: Home is Where the Bodies Are by Jeneva Rose \nBCPL Book Club meets every 2nd Thursday of the month at 10:30 a.m. on Zoom. New members are welcome! Email Rachael at rfillingame@nwrls.com for Zoom invitation. \nCopies are available through the catalog. \nFlyer: Click to view all  BCPL Virtual Book Club titles for 2025. \n 
URL:https://www.nwrls.com/event/bcpl-virtual-book-club-zoom-program-registration-required-5/
LOCATION:Bay County Public Library\, 898 W 11th Street\, Panama City\, FL\, 32401\, United States
CATEGORIES:Bay County Public Library,Events
ATTACH;FMTTYPE=image/jpeg:https://www.nwrls.com/wp-content/uploads/2025/02/BCPL-Book-Club-2.jpg
END:VEVENT
BEGIN:VEVENT
DTSTART;TZID=America/Chicago:20250410T160000
DTEND;TZID=America/Chicago:20250410T170000
DTSTAMP:20260420T074418
CREATED:20250206T213502Z
LAST-MODIFIED:20250206T213502Z
UID:17487-1744300800-1744304400@www.nwrls.com
SUMMARY:Youth Dungeons and Dragons (Ages 8 - 12\, Registration Required)
DESCRIPTION:Adventure through a tabletop session of Dungeons and Dragons\, Fifth Edition. Beginners welcome.  Registration Required. Call 850-522-2118 or visit Youth Services to register.
URL:https://www.nwrls.com/event/youth-dungeons-and-dragons-ages-8-12-registration-required-10/
LOCATION:Bay County Public Library\, 898 W 11th Street\, Panama City\, FL\, 32401\, United States
CATEGORIES:Bay County Public Library,Events,Locations
ATTACH;FMTTYPE=image/jpeg:https://www.nwrls.com/wp-content/uploads/2024/11/Dungeons-Dragons-Youth.jpg
END:VEVENT
BEGIN:VEVENT
DTSTART;TZID=America/Chicago:20250411T100000
DTEND;TZID=America/Chicago:20250411T110000
DTSTAMP:20260420T074418
CREATED:20250206T214137Z
LAST-MODIFIED:20250206T214247Z
UID:17496-1744365600-1744369200@www.nwrls.com
SUMMARY:Discovering Art History for Homeschool (Ages 8 - 12\, Registration Required)
DESCRIPTION:Join us in Youth Services for a short art history lesson with a craft! Dress to mess! Registration required. Call 850-522-2118 or visit Youth Services to register.
URL:https://www.nwrls.com/event/art-history-ages-8-12-registration-required-2/
LOCATION:Bay County Public Library\, 898 W 11th Street\, Panama City\, FL\, 32401\, United States
CATEGORIES:Bay County Public Library,Events,Locations
ATTACH;FMTTYPE=image/png:https://www.nwrls.com/wp-content/uploads/2025/02/Onlinearthistoryspring25.png
END:VEVENT
BEGIN:VEVENT
DTSTART;TZID=America/Chicago:20250411T140000
DTEND;TZID=America/Chicago:20250411T153000
DTSTAMP:20260420T074418
CREATED:20250211T162125Z
LAST-MODIFIED:20250211T162202Z
UID:17774-1744380000-1744385400@www.nwrls.com
SUMMARY:11th Street Dulcimer Group Practice
DESCRIPTION:11th Street Mountain Dulcimer Practice at the library. Music provided. New members are welcome to join.  Join us in the Bay County Public Library Youth Services Program Room. Email sburris@nwrls.com for the PDF Set list. If attending by Zoom\, please email confirmation. \nProgram geared for adults 18+. \n  \n  \n 
URL:https://www.nwrls.com/event/11th-street-dulcimer-group-practice-2/
LOCATION:Bay County Public Library\, 898 W 11th Street\, Panama City\, FL\, 32401\, United States
CATEGORIES:Bay County Public Library,Events,Locations
ATTACH;FMTTYPE=image/jpeg:https://www.nwrls.com/wp-content/uploads/2024/08/Copy-of-Dulcimer-Practice.jpg
END:VEVENT
BEGIN:VEVENT
DTSTART;TZID=America/Chicago:20250412T100000
DTEND;TZID=America/Chicago:20250412T113000
DTSTAMP:20260420T074418
CREATED:20250206T195246Z
LAST-MODIFIED:20250206T195246Z
UID:17367-1744452000-1744457400@www.nwrls.com
SUMMARY:Carl the Collector with WFSU PBS and FSUCard
DESCRIPTION:Carl the Collector is a groundbreaking PBS KIDS show and recipient of the American Library Association Excellence in Early Learning Digital Media Award. Meet Carl\, a lovable raccoon on the autism spectrum with a passion for collecting. Through adventures with a great group of friends\, Carl navigates challenges and celebrates the beauty of neurodiversity. \n\nWatch an episode\, have a snack\, share what you collect and make a craft. \nThis FREE program is geared for families with children in Pre-K up to 3rd grade (4 -8 years).\nRegistration Required. Call 850-522-2118 or visit the Youth Services department to register.\n\nThe FSU Center for Autism and Related Disabilities (CARD) is dedicated to providing individuals with Autism or related disabilities\, their families\, and professionals who work with them with free consultation\, resources\, and educational support within the community.
URL:https://www.nwrls.com/event/carl-the-collector-with-wfsu-pbs-and-fsucard/
LOCATION:Bay County Public Library\, 898 W 11th Street\, Panama City\, FL\, 32401\, United States
CATEGORIES:Bay County Public Library,Events,Locations
ATTACH;FMTTYPE=image/jpeg:https://www.nwrls.com/wp-content/uploads/2025/02/Carl-the-Collector-Presentation.jpg
END:VEVENT
BEGIN:VEVENT
DTSTART;TZID=America/Chicago:20250412T140000
DTEND;TZID=America/Chicago:20250412T160000
DTSTAMP:20260420T074418
CREATED:20250207T151552Z
LAST-MODIFIED:20250207T151552Z
UID:17555-1744466400-1744473600@www.nwrls.com
SUMMARY:Teen Dungeons and Dragons (Ages 13 – 17\, Registration Required)
DESCRIPTION:Adventure through a tabletop session of Dungeons and Dragons\, Fifth Edition. Beginners welcome. Program geared for teens ages 13 – 17. Registration Required. Call the library at 850-522-2118 or visit the Youth Services Department.
URL:https://www.nwrls.com/event/teen-dungeons-and-dragons-ages-13-17-registration-required-4/
LOCATION:Bay County Public Library\, 898 W 11th Street\, Panama City\, FL\, 32401\, United States
CATEGORIES:Bay County Public Library,Events,Locations
ATTACH;FMTTYPE=image/jpeg:https://www.nwrls.com/wp-content/uploads/2024/11/Dungeons-Dragons-Teen.jpg
END:VEVENT
BEGIN:VEVENT
DTSTART;TZID=America/Chicago:20250415T093000
DTEND;TZID=America/Chicago:20250415T110000
DTSTAMP:20260420T074418
CREATED:20250206T204608Z
LAST-MODIFIED:20250214T194726Z
UID:17423-1744709400-1744714800@www.nwrls.com
SUMMARY:Bouncin’ Babies & Toddlin’ 2s (Ages 0 - 2 with Caregiver)
DESCRIPTION:Two start times for the same class – 9:30 a.m. and 10:30 a.m. \nStories\, bounces and rhymes for littles to build early literacy skills. Class limited to 40 people per session\, arrive early to reserve your spot.
URL:https://www.nwrls.com/event/bouncin-babies-toddlin-2s-ages-0-2-with-caregiver-7/
LOCATION:Bay County Public Library\, 898 W 11th Street\, Panama City\, FL\, 32401\, United States
CATEGORIES:Bay County Public Library,Events,Locations
ATTACH;FMTTYPE=image/jpeg:https://www.nwrls.com/wp-content/uploads/2024/08/BBTT-Presentation-Size.jpg
END:VEVENT
BEGIN:VEVENT
DTSTART;TZID=America/Chicago:20250415T160000
DTEND;TZID=America/Chicago:20250415T170000
DTSTAMP:20260420T074418
CREATED:20250207T153416Z
LAST-MODIFIED:20250207T153416Z
UID:17572-1744732800-1744736400@www.nwrls.com
SUMMARY:Rubber Band Bracelets (Ages 11 - 13\, Registration Required)
DESCRIPTION:Learn how to weave bracelets using small rubber bands! Program geared for ages 11 – 13. Registration required. To register\, call 850-522-2118 or send us a message on our Bay County Public Library Facebook page.
URL:https://www.nwrls.com/event/rubber-band-bracelets-ages-11-13-registration-required/
LOCATION:Bay County Public Library\, 898 W 11th Street\, Panama City\, FL\, 32401\, United States
CATEGORIES:Bay County Public Library,Events,Locations
ATTACH;FMTTYPE=image/jpeg:https://www.nwrls.com/wp-content/uploads/2025/02/Bracelets-Ages-11-13.jpg
END:VEVENT
BEGIN:VEVENT
DTSTART;TZID=America/Chicago:20250416T093000
DTEND;TZID=America/Chicago:20250416T110000
DTSTAMP:20260420T074418
CREATED:20241112T165100Z
LAST-MODIFIED:20250214T200638Z
UID:16667-1744795800-1744801200@www.nwrls.com
SUMMARY:Digital Literacy Class: Device Advice (Registration Required)
DESCRIPTION:Have a question about your new smart device?  Bring your device to the library to ask questions!  Be sure to bring your fully charged smart device and any questions you have. Android phones\, iPhones\, Kindles\, tablets\, and iPads welcome! \nRegistration required. Seating is limited. Visit the Adult Services Information Desk or call 850-522-2107 to register. \n 
URL:https://www.nwrls.com/event/digital-literacy-class-device-advice-registration-required/
LOCATION:Bay County Public Library\, 898 W 11th Street\, Panama City\, FL\, 32401\, United States
CATEGORIES:Bay County Public Library,Events,Locations
ATTACH;FMTTYPE=image/jpeg:https://www.nwrls.com/wp-content/uploads/2024/11/Digital-Literacy-Classes-1-1.jpg
END:VEVENT
BEGIN:VEVENT
DTSTART;TZID=America/Chicago:20250416T160000
DTEND;TZID=America/Chicago:20250416T170000
DTSTAMP:20260420T074418
CREATED:20250206T215201Z
LAST-MODIFIED:20250206T215201Z
UID:17511-1744819200-1744822800@www.nwrls.com
SUMMARY:LEGO Club (Ages 6 - 12\, Registration Required)
DESCRIPTION:Tackle LEGO challenges by putting STEM concepts into action. Class Size Limited. Registration Required. Call 850-522-2118 or visit Youth Services to register.
URL:https://www.nwrls.com/event/lego-club-ages-6-12-registration-required-3/
LOCATION:Bay County Public Library\, 898 W 11th Street\, Panama City\, FL\, 32401\, United States
CATEGORIES:Bay County Public Library,Events,Locations
ATTACH;FMTTYPE=image/jpeg:https://www.nwrls.com/wp-content/uploads/2025/02/childrens-programming-1.jpg
END:VEVENT
BEGIN:VEVENT
DTSTART;TZID=America/Chicago:20250417T103000
DTEND;TZID=America/Chicago:20250417T110000
DTSTAMP:20260420T074418
CREATED:20250206T205245Z
LAST-MODIFIED:20250206T205245Z
UID:17445-1744885800-1744887600@www.nwrls.com
SUMMARY:Read & Rhyme Storytime (Ages 3 - 5 with Caregiver)
DESCRIPTION:Enjoy stories and songs with your preschooler while they learn early literacy skills.
URL:https://www.nwrls.com/event/read-rhyme-storytime-ages-3-5-with-caregiver-8/
LOCATION:Bay County Public Library\, 898 W 11th Street\, Panama City\, FL\, 32401\, United States
CATEGORIES:Bay County Public Library,Events,Locations
ATTACH;FMTTYPE=image/jpeg:https://www.nwrls.com/wp-content/uploads/2024/08/ReadRhyme-Presentation-Size.jpg
END:VEVENT
BEGIN:VEVENT
DTSTART;TZID=America/Chicago:20250417T160000
DTEND;TZID=America/Chicago:20250417T170000
DTSTAMP:20260420T074418
CREATED:20250206T215213Z
LAST-MODIFIED:20250206T215213Z
UID:17513-1744905600-1744909200@www.nwrls.com
SUMMARY:LEGO Club (Ages 6 - 12\, Registration Required)
DESCRIPTION:Tackle LEGO challenges by putting STEM concepts into action. Class Size Limited. Registration Required. Call 850-522-2118 or visit Youth Services to register.
URL:https://www.nwrls.com/event/lego-club-ages-6-12-registration-required-4/
LOCATION:Bay County Public Library\, 898 W 11th Street\, Panama City\, FL\, 32401\, United States
CATEGORIES:Bay County Public Library,Events,Locations
ATTACH;FMTTYPE=image/jpeg:https://www.nwrls.com/wp-content/uploads/2025/02/childrens-programming-1.jpg
END:VEVENT
BEGIN:VEVENT
DTSTART;TZID=America/Chicago:20250417T173000
DTEND;TZID=America/Chicago:20250417T183000
DTSTAMP:20260420T074418
CREATED:20250211T161310Z
LAST-MODIFIED:20250211T161310Z
UID:17768-1744911000-1744914600@www.nwrls.com
SUMMARY:Shelf Indulgence @ The Press
DESCRIPTION:Meet at The Press Coffee Shop (310 Harrison Ave) for our new Genre Book Club. Each Month is a new Genre to discuss! Not sure which book to read\, we’ll have suggested titles that fit the genre. \nApril: Science Fiction / Fantasy  \nDiscussion facilitated by the Bay County Public Library.
URL:https://www.nwrls.com/event/shelf-indulgence-the-press-3/
LOCATION:The Press\, 310 Harrison Ave\, Panama CIty\, FL\, 32401\, United States
CATEGORIES:Bay County Public Library,Events,Locations
ATTACH;FMTTYPE=image/jpeg:https://www.nwrls.com/wp-content/uploads/2024/11/Shelf-Indulgence-2-1.jpg
END:VEVENT
BEGIN:VEVENT
DTSTART;VALUE=DATE:20250418
DTEND;VALUE=DATE:20250419
DTSTAMP:20260420T074418
CREATED:20250206T211810Z
LAST-MODIFIED:20250206T212608Z
UID:17470-1744934400-1745020799@www.nwrls.com
SUMMARY:Closed for Good Friday
DESCRIPTION:All Northwest Regional Library System Locations will be CLOSED for Good Friday (Friday\, April 18). \n**Locations will close by 5 p.m. on April 17.
URL:https://www.nwrls.com/event/closed-for-good-friday/
LOCATION:FL
CATEGORIES:Bay County Public Library,Charles Whitehead Public Library,Corinne Costin Gibson Memorial Public Library,Events,Harrell Memorial Public Library,Jimmy Weaver Memorial Library,Locations,Panama City Beach Library,Parker Public Library
ATTACH;FMTTYPE=image/jpeg:https://www.nwrls.com/wp-content/uploads/2025/02/Spring-Holidays.jpg
END:VEVENT
BEGIN:VEVENT
DTSTART;TZID=America/Chicago:20250419T140000
DTEND;TZID=America/Chicago:20250419T160000
DTSTAMP:20260420T074418
CREATED:20250207T151608Z
LAST-MODIFIED:20250207T151608Z
UID:17557-1745071200-1745078400@www.nwrls.com
SUMMARY:Teen Dungeons and Dragons (Ages 13 – 17\, Registration Required)
DESCRIPTION:Adventure through a tabletop session of Dungeons and Dragons\, Fifth Edition. Beginners welcome. Program geared for teens ages 13 – 17. Registration Required. Call the library at 850-522-2118 or visit the Youth Services Department.
URL:https://www.nwrls.com/event/teen-dungeons-and-dragons-ages-13-17-registration-required-5/
LOCATION:Bay County Public Library\, 898 W 11th Street\, Panama City\, FL\, 32401\, United States
CATEGORIES:Bay County Public Library,Events,Locations
ATTACH;FMTTYPE=image/jpeg:https://www.nwrls.com/wp-content/uploads/2024/11/Dungeons-Dragons-Teen.jpg
END:VEVENT
BEGIN:VEVENT
DTSTART;TZID=America/Chicago:20250421T160000
DTEND;TZID=America/Chicago:20250421T170000
DTSTAMP:20260420T074418
CREATED:20250207T145817Z
LAST-MODIFIED:20250207T145817Z
UID:17534-1745251200-1745254800@www.nwrls.com
SUMMARY:LEGO Spike (Ages 8 - 12) Registration required
DESCRIPTION:Make moving LEGO creations and learn basic coding practices. Registration Required. Call 850-522-2118 or visit the Youth Service Department to register. \nLEGO Spikes funded by a grant received by the Friends of the Bay County Public Libraries.
URL:https://www.nwrls.com/event/lego-spike-ages-8-12-registration-required/
LOCATION:Bay County Public Library\, 898 W 11th Street\, Panama City\, FL\, 32401\, United States
CATEGORIES:Bay County Public Library,Events,Locations
ATTACH;FMTTYPE=image/jpeg:https://www.nwrls.com/wp-content/uploads/2025/02/Lego-Spike-2025.jpg
END:VEVENT
BEGIN:VEVENT
DTSTART;TZID=America/Chicago:20250422T093000
DTEND;TZID=America/Chicago:20250422T110000
DTSTAMP:20260420T074418
CREATED:20250206T204619Z
LAST-MODIFIED:20250206T204619Z
UID:17425-1745314200-1745319600@www.nwrls.com
SUMMARY:Bouncin’ Babies & Toddlin’ 2s (Ages 0 - 2 with Caregiver)
DESCRIPTION:Two start times for the same class – 9:30 a.m. and 10:30 a.m. \nStories\, bounces and rhymes for littles to build early literacy skills. Class limited to 40 people per session\, arrive early to reserve your spot.
URL:https://www.nwrls.com/event/bouncin-babies-toddlin-2s-ages-0-2-with-caregiver-8/
LOCATION:Bay County Public Library\, 898 W 11th Street\, Panama City\, FL\, 32401\, United States
CATEGORIES:Bay County Public Library,Events,Locations
ATTACH;FMTTYPE=image/jpeg:https://www.nwrls.com/wp-content/uploads/2024/08/BBTT-Presentation-Size.jpg
END:VEVENT
BEGIN:VEVENT
DTSTART;TZID=America/Chicago:20250422T160000
DTEND;TZID=America/Chicago:20250422T170000
DTSTAMP:20260420T074418
CREATED:20250207T153521Z
LAST-MODIFIED:20250207T153521Z
UID:17575-1745337600-1745341200@www.nwrls.com
SUMMARY:Rubber Band Bracelets (Ages 14 - 17\, Registration Required)
DESCRIPTION:Learn how to weave bracelets using small rubber bands! Program geared for ages 14 – 17. Registration required. To register\, call 850-522-2118 or send us a message on our Bay County Public Library Facebook page.
URL:https://www.nwrls.com/event/rubber-band-bracelets-ages-14-17-registration-required/
LOCATION:Bay County Public Library\, 898 W 11th Street\, Panama City\, FL\, 32401\, United States
CATEGORIES:Bay County Public Library,Events,Locations
ATTACH;FMTTYPE=image/jpeg:https://www.nwrls.com/wp-content/uploads/2025/02/Bracelets-Ages-14-17.jpg
END:VEVENT
BEGIN:VEVENT
DTSTART;TZID=America/Chicago:20250423T160000
DTEND;TZID=America/Chicago:20250423T170000
DTSTAMP:20260420T074418
CREATED:20250206T221551Z
LAST-MODIFIED:20250214T194921Z
UID:17522-1745424000-1745427600@www.nwrls.com
SUMMARY:Japanese Language Club (Ages 6 - 12\, Registration Required)
DESCRIPTION:Learn basic words and phrases in this beginner-friendly Japanese class.  Registration Required. Call 850-522-2118 or visit Youth Services to register.
URL:https://www.nwrls.com/event/japanese-language-club-ages-6-12-registration-required-2/
LOCATION:Bay County Public Library\, 898 W 11th Street\, Panama City\, FL\, 32401\, United States
CATEGORIES:Bay County Public Library,Events,Locations
ATTACH;FMTTYPE=image/jpeg:https://www.nwrls.com/wp-content/uploads/2025/02/childrens-programming.jpg
END:VEVENT
END:VCALENDAR