BEGIN:VCALENDAR
VERSION:2.0
PRODID:-//Northwest Regional Library System - ECPv6.15.20//NONSGML v1.0//EN
CALSCALE:GREGORIAN
METHOD:PUBLISH
X-WR-CALNAME:Northwest Regional Library System
X-ORIGINAL-URL:https://www.nwrls.com
X-WR-CALDESC:Events for Northwest Regional Library System
REFRESH-INTERVAL;VALUE=DURATION:PT1H
X-Robots-Tag:noindex
X-PUBLISHED-TTL:PT1H
BEGIN:VTIMEZONE
TZID:America/Chicago
BEGIN:DAYLIGHT
TZOFFSETFROM:-0600
TZOFFSETTO:-0500
TZNAME:CDT
DTSTART:20240310T080000
END:DAYLIGHT
BEGIN:STANDARD
TZOFFSETFROM:-0500
TZOFFSETTO:-0600
TZNAME:CST
DTSTART:20241103T070000
END:STANDARD
BEGIN:DAYLIGHT
TZOFFSETFROM:-0600
TZOFFSETTO:-0500
TZNAME:CDT
DTSTART:20250309T080000
END:DAYLIGHT
BEGIN:STANDARD
TZOFFSETFROM:-0500
TZOFFSETTO:-0600
TZNAME:CST
DTSTART:20251102T070000
END:STANDARD
BEGIN:DAYLIGHT
TZOFFSETFROM:-0600
TZOFFSETTO:-0500
TZNAME:CDT
DTSTART:20260308T080000
END:DAYLIGHT
BEGIN:STANDARD
TZOFFSETFROM:-0500
TZOFFSETTO:-0600
TZNAME:CST
DTSTART:20261101T070000
END:STANDARD
END:VTIMEZONE
BEGIN:VEVENT
DTSTART;TZID=America/Chicago:20250308T140000
DTEND;TZID=America/Chicago:20250308T160000
DTSTAMP:20260420T090536
CREATED:20250207T151505Z
LAST-MODIFIED:20250207T151505Z
UID:17551-1741442400-1741449600@www.nwrls.com
SUMMARY:Teen Dungeons and Dragons (Ages 13 – 17\, Registration Required)
DESCRIPTION:Adventure through a tabletop session of Dungeons and Dragons\, Fifth Edition. Beginners welcome. Program geared for teens ages 13 – 17. Registration Required. Call the library at 850-522-2118 or visit the Youth Services Department.
URL:https://www.nwrls.com/event/teen-dungeons-and-dragons-ages-13-17-registration-required-2/
LOCATION:Bay County Public Library\, 898 W 11th Street\, Panama City\, FL\, 32401\, United States
CATEGORIES:Bay County Public Library,Events,Locations
ATTACH;FMTTYPE=image/jpeg:https://www.nwrls.com/wp-content/uploads/2024/11/Dungeons-Dragons-Teen.jpg
END:VEVENT
BEGIN:VEVENT
DTSTART;TZID=America/Chicago:20250310T160000
DTEND;TZID=America/Chicago:20250310T170000
DTSTAMP:20260420T090536
CREATED:20250206T213033Z
LAST-MODIFIED:20250206T213033Z
UID:17478-1741622400-1741626000@www.nwrls.com
SUMMARY:Craft Camp (Ages 8 - 12\, Registration Required)
DESCRIPTION:Make spring themed crafts in Youth Services. Dress to mess! Registration Required. Call 850-522-2118 or visit Youth Services to register.
URL:https://www.nwrls.com/event/craft-camp-ages-8-12-registration-required/
LOCATION:Bay County Public Library\, 898 W 11th Street\, Panama City\, FL\, 32401\, United States
CATEGORIES:Bay County Public Library,Events,Locations
ATTACH;FMTTYPE=image/png:https://www.nwrls.com/wp-content/uploads/2025/02/Onlinecraftcampspring25.png
END:VEVENT
BEGIN:VEVENT
DTSTART;TZID=America/Chicago:20250311T093000
DTEND;TZID=America/Chicago:20250311T110000
DTSTAMP:20260420T090536
CREATED:20250206T204503Z
LAST-MODIFIED:20250206T204503Z
UID:17413-1741685400-1741690800@www.nwrls.com
SUMMARY:Bouncin’ Babies & Toddlin’ 2s (Ages 0 - 2 with Caregiver)
DESCRIPTION:Two start times for the same class – 9:30 a.m. and 10:30 a.m. \nStories\, bounces and rhymes for littles to build early literacy skills. Class limited to 40 people per session\, arrive early to reserve your spot.
URL:https://www.nwrls.com/event/bouncin-babies-toddlin-2s-ages-0-2-with-caregiver-2/
LOCATION:Bay County Public Library\, 898 W 11th Street\, Panama City\, FL\, 32401\, United States
CATEGORIES:Bay County Public Library,Events,Locations
ATTACH;FMTTYPE=image/jpeg:https://www.nwrls.com/wp-content/uploads/2024/08/BBTT-Presentation-Size.jpg
END:VEVENT
BEGIN:VEVENT
DTSTART;TZID=America/Chicago:20250311T140000
DTEND;TZID=America/Chicago:20250311T150000
DTSTAMP:20260420T090536
CREATED:20250207T162809Z
LAST-MODIFIED:20250207T162809Z
UID:17598-1741701600-1741705200@www.nwrls.com
SUMMARY:Blood Pressure 101
DESCRIPTION:Learn how to monitor your blood pressure. Program taught by Dixie Williams\, RN from FL Health Bay County. \nProgram part of the Bay County Public Library’s Tuesdays at 2 Continuing Education Series. \nDid you know the library has Blood Pressure Monitors to check out?  Here is the link to place one on hold with your library card: https://ls2pac.nwrls.com/?config=default#section=resource&resourceid=1524068426&currentIndex=0&view=fullDetailsDetailsTab
URL:https://www.nwrls.com/event/blood-pressure-101/
LOCATION:Bay County Public Library\, 898 W 11th Street\, Panama City\, FL\, 32401\, United States
CATEGORIES:Bay County Public Library,Events,Locations
ATTACH;FMTTYPE=image/jpeg:https://www.nwrls.com/wp-content/uploads/2025/02/Tuesdays-at-2-2.jpg
END:VEVENT
BEGIN:VEVENT
DTSTART;TZID=America/Chicago:20250312T160000
DTEND;TZID=America/Chicago:20250312T170000
DTSTAMP:20260420T090536
CREATED:20250206T213405Z
LAST-MODIFIED:20250206T213405Z
UID:17481-1741795200-1741798800@www.nwrls.com
SUMMARY:Youth Dungeons and Dragons (Ages 8 - 12\, Registration Required)
DESCRIPTION:Adventure through a tabletop session of Dungeons and Dragons\, Fifth Edition. Beginners welcome.  Registration Required. Call 850-522-2118 or visit Youth Services to register.
URL:https://www.nwrls.com/event/youth-dungeons-and-dragons-ages-8-12-registration-required-7/
LOCATION:Bay County Public Library\, 898 W 11th Street\, Panama City\, FL\, 32401\, United States
CATEGORIES:Bay County Public Library,Events,Locations
ATTACH;FMTTYPE=image/jpeg:https://www.nwrls.com/wp-content/uploads/2024/11/Dungeons-Dragons-Youth.jpg
END:VEVENT
BEGIN:VEVENT
DTSTART;TZID=America/Chicago:20250313T103000
DTEND;TZID=America/Chicago:20250313T110000
DTSTAMP:20260420T090536
CREATED:20250206T205141Z
LAST-MODIFIED:20250206T205141Z
UID:17435-1741861800-1741863600@www.nwrls.com
SUMMARY:Read & Rhyme Storytime (Ages 3 - 5 with Caregiver)
DESCRIPTION:Enjoy stories and songs with your preschooler while they learn early literacy skills.
URL:https://www.nwrls.com/event/read-rhyme-storytime-ages-3-5-with-caregiver-2/
LOCATION:Bay County Public Library\, 898 W 11th Street\, Panama City\, FL\, 32401\, United States
CATEGORIES:Bay County Public Library,Events,Locations
ATTACH;FMTTYPE=image/jpeg:https://www.nwrls.com/wp-content/uploads/2024/08/ReadRhyme-Presentation-Size.jpg
END:VEVENT
BEGIN:VEVENT
DTSTART;TZID=America/Chicago:20250313T103000
DTEND;TZID=America/Chicago:20250313T113000
DTSTAMP:20260420T090536
CREATED:20250211T145900Z
LAST-MODIFIED:20250211T151524Z
UID:17744-1741861800-1741865400@www.nwrls.com
SUMMARY:BCPL Virtual Book Club (Zoom Program\, Registration Required)
DESCRIPTION:March: Virgil Wander by Leif Enger \nBCPL Book Club meets every 2nd Thursday of the month at 10:30 a.m. on Zoom. New members are welcome! Email Rachael at rfillingame@nwrls.com for Zoom invitation. \nCopies are available through the catalog. \nFlyer: Click to view all  BCPL Virtual Book Club titles for 2025. \n 
URL:https://www.nwrls.com/event/bcpl-virtual-book-club-zoom-program-registration-required-4/
LOCATION:Bay County Public Library\, 898 W 11th Street\, Panama City\, FL\, 32401\, United States
CATEGORIES:Bay County Public Library,Events
ATTACH;FMTTYPE=image/jpeg:https://www.nwrls.com/wp-content/uploads/2025/02/BCPL-Book-Club-3.jpg
END:VEVENT
BEGIN:VEVENT
DTSTART;TZID=America/Chicago:20250313T160000
DTEND;TZID=America/Chicago:20250313T170000
DTSTAMP:20260420T090536
CREATED:20250206T213427Z
LAST-MODIFIED:20250206T213427Z
UID:17483-1741881600-1741885200@www.nwrls.com
SUMMARY:Youth Dungeons and Dragons (Ages 8 - 12\, Registration Required)
DESCRIPTION:Adventure through a tabletop session of Dungeons and Dragons\, Fifth Edition. Beginners welcome.  Registration Required. Call 850-522-2118 or visit Youth Services to register.
URL:https://www.nwrls.com/event/youth-dungeons-and-dragons-ages-8-12-registration-required-8/
LOCATION:Bay County Public Library\, 898 W 11th Street\, Panama City\, FL\, 32401\, United States
CATEGORIES:Bay County Public Library,Events,Locations
ATTACH;FMTTYPE=image/jpeg:https://www.nwrls.com/wp-content/uploads/2024/11/Dungeons-Dragons-Youth.jpg
END:VEVENT
BEGIN:VEVENT
DTSTART;TZID=America/Chicago:20250314T093000
DTEND;TZID=America/Chicago:20250314T110000
DTSTAMP:20260420T090536
CREATED:20250211T143744Z
LAST-MODIFIED:20250214T194155Z
UID:17738-1741944600-1741950000@www.nwrls.com
SUMMARY:Digital Literacy Class: Cybersecurity Basics (Registration Required)
DESCRIPTION:Learn how to keep yourself safe when online with an introduction to cybersecurity basics. \nRegistration required. Seating is limited. Visit the Adult Services Information Desk or call 850-522-2107 to register. \nLocation for class: Adult Services Computer Lab \n 
URL:https://www.nwrls.com/event/digital-literacy-class-cybersecurity-basics-registration-required/
LOCATION:Bay County Public Library\, 898 W 11th Street\, Panama City\, FL\, 32401\, United States
CATEGORIES:Bay County Public Library,Events,Locations
ATTACH;FMTTYPE=image/jpeg:https://www.nwrls.com/wp-content/uploads/2025/02/Digital-Literacy-Classes-1.jpg
END:VEVENT
BEGIN:VEVENT
DTSTART;TZID=America/Chicago:20250314T100000
DTEND;TZID=America/Chicago:20250314T110000
DTSTAMP:20260420T090536
CREATED:20250206T214118Z
LAST-MODIFIED:20250206T214312Z
UID:17493-1741946400-1741950000@www.nwrls.com
SUMMARY:Discovering Art History for Homeschool (Ages 8 - 12\, Registration Required)
DESCRIPTION:Join us in Youth Services for a short art history lesson with a craft! Dress to mess! Registration required. Call 850-522-2118 or visit Youth Services to register.
URL:https://www.nwrls.com/event/art-history-ages-8-12-registration-required/
LOCATION:Bay County Public Library\, 898 W 11th Street\, Panama City\, FL\, 32401\, United States
CATEGORIES:Bay County Public Library,Events,Locations
ATTACH;FMTTYPE=image/png:https://www.nwrls.com/wp-content/uploads/2025/02/Onlinearthistoryspring25.png
END:VEVENT
BEGIN:VEVENT
DTSTART;TZID=America/Chicago:20250315T140000
DTEND;TZID=America/Chicago:20250315T160000
DTSTAMP:20260420T090536
CREATED:20250207T151524Z
LAST-MODIFIED:20250207T151524Z
UID:17553-1742047200-1742054400@www.nwrls.com
SUMMARY:Teen Dungeons and Dragons (Ages 13 – 17\, Registration Required)
DESCRIPTION:Adventure through a tabletop session of Dungeons and Dragons\, Fifth Edition. Beginners welcome. Program geared for teens ages 13 – 17. Registration Required. Call the library at 850-522-2118 or visit the Youth Services Department.
URL:https://www.nwrls.com/event/teen-dungeons-and-dragons-ages-13-17-registration-required-3/
LOCATION:Bay County Public Library\, 898 W 11th Street\, Panama City\, FL\, 32401\, United States
CATEGORIES:Bay County Public Library,Events,Locations
ATTACH;FMTTYPE=image/jpeg:https://www.nwrls.com/wp-content/uploads/2024/11/Dungeons-Dragons-Teen.jpg
END:VEVENT
BEGIN:VEVENT
DTSTART;TZID=America/Chicago:20250318T093000
DTEND;TZID=America/Chicago:20250318T110000
DTSTAMP:20260420T090536
CREATED:20250206T204517Z
LAST-MODIFIED:20250206T204517Z
UID:17415-1742290200-1742295600@www.nwrls.com
SUMMARY:Bouncin’ Babies & Toddlin’ 2s (Ages 0 - 2 with Caregiver)
DESCRIPTION:Two start times for the same class – 9:30 a.m. and 10:30 a.m. \nStories\, bounces and rhymes for littles to build early literacy skills. Class limited to 40 people per session\, arrive early to reserve your spot.
URL:https://www.nwrls.com/event/bouncin-babies-toddlin-2s-ages-0-2-with-caregiver-3/
LOCATION:Bay County Public Library\, 898 W 11th Street\, Panama City\, FL\, 32401\, United States
CATEGORIES:Bay County Public Library,Events,Locations
ATTACH;FMTTYPE=image/jpeg:https://www.nwrls.com/wp-content/uploads/2024/08/BBTT-Presentation-Size.jpg
END:VEVENT
BEGIN:VEVENT
DTSTART;TZID=America/Chicago:20250318T100000
DTEND;TZID=America/Chicago:20250318T130000
DTSTAMP:20260420T090536
CREATED:20250211T160134Z
LAST-MODIFIED:20250211T160632Z
UID:17752-1742292000-1742302800@www.nwrls.com
SUMMARY:The Legal Clinic
DESCRIPTION:Eligible clients can receive legal help from Legal Services of North Florida on a first-come\, first-served basis. Bring documents related to your question. \n  \nWhat to expect:\nThey will be able to help with legal information or help eligible clients apply for services on a first-come\, first-served basis. Bring all documents needed related to your question. \nAreas of law may include:\nLandlord-Tenant\nFamily Law Issues\nEmployment Law\nBankruptcy/Collections\nCustody/Child Support\nProperty Disputes\nTitle Clearing/Probate\nHousing Law\nDomestic Violence\nSexual Violence
URL:https://www.nwrls.com/event/the-legal-clinic/
LOCATION:Bay County Public Library\, 898 W 11th Street\, Panama City\, FL\, 32401\, United States
CATEGORIES:Bay County Public Library,Events,Locations
ATTACH;FMTTYPE=image/jpeg:https://www.nwrls.com/wp-content/uploads/2025/02/Legal-Clinic-Bay-County-.jpg
END:VEVENT
BEGIN:VEVENT
DTSTART;TZID=America/Chicago:20250318T140000
DTEND;TZID=America/Chicago:20250318T150000
DTSTAMP:20260420T090536
CREATED:20250207T163450Z
LAST-MODIFIED:20250207T163450Z
UID:17601-1742306400-1742310000@www.nwrls.com
SUMMARY:Buried\, But Not Forgotten with Nancy Hudson
DESCRIPTION:Cemeteries are sacred places of remembrance and open air museums. Learn about notable and forgotten people interred in Panama City cemeteries\, the Oakland and Covington Cemeteries\, funerary art\, research\, and lost cemeteries. Taught by local historian\, Nancy Hudson. \nProgram part of the Bay County Public Library’s Tuesdays at 2 Continuing Education Series. \n 
URL:https://www.nwrls.com/event/buried-but-not-forgotten-with-nancy-hudson/
LOCATION:Bay County Public Library\, 898 W 11th Street\, Panama City\, FL\, 32401\, United States
CATEGORIES:Bay County Public Library,Events,Locations
ATTACH;FMTTYPE=image/jpeg:https://www.nwrls.com/wp-content/uploads/2025/02/Tuesdays-at-2.jpg
END:VEVENT
BEGIN:VEVENT
DTSTART;TZID=America/Chicago:20250318T160000
DTEND;TZID=America/Chicago:20250318T170000
DTSTAMP:20260420T090536
CREATED:20250207T151733Z
LAST-MODIFIED:20250207T151733Z
UID:17563-1742313600-1742317200@www.nwrls.com
SUMMARY:Teen Advisory Board (Ages 14 - 17\, Registration Required)
DESCRIPTION:Earn volunteer hours and help your library! Discuss books you enjoy and potential teen library programs. We also have crafts and games. Registration required. To register\, call 850-522-2118 or send us a message on our Bay County Public Library Facebook page.
URL:https://www.nwrls.com/event/teen-advisory-board-ages-14-17-registration-required-3/
LOCATION:Bay County Public Library\, 898 W 11th Street\, Panama City\, FL\, 32401\, United States
CATEGORIES:Bay County Public Library,Events,Locations
ATTACH;FMTTYPE=image/jpeg:https://www.nwrls.com/wp-content/uploads/2023/08/Teen-Advisory-Board-2.jpg
END:VEVENT
BEGIN:VEVENT
DTSTART;TZID=America/Chicago:20250318T170000
DTEND;TZID=America/Chicago:20250318T190000
DTSTAMP:20260420T090536
CREATED:20250207T163936Z
LAST-MODIFIED:20250207T164040Z
UID:17604-1742317200-1742324400@www.nwrls.com
SUMMARY:Murder in March Mystery Game (Registration Required)
DESCRIPTION:Solve a murder in this collaborative mystery game. Each table will be an individual team of 2 – 8 members. Registration required. Call 850-522-2107 to register. Geared for adults. \n 
URL:https://www.nwrls.com/event/murder-in-march-mystery-game-registration-required/
LOCATION:Bay County Public Library\, 898 W 11th Street\, Panama City\, FL\, 32401\, United States
CATEGORIES:Bay County Public Library,Events,Locations
ATTACH;FMTTYPE=image/jpeg:https://www.nwrls.com/wp-content/uploads/2025/02/2.jpg
END:VEVENT
BEGIN:VEVENT
DTSTART;TZID=America/Chicago:20250319T160000
DTEND;TZID=America/Chicago:20250319T170000
DTSTAMP:20260420T090536
CREATED:20250206T215132Z
LAST-MODIFIED:20250206T215132Z
UID:17506-1742400000-1742403600@www.nwrls.com
SUMMARY:LEGO Club (Ages 6 - 12\, Registration Required)
DESCRIPTION:Tackle LEGO challenges by putting STEM concepts into action. Class Size Limited. Registration Required. Call 850-522-2118 or visit Youth Services to register.
URL:https://www.nwrls.com/event/lego-club-ages-6-12-registration-required/
LOCATION:Bay County Public Library\, 898 W 11th Street\, Panama City\, FL\, 32401\, United States
CATEGORIES:Bay County Public Library,Events,Locations
ATTACH;FMTTYPE=image/jpeg:https://www.nwrls.com/wp-content/uploads/2025/02/childrens-programming-1.jpg
END:VEVENT
BEGIN:VEVENT
DTSTART;TZID=America/Chicago:20250320T103000
DTEND;TZID=America/Chicago:20250320T110000
DTSTAMP:20260420T090536
CREATED:20250206T205156Z
LAST-MODIFIED:20250206T205156Z
UID:17437-1742466600-1742468400@www.nwrls.com
SUMMARY:Read & Rhyme Storytime (Ages 3 - 5 with Caregiver)
DESCRIPTION:Enjoy stories and songs with your preschooler while they learn early literacy skills.
URL:https://www.nwrls.com/event/read-rhyme-storytime-ages-3-5-with-caregiver-3/
LOCATION:Bay County Public Library\, 898 W 11th Street\, Panama City\, FL\, 32401\, United States
CATEGORIES:Bay County Public Library,Events,Locations
ATTACH;FMTTYPE=image/jpeg:https://www.nwrls.com/wp-content/uploads/2024/08/ReadRhyme-Presentation-Size.jpg
END:VEVENT
BEGIN:VEVENT
DTSTART;TZID=America/Chicago:20250320T160000
DTEND;TZID=America/Chicago:20250320T170000
DTSTAMP:20260420T090536
CREATED:20250206T215145Z
LAST-MODIFIED:20250206T215145Z
UID:17509-1742486400-1742490000@www.nwrls.com
SUMMARY:LEGO Club (Ages 6 - 12\, Registration Required)
DESCRIPTION:Tackle LEGO challenges by putting STEM concepts into action. Class Size Limited. Registration Required. Call 850-522-2118 or visit Youth Services to register.
URL:https://www.nwrls.com/event/lego-club-ages-6-12-registration-required-2/
LOCATION:Bay County Public Library\, 898 W 11th Street\, Panama City\, FL\, 32401\, United States
CATEGORIES:Bay County Public Library,Events,Locations
ATTACH;FMTTYPE=image/jpeg:https://www.nwrls.com/wp-content/uploads/2025/02/childrens-programming-1.jpg
END:VEVENT
BEGIN:VEVENT
DTSTART;TZID=America/Chicago:20250320T173000
DTEND;TZID=America/Chicago:20250320T183000
DTSTAMP:20260420T090536
CREATED:20241112T171353Z
LAST-MODIFIED:20250211T161207Z
UID:16680-1742491800-1742495400@www.nwrls.com
SUMMARY:Shelf Indulgence @ The Press
DESCRIPTION:Meet at The Press Coffee Shop (310 Harrison Ave) for our new Genre Book Club. Each Month is a new Genre to discuss! Not sure which book to read\, we’ll have suggested titles that fit the genre. \nMarch: Historical Fiction \nDiscussion facilitated by the Bay County Public Library.
URL:https://www.nwrls.com/event/shelf-indulgence-the-press-2/
LOCATION:The Press\, 310 Harrison Ave\, Panama CIty\, FL\, 32401\, United States
CATEGORIES:Bay County Public Library,Events,Locations
ATTACH;FMTTYPE=image/jpeg:https://www.nwrls.com/wp-content/uploads/2024/11/Shelf-Indulgence-1-1.jpg
END:VEVENT
BEGIN:VEVENT
DTSTART;TZID=America/Chicago:20250320T180000
DTEND;TZID=America/Chicago:20250320T190000
DTSTAMP:20260420T090536
CREATED:20250211T141434Z
LAST-MODIFIED:20250211T141434Z
UID:17714-1742493600-1742497200@www.nwrls.com
SUMMARY:Friends Annual Celebration: Lucky Mud & Sierra Everly
DESCRIPTION:Join us for a concert by Lucky Mud with special guest\, Sierra Everly. The set will be a combination of Lucky Mud’s original Americana folk tunes and several Celtic tunes. Free and open to the public to attend. Light refreshments provided. A short Friends meeting will take place following the performance. Program generously sponsored by the Friends of the Bay County Public Libraries. \nInterested in learning more about the Friends of the Bay County Public Libraries? Visit https://baycountylibraryfriends.org/ to become a member and for upcoming Friends Events.
URL:https://www.nwrls.com/event/friends-annual-celebration-lucky-mud-sierra-everly/
LOCATION:Bay County Public Library\, 898 W 11th Street\, Panama City\, FL\, 32401\, United States
CATEGORIES:Bay County Public Library,Events,Locations
ATTACH;FMTTYPE=image/jpeg:https://www.nwrls.com/wp-content/uploads/2025/02/Friends-Celebration-2025.jpg
END:VEVENT
BEGIN:VEVENT
DTSTART;TZID=America/Chicago:20250321T140000
DTEND;TZID=America/Chicago:20250321T153000
DTSTAMP:20260420T090536
CREATED:20250211T162101Z
LAST-MODIFIED:20250211T162101Z
UID:17772-1742565600-1742571000@www.nwrls.com
SUMMARY:11th Street Dulcimer Group Practice
DESCRIPTION:11th Street Mountain Dulcimer Practice at the library. Music provided. New members are welcome to join.  Join us in the Bay County Public Library Youth Services Program Room. Email sburris@nwrls.com for the PDF Set list. If attending by Zoom\, please email confirmation. \nProgram geared for adults 18+. \n  \n  \n 
URL:https://www.nwrls.com/event/11th-street-dulcimer-group-practice/
LOCATION:Bay County Public Library\, 898 W 11th Street\, Panama City\, FL\, 32401\, United States
CATEGORIES:Bay County Public Library,Events,Locations
ATTACH;FMTTYPE=image/jpeg:https://www.nwrls.com/wp-content/uploads/2024/08/Copy-of-Dulcimer-Practice.jpg
END:VEVENT
BEGIN:VEVENT
DTSTART;TZID=America/Chicago:20250324T160000
DTEND;TZID=America/Chicago:20250324T170000
DTSTAMP:20260420T090536
CREATED:20250206T214851Z
LAST-MODIFIED:20250206T214851Z
UID:17503-1742832000-1742835600@www.nwrls.com
SUMMARY:STEM Straw City (Ages 6 - 12) Registration required
DESCRIPTION:Design and build a city using plastic straw connectors. Program geared for ages 6 -12. Registration Required. Call 850-522-2118 or visit the Youth Services Desk to register.
URL:https://www.nwrls.com/event/stem-straw-city-ages-6-12-registration-required/
LOCATION:Bay County Public Library\, 898 W 11th Street\, Panama City\, FL\, 32401\, United States
CATEGORIES:Bay County Public Library,Events,Locations
ATTACH;FMTTYPE=image/jpeg:https://www.nwrls.com/wp-content/uploads/2025/02/STEM-Straw-City-2025.jpg
END:VEVENT
BEGIN:VEVENT
DTSTART;TZID=America/Chicago:20250325T093000
DTEND;TZID=America/Chicago:20250325T110000
DTSTAMP:20260420T090536
CREATED:20250206T204532Z
LAST-MODIFIED:20250206T204532Z
UID:17417-1742895000-1742900400@www.nwrls.com
SUMMARY:Bouncin’ Babies & Toddlin’ 2s (Ages 0 - 2 with Caregiver)
DESCRIPTION:Two start times for the same class – 9:30 a.m. and 10:30 a.m. \nStories\, bounces and rhymes for littles to build early literacy skills. Class limited to 40 people per session\, arrive early to reserve your spot.
URL:https://www.nwrls.com/event/bouncin-babies-toddlin-2s-ages-0-2-with-caregiver-4/
LOCATION:Bay County Public Library\, 898 W 11th Street\, Panama City\, FL\, 32401\, United States
CATEGORIES:Bay County Public Library,Events,Locations
ATTACH;FMTTYPE=image/jpeg:https://www.nwrls.com/wp-content/uploads/2024/08/BBTT-Presentation-Size.jpg
END:VEVENT
BEGIN:VEVENT
DTSTART;TZID=America/Chicago:20250325T160000
DTEND;TZID=America/Chicago:20250325T170000
DTSTAMP:20260420T090536
CREATED:20250207T153047Z
LAST-MODIFIED:20250207T153047Z
UID:17569-1742918400-1742922000@www.nwrls.com
SUMMARY:Cherry Blossom Art (Ages 11 - 13\, Registration Required)
DESCRIPTION:Learn about cherry blossoms and make an easy painting! Registration required. To register\, call 850-522-2118 or send us a message on our Bay County Public Library Facebook page.
URL:https://www.nwrls.com/event/cherry-blossom-art-ages-11-13-registration-required/
LOCATION:Bay County Public Library\, 898 W 11th Street\, Panama City\, FL\, 32401\, United States
CATEGORIES:Bay County Public Library,Events,Locations
ATTACH;FMTTYPE=image/jpeg:https://www.nwrls.com/wp-content/uploads/2025/02/Cherry-Blossom-Art.jpg
END:VEVENT
BEGIN:VEVENT
DTSTART;TZID=America/Chicago:20250326T160000
DTEND;TZID=America/Chicago:20250326T170000
DTSTAMP:20260420T090536
CREATED:20250206T221534Z
LAST-MODIFIED:20250206T221534Z
UID:17519-1743004800-1743008400@www.nwrls.com
SUMMARY:Japanese Language Club (Ages 6 - 12\, Registration Required)
DESCRIPTION:Learn basic words and phrases in this beginner-friendly Japanese class.  Registration Required. Call 850-522-2118 or visit Youth Services to register.
URL:https://www.nwrls.com/event/japanese-language-club-ages-6-12-registration-required/
LOCATION:Bay County Public Library\, 898 W 11th Street\, Panama City\, FL\, 32401\, United States
CATEGORIES:Bay County Public Library,Events,Locations
ATTACH;FMTTYPE=image/jpeg:https://www.nwrls.com/wp-content/uploads/2025/02/childrens-programming.jpg
END:VEVENT
BEGIN:VEVENT
DTSTART;TZID=America/Chicago:20250326T163000
DTEND;TZID=America/Chicago:20250326T183000
DTSTAMP:20260420T090536
CREATED:20250207T160244Z
LAST-MODIFIED:20250207T160244Z
UID:17588-1743006600-1743013800@www.nwrls.com
SUMMARY:Teen Game Night (Ages 13 - 18 / Registration Required)
DESCRIPTION:Play various Switch games in the Meeting Room. Program in the Meeting Room. Program geared for ages 13 – 18. \nRegistration encouraged. Visit the Youth Services Department or call 850-522-2118 to register. \n 
URL:https://www.nwrls.com/event/teen-game-night-ages-13-18-registration-required-3/
LOCATION:Bay County Public Library\, 898 W 11th Street\, Panama City\, FL\, 32401\, United States
CATEGORIES:Bay County Public Library,Events,Locations
ATTACH;FMTTYPE=image/jpeg:https://www.nwrls.com/wp-content/uploads/2025/02/Teen-Game-Programs-1.jpg
END:VEVENT
BEGIN:VEVENT
DTSTART;TZID=America/Chicago:20250327T103000
DTEND;TZID=America/Chicago:20250327T110000
DTSTAMP:20260420T090536
CREATED:20250206T205210Z
LAST-MODIFIED:20250206T205210Z
UID:17439-1743071400-1743073200@www.nwrls.com
SUMMARY:Read & Rhyme Storytime (Ages 3 - 5 with Caregiver)
DESCRIPTION:Enjoy stories and songs with your preschooler while they learn early literacy skills.
URL:https://www.nwrls.com/event/read-rhyme-storytime-ages-3-5-with-caregiver-5/
LOCATION:Bay County Public Library\, 898 W 11th Street\, Panama City\, FL\, 32401\, United States
CATEGORIES:Bay County Public Library,Events,Locations
ATTACH;FMTTYPE=image/jpeg:https://www.nwrls.com/wp-content/uploads/2024/08/ReadRhyme-Presentation-Size.jpg
END:VEVENT
BEGIN:VEVENT
DTSTART;TZID=America/Chicago:20250328T140000
DTEND;TZID=America/Chicago:20250328T160000
DTSTAMP:20260420T090536
CREATED:20250211T170348Z
LAST-MODIFIED:20250211T170348Z
UID:17783-1743170400-1743177600@www.nwrls.com
SUMMARY:Crafternoon @ The Library
DESCRIPTION:Bring a current craft project or the supplies to start a new one! Adult coloring pages provided. Join other crafters in forming a more tight knit (or crocheted) community! Program geared for adults; teens welcome.
URL:https://www.nwrls.com/event/crafternoon-the-library/
LOCATION:Bay County Public Library\, 898 W 11th Street\, Panama City\, FL\, 32401\, United States
CATEGORIES:Bay County Public Library,Events,Locations
ATTACH;FMTTYPE=image/png:https://www.nwrls.com/wp-content/uploads/2025/02/Crafternoon-Spring-25.png
END:VEVENT
BEGIN:VEVENT
DTSTART;TZID=America/Chicago:20250328T153000
DTEND;TZID=America/Chicago:20250328T163000
DTSTAMP:20260420T090536
CREATED:20250206T221828Z
LAST-MODIFIED:20250206T221828Z
UID:17526-1743175800-1743179400@www.nwrls.com
SUMMARY:After-School Switch League (Ages 8 - 12)
DESCRIPTION:Hang out and enjoy Nintendo Switch Games! Program geared for ages 8 – 12.
URL:https://www.nwrls.com/event/after-school-switch-league-ages-8-12/
LOCATION:Bay County Public Library\, 898 W 11th Street\, Panama City\, FL\, 32401\, United States
CATEGORIES:Bay County Public Library,Events,Locations
ATTACH;FMTTYPE=image/jpeg:https://www.nwrls.com/wp-content/uploads/2024/11/Copy-of-Dungeons-Dragons-Youth.jpg
END:VEVENT
END:VCALENDAR