BEGIN:VCALENDAR
VERSION:2.0
PRODID:-//Northwest Regional Library System - ECPv6.15.20//NONSGML v1.0//EN
CALSCALE:GREGORIAN
METHOD:PUBLISH
X-WR-CALNAME:Northwest Regional Library System
X-ORIGINAL-URL:https://www.nwrls.com
X-WR-CALDESC:Events for Northwest Regional Library System
REFRESH-INTERVAL;VALUE=DURATION:PT1H
X-Robots-Tag:noindex
X-PUBLISHED-TTL:PT1H
BEGIN:VTIMEZONE
TZID:America/Chicago
BEGIN:DAYLIGHT
TZOFFSETFROM:-0600
TZOFFSETTO:-0500
TZNAME:CDT
DTSTART:20250309T080000
END:DAYLIGHT
BEGIN:STANDARD
TZOFFSETFROM:-0500
TZOFFSETTO:-0600
TZNAME:CST
DTSTART:20251102T070000
END:STANDARD
BEGIN:DAYLIGHT
TZOFFSETFROM:-0600
TZOFFSETTO:-0500
TZNAME:CDT
DTSTART:20260308T080000
END:DAYLIGHT
BEGIN:STANDARD
TZOFFSETFROM:-0500
TZOFFSETTO:-0600
TZNAME:CST
DTSTART:20261101T070000
END:STANDARD
BEGIN:DAYLIGHT
TZOFFSETFROM:-0600
TZOFFSETTO:-0500
TZNAME:CDT
DTSTART:20270314T080000
END:DAYLIGHT
BEGIN:STANDARD
TZOFFSETFROM:-0500
TZOFFSETTO:-0600
TZNAME:CST
DTSTART:20271107T070000
END:STANDARD
END:VTIMEZONE
BEGIN:VTIMEZONE
TZID:America/New_York
BEGIN:DAYLIGHT
TZOFFSETFROM:-0500
TZOFFSETTO:-0400
TZNAME:EDT
DTSTART:20250309T070000
END:DAYLIGHT
BEGIN:STANDARD
TZOFFSETFROM:-0400
TZOFFSETTO:-0500
TZNAME:EST
DTSTART:20251102T060000
END:STANDARD
BEGIN:DAYLIGHT
TZOFFSETFROM:-0500
TZOFFSETTO:-0400
TZNAME:EDT
DTSTART:20260308T070000
END:DAYLIGHT
BEGIN:STANDARD
TZOFFSETFROM:-0400
TZOFFSETTO:-0500
TZNAME:EST
DTSTART:20261101T060000
END:STANDARD
BEGIN:DAYLIGHT
TZOFFSETFROM:-0500
TZOFFSETTO:-0400
TZNAME:EDT
DTSTART:20270314T070000
END:DAYLIGHT
BEGIN:STANDARD
TZOFFSETFROM:-0400
TZOFFSETTO:-0500
TZNAME:EST
DTSTART:20271107T060000
END:STANDARD
END:VTIMEZONE
BEGIN:VEVENT
DTSTART;TZID=America/Chicago:20260301T090000
DTEND;TZID=America/Chicago:20260531T130000
DTSTAMP:20260421T033949
CREATED:20260211T175643Z
LAST-MODIFIED:20260211T175643Z
UID:20743-1772355600-1780232400@www.nwrls.com
SUMMARY:Spring Reading Challenge
DESCRIPTION:During March – May\, kids that check out 5 books can add to the library’s Spring collage!
URL:https://www.nwrls.com/event/spring-reading-challenge/
LOCATION:Charles Whitehead Memorial Public Library\, 314 North Second Street\, Wewahitchka\, FL\, 32465\, United States
CATEGORIES:Charles Whitehead Public Library,Events,Locations
ATTACH;FMTTYPE=image/jpeg:https://www.nwrls.com/wp-content/uploads/2026/02/Spring-Reading-Challenge.jpg
END:VEVENT
BEGIN:VEVENT
DTSTART;TZID=America/Chicago:20260401T090000
DTEND;TZID=America/Chicago:20260430T170000
DTSTAMP:20260421T033949
CREATED:20260224T191318Z
LAST-MODIFIED:20260224T191318Z
UID:21420-1775034000-1777568400@www.nwrls.com
SUMMARY:Spring Reading Challenge (April 1 - 30)
DESCRIPTION:Participating Libraries:  Bay County Public Library\, Parker Public Library\, Panama City Beach Public Library \nApril 1 – 30\nCheck out items in April to be entered in a raffle prize drawing! (1 entry per person) There will be one small prize for kids\, one for teens\, and one for adults. \nThank you to the Friends of the Bay County Public Libraries for funding special campaigns like this!
URL:https://www.nwrls.com/event/spring-reading-challenge-april-1-30/
LOCATION:FL
CATEGORIES:Bay County Public Library,Events,Locations,Panama City Beach Library,Parker Public Library
ATTACH;FMTTYPE=image/jpeg:https://www.nwrls.com/wp-content/uploads/2026/02/BCPL-Spring-Programs-1-1.jpg
END:VEVENT
BEGIN:VEVENT
DTSTART;TZID=America/New_York:20260402T090000
DTEND;TZID=America/New_York:20260430T170000
DTSTAMP:20260421T033949
CREATED:20260225T214341Z
LAST-MODIFIED:20260225T214341Z
UID:21432-1775120400-1777568400@www.nwrls.com
SUMMARY:Mother's Day Raffle (Adults)
DESCRIPTION:April 2 – April 30Visit the library for your chance to win a Mother’s Day basket of goodies! One entry per day per person. The winner will be announced on May 9!
URL:https://www.nwrls.com/event/mothers-day-raffle-adults/
LOCATION:Jimmy Weaver Memorial Library\, 22149 NE State Road 20\, Hosford\, FL\, 32334\, United States
CATEGORIES:Events,Jimmy Weaver Memorial Library,Locations
ATTACH;FMTTYPE=image/jpeg:https://www.nwrls.com/wp-content/uploads/2026/02/BCPL-Spring-Programs-1-2.jpg
END:VEVENT
BEGIN:VEVENT
DTSTART;TZID=America/Chicago:20260417T100000
DTEND;TZID=America/Chicago:20260417T120000
DTSTAMP:20260421T033949
CREATED:20260213T195956Z
LAST-MODIFIED:20260213T195956Z
UID:21195-1776420000-1776427200@www.nwrls.com
SUMMARY:Sea Needles
DESCRIPTION:Join us and make new friends as you work on your own sewing\, knitting or crochet project. Stop by our display case to see some of the beautiful\, finished projects.
URL:https://www.nwrls.com/event/sea-needles-67/
LOCATION:Panama City Beach Public Library\, 12500 Hutchison Blvd\, Panama City Beach\, FL\, 32407
CATEGORIES:Events,Locations,Panama City Beach Library
ATTACH;FMTTYPE=image/jpeg:https://www.nwrls.com/wp-content/uploads/2025/11/Sea-Needles.jpg
END:VEVENT
BEGIN:VEVENT
DTSTART;TZID=America/New_York:20260417T110000
DTEND;TZID=America/New_York:20260417T120000
DTSTAMP:20260421T033949
CREATED:20260213T172948Z
LAST-MODIFIED:20260213T172950Z
UID:21133-1776423600-1776427200@www.nwrls.com
SUMMARY:Pirate Party Storytime
DESCRIPTION:Join us for a fun storytime with mermaids and pirates! Light refreshments provided. We set sail at 11:00 a.m. ET so don’t miss out on this exciting reading adventure!
URL:https://www.nwrls.com/event/pirate-party-storytime/
LOCATION:Corinne Costin Gibson Memorial Public Library\, 110 Library Drive\, Port St. Joe\, FL\, 32456\, United States
CATEGORIES:Corinne Costin Gibson Memorial Public Library,Events,Locations
ATTACH;FMTTYPE=image/png:https://www.nwrls.com/wp-content/uploads/2026/02/Mermaid-Festival_Storytime-scaled.png
END:VEVENT
BEGIN:VEVENT
DTSTART;TZID=America/Chicago:20260417T130000
DTEND;TZID=America/Chicago:20260417T140000
DTSTAMP:20260421T033949
CREATED:20260211T211225Z
LAST-MODIFIED:20260211T211227Z
UID:20873-1776430800-1776434400@www.nwrls.com
SUMMARY:Genealogy: DNA
DESCRIPTION:Learn how DNA can help you find your ancestors.  Discuss forms of DNA and companies that offer testing.
URL:https://www.nwrls.com/event/genealogy-dna-2/
LOCATION:Charles Whitehead Memorial Public Library\, 314 North Second Street\, Wewahitchka\, FL\, 32465\, United States
CATEGORIES:Charles Whitehead Public Library,Events,Locations
ATTACH;FMTTYPE=image/jpeg:https://www.nwrls.com/wp-content/uploads/2026/02/Geneology-DNA-2.jpg
END:VEVENT
BEGIN:VEVENT
DTSTART;TZID=America/Chicago:20260417T140000
DTEND;TZID=America/Chicago:20260417T153000
DTSTAMP:20260421T033949
CREATED:20260212T212130Z
LAST-MODIFIED:20260212T212132Z
UID:20973-1776434400-1776439800@www.nwrls.com
SUMMARY:11th Street Dulcimer Group Practice
DESCRIPTION:11th Street Mountain Dulcimer Practice at the library. Music provided. New members are welcome to join.  Join us in the Bay County Public Library Youth Services Program Room. Email rfillingame@nwrls.com for the PDF Set list. If attending by Zoom\, please email confirmation. \nProgram geared for adults 18+. \n  \n  \n 
URL:https://www.nwrls.com/event/11th-street-dulcimer-group-practice-15/
LOCATION:Bay County Public Library\, 898 W 11th Street\, Panama City\, FL\, 32401\, United States
CATEGORIES:Bay County Public Library,Events,Locations
ATTACH;FMTTYPE=image/jpeg:https://www.nwrls.com/wp-content/uploads/2024/08/Copy-of-Dulcimer-Practice.jpg
END:VEVENT
BEGIN:VEVENT
DTSTART;TZID=America/Chicago:20260417T193000
DTEND;TZID=America/Chicago:20260417T213000
DTSTAMP:20260421T033949
CREATED:20260224T180907Z
LAST-MODIFIED:20260319T131441Z
UID:21412-1776454200-1776461400@www.nwrls.com
SUMMARY:Movies at the Park:  Zootopia 2  (OFF-SITE)
DESCRIPTION:It’s family movie night at the park! In partnership with Bay County Parks & Recreation and with support from the Friends of the Bay County Public Libraries and St. Joe Community Foundation\, we’re excited to invite you to this FREE outdoor movie experience.\n\nWHERE: H.G Harder’s Park\, 8110 John Pitts Rd\, Panama City\, FL\n\nMarch 20\, 2026 at 7:30 p.m.: Dog Man (PG)April 17\, 2026 at 7:30 p.m.: Zootopia 2 (PG) *special giveawayMay 15\, 2026 at 7:30 p.m.: The Wild Robot (PG)\n\n*Bring a blanket or chair for seating.  Don’t miss out on this FREE and FUN event with your family!
URL:https://www.nwrls.com/event/movies-at-the-park-zootopia-2-off-site/
LOCATION:H. G. Harder’s Park\, 8110 John Pitts Road\, Panama City\, United States
CATEGORIES:Bay County Public Library,Events,Locations
ATTACH;FMTTYPE=image/jpeg:https://www.nwrls.com/wp-content/uploads/2026/02/BCPL-Spring-Programs-1-3.jpg
END:VEVENT
END:VCALENDAR