BEGIN:VCALENDAR
VERSION:2.0
PRODID:-//Northwest Regional Library System - ECPv6.15.20//NONSGML v1.0//EN
CALSCALE:GREGORIAN
METHOD:PUBLISH
X-ORIGINAL-URL:https://www.nwrls.com
X-WR-CALDESC:Events for Northwest Regional Library System
REFRESH-INTERVAL;VALUE=DURATION:PT1H
X-Robots-Tag:noindex
X-PUBLISHED-TTL:PT1H
BEGIN:VTIMEZONE
TZID:America/Chicago
BEGIN:DAYLIGHT
TZOFFSETFROM:-0600
TZOFFSETTO:-0500
TZNAME:CDT
DTSTART:20240310T080000
END:DAYLIGHT
BEGIN:STANDARD
TZOFFSETFROM:-0500
TZOFFSETTO:-0600
TZNAME:CST
DTSTART:20241103T070000
END:STANDARD
BEGIN:DAYLIGHT
TZOFFSETFROM:-0600
TZOFFSETTO:-0500
TZNAME:CDT
DTSTART:20250309T080000
END:DAYLIGHT
BEGIN:STANDARD
TZOFFSETFROM:-0500
TZOFFSETTO:-0600
TZNAME:CST
DTSTART:20251102T070000
END:STANDARD
BEGIN:DAYLIGHT
TZOFFSETFROM:-0600
TZOFFSETTO:-0500
TZNAME:CDT
DTSTART:20260308T080000
END:DAYLIGHT
BEGIN:STANDARD
TZOFFSETFROM:-0500
TZOFFSETTO:-0600
TZNAME:CST
DTSTART:20261101T070000
END:STANDARD
END:VTIMEZONE
BEGIN:VTIMEZONE
TZID:America/New_York
BEGIN:DAYLIGHT
TZOFFSETFROM:-0500
TZOFFSETTO:-0400
TZNAME:EDT
DTSTART:20240310T070000
END:DAYLIGHT
BEGIN:STANDARD
TZOFFSETFROM:-0400
TZOFFSETTO:-0500
TZNAME:EST
DTSTART:20241103T060000
END:STANDARD
BEGIN:DAYLIGHT
TZOFFSETFROM:-0500
TZOFFSETTO:-0400
TZNAME:EDT
DTSTART:20250309T070000
END:DAYLIGHT
BEGIN:STANDARD
TZOFFSETFROM:-0400
TZOFFSETTO:-0500
TZNAME:EST
DTSTART:20251102T060000
END:STANDARD
BEGIN:DAYLIGHT
TZOFFSETFROM:-0500
TZOFFSETTO:-0400
TZNAME:EDT
DTSTART:20260308T070000
END:DAYLIGHT
BEGIN:STANDARD
TZOFFSETFROM:-0400
TZOFFSETTO:-0500
TZNAME:EST
DTSTART:20261101T060000
END:STANDARD
END:VTIMEZONE
BEGIN:VEVENT
DTSTART;VALUE=DATE:20250902
DTEND;VALUE=DATE:20251001
DTSTAMP:20260421T040715
CREATED:20250903T152533Z
LAST-MODIFIED:20250903T152533Z
UID:19207-1756771200-1759276799@www.nwrls.com
SUMMARY:September - Kids Scavenger Hunt
DESCRIPTION:Library Scavenger Hunt (School Age)\nSeptember 1 – 30 \nComplete a scavenger hunt at the library and be entered in our Library Card Sign-Up Month raffle!  Limit one scavenger hunt per child. \nParticipating Libraries: Bay County Public Library\, Panama City Beach Public Library\, and Parker Public Library \nPrize: Lego Classic Set & 365 Things to do With Lego Bricks book
URL:https://www.nwrls.com/event/september-kids-scavenger-hunt/
LOCATION:Bay County Public Library\, 898 W 11th Street\, Panama City\, FL\, 32401\, United States
CATEGORIES:Bay County Public Library,Events,Locations,Panama City Beach Library,Parker Public Library
ATTACH;FMTTYPE=image/png:https://www.nwrls.com/wp-content/uploads/2025/09/What-would-the-title-of-your-memoir-be-1.png
END:VEVENT
BEGIN:VEVENT
DTSTART;VALUE=DATE:20250902
DTEND;VALUE=DATE:20251001
DTSTAMP:20260421T040715
CREATED:20250903T152844Z
LAST-MODIFIED:20250903T152844Z
UID:19542-1756771200-1759276799@www.nwrls.com
SUMMARY:September - Adult Scavenger Hunt
DESCRIPTION:Library Scavenger Hunt (Adults)\nSeptember 1 – 30 \nComplete a scavenger hunt at the library and be entered in our Library Card Sign-Up Month raffle!  Limit one scavenger hunt per adult. \nParticipating Library: Bay County Public Library \nPrize:  a blanket\, compass\, National Parks of the USA travel guide\, PBS The Hummingbird Effect DVD\, & A Happier Life by Kristy Woodson Harvey
URL:https://www.nwrls.com/event/september-adult-scavenger-hunt/
LOCATION:Bay County Public Library\, 898 W 11th Street\, Panama City\, FL\, 32401\, United States
CATEGORIES:Bay County Public Library,Events,Locations
ATTACH;FMTTYPE=image/png:https://www.nwrls.com/wp-content/uploads/2025/09/What-would-the-title-of-your-memoir-be-2.png
END:VEVENT
BEGIN:VEVENT
DTSTART;TZID=America/Chicago:20250918T100000
DTEND;TZID=America/Chicago:20250918T110000
DTSTAMP:20260421T040715
CREATED:20250826T150726Z
LAST-MODIFIED:20250826T150726Z
UID:19369-1758189600-1758193200@www.nwrls.com
SUMMARY:Sail into School (Ages 3 - 5 / Class size limited)
DESCRIPTION:Join us for stories\, songs\, and felt play all to get ready for school! Class size is limited to 24 people.
URL:https://www.nwrls.com/event/sail-into-school-ages-3-5-class-size-limited-8/
LOCATION:Panama City Beach Public Library\, 12500 Hutchison Blvd\, Panama City Beach\, FL\, 32407
CATEGORIES:Events,Locations,Panama City Beach Library
ATTACH;FMTTYPE=image/jpeg:https://www.nwrls.com/wp-content/uploads/2023/08/PBC-Sail-into-School.jpg
END:VEVENT
BEGIN:VEVENT
DTSTART;TZID=America/Chicago:20250918T103000
DTEND;TZID=America/Chicago:20250918T110000
DTSTAMP:20260421T040715
CREATED:20250903T140608Z
LAST-MODIFIED:20250903T143518Z
UID:19516-1758191400-1758193200@www.nwrls.com
SUMMARY:Read & Rhyme Storytime (Ages 3 - 5 with Caregiver)
DESCRIPTION:Enjoy stories and songs with your preschooler while they learn early literacy skills.
URL:https://www.nwrls.com/event/read-rhyme-storytime-ages-3-5-with-caregiver-12/
LOCATION:Bay County Public Library\, 898 W 11th Street\, Panama City\, FL\, 32401\, United States
CATEGORIES:Bay County Public Library,Events,Locations
ATTACH;FMTTYPE=image/jpeg:https://www.nwrls.com/wp-content/uploads/2024/08/ReadRhyme-Presentation-Size.jpg
END:VEVENT
BEGIN:VEVENT
DTSTART;TZID=America/New_York:20250918T110000
DTEND;TZID=America/New_York:20250918T120000
DTSTAMP:20260421T040715
CREATED:20250822T132545Z
LAST-MODIFIED:20250822T132545Z
UID:19321-1758193200-1758196800@www.nwrls.com
SUMMARY:Preschool Storytime
DESCRIPTION:Stories\, songs\, movement and music to instill a love a reading\, followed by time to play with friends in our well-equipped classroom! Program geared for 6 months – 5 years of age with caregiver.
URL:https://www.nwrls.com/event/preschool-storytime-25/
LOCATION:Corinne Costin Gibson Memorial Public Library\, 110 Library Drive\, Port St. Joe\, FL\, 32456\, United States
CATEGORIES:Corinne Costin Gibson Memorial Public Library,Events,Locations
ATTACH;FMTTYPE=image/png:https://www.nwrls.com/wp-content/uploads/2025/08/PSJ-Preschool-Storytime.png
END:VEVENT
BEGIN:VEVENT
DTSTART;TZID=America/New_York:20250918T130000
DTEND;TZID=America/New_York:20250918T140000
DTSTAMP:20260421T040715
CREATED:20250815T132830Z
LAST-MODIFIED:20250815T133544Z
UID:18952-1758200400-1758204000@www.nwrls.com
SUMMARY:The Book Buzz
DESCRIPTION:Join us for a cup of tea\, as we share our latest favorite book. Each month we will explore a different theme or genre\, with a list of great titles available.
URL:https://www.nwrls.com/event/the-book-buzz-11/
LOCATION:Jimmy Weaver Memorial Library\, 22149 NE State Road 20\, Hosford\, FL\, 32334\, United States
CATEGORIES:Events,Jimmy Weaver Memorial Library,Locations
ATTACH;FMTTYPE=image/jpeg:https://www.nwrls.com/wp-content/uploads/2023/08/The-Book-Buzz.jpg
END:VEVENT
BEGIN:VEVENT
DTSTART;TZID=America/New_York:20250918T150000
DTEND;TZID=America/New_York:20250918T160000
DTSTAMP:20260421T040715
CREATED:20250814T200956Z
LAST-MODIFIED:20250814T200956Z
UID:18904-1758207600-1758211200@www.nwrls.com
SUMMARY:LEGO Club (Ages 6 - 12)
DESCRIPTION:Join up with friends for exciting monthly challenges along with free play! LEGOs provided by the library. Program geared for ages 6 – 12.
URL:https://www.nwrls.com/event/lego-club-ages-6-12/
LOCATION:Harrell Memorial Public Library\, 13016 NW CR 12\, Bristol\, FL\, 32321\, United States
CATEGORIES:Events,Harrell Memorial Public Library,Locations
ATTACH;FMTTYPE=image/jpeg:https://www.nwrls.com/wp-content/uploads/2023/08/Lego-Club-Bristol.jpg
END:VEVENT
BEGIN:VEVENT
DTSTART;TZID=America/Chicago:20250918T173000
DTEND;TZID=America/Chicago:20250918T183000
DTSTAMP:20260421T040715
CREATED:20250821T202716Z
LAST-MODIFIED:20250821T202716Z
UID:19120-1758216600-1758220200@www.nwrls.com
SUMMARY:Shelf Indulgence @ Wild Root
DESCRIPTION:Meet at Wild Root Coffee & Tea Shop (452 Harrison Ave. Panama City\, FL 32401) for our new Genre Book Club. Each Month is a new Genre to discuss! Not sure which book to read\, we’ll have suggested titles that fit the genre. \nEmail rfillingame@nwrls.com for monthly book topics!  Discussion facilitated by the Bay County Public Library.
URL:https://www.nwrls.com/event/shelf-indulgence-wild-root/
LOCATION:Wild Root Coffee & Tea\, 452 Harrison Ave\, Panama City\, FL\, 32401\, United States
CATEGORIES:Bay County Public Library,Events,Locations
ATTACH;FMTTYPE=image/png:https://www.nwrls.com/wp-content/uploads/2025/08/Shelf-Indulgence.png
END:VEVENT
END:VCALENDAR