BEGIN:VCALENDAR
VERSION:2.0
PRODID:-//Northwest Regional Library System - ECPv6.15.20//NONSGML v1.0//EN
CALSCALE:GREGORIAN
METHOD:PUBLISH
X-WR-CALNAME:Northwest Regional Library System
X-ORIGINAL-URL:https://www.nwrls.com
X-WR-CALDESC:Events for Northwest Regional Library System
REFRESH-INTERVAL;VALUE=DURATION:PT1H
X-Robots-Tag:noindex
X-PUBLISHED-TTL:PT1H
BEGIN:VTIMEZONE
TZID:America/Chicago
BEGIN:DAYLIGHT
TZOFFSETFROM:-0600
TZOFFSETTO:-0500
TZNAME:CDT
DTSTART:20240310T080000
END:DAYLIGHT
BEGIN:STANDARD
TZOFFSETFROM:-0500
TZOFFSETTO:-0600
TZNAME:CST
DTSTART:20241103T070000
END:STANDARD
BEGIN:DAYLIGHT
TZOFFSETFROM:-0600
TZOFFSETTO:-0500
TZNAME:CDT
DTSTART:20250309T080000
END:DAYLIGHT
BEGIN:STANDARD
TZOFFSETFROM:-0500
TZOFFSETTO:-0600
TZNAME:CST
DTSTART:20251102T070000
END:STANDARD
BEGIN:DAYLIGHT
TZOFFSETFROM:-0600
TZOFFSETTO:-0500
TZNAME:CDT
DTSTART:20260308T080000
END:DAYLIGHT
BEGIN:STANDARD
TZOFFSETFROM:-0500
TZOFFSETTO:-0600
TZNAME:CST
DTSTART:20261101T070000
END:STANDARD
END:VTIMEZONE
BEGIN:VEVENT
DTSTART;TZID=America/Chicago:20250601T090000
DTEND;TZID=America/Chicago:20250630T130000
DTSTAMP:20260421T074650
CREATED:20250529T131408Z
LAST-MODIFIED:20250529T131408Z
UID:18525-1748768400-1751288400@www.nwrls.com
SUMMARY:Tiny Art Contest (Ages 4 - 8 / 9 - 13 / 14 - 17)
DESCRIPTION:Check out 5 books with one being an art book to receive your tiny art kit. Submissions accepted throughout June. \nPublic Voting: July 1-25. Winners announced July 29.
URL:https://www.nwrls.com/event/tiny-art-contest-ages-4-8-9-13-14-17/
LOCATION:Charles Whitehead Memorial Public Library\, 314 North Second Street\, Wewahitchka\, FL\, 32465\, United States
CATEGORIES:Charles Whitehead Public Library,Events,Locations
ATTACH;FMTTYPE=image/jpeg:https://www.nwrls.com/wp-content/uploads/2025/05/tiny-art-contest.jpg
END:VEVENT
BEGIN:VEVENT
DTSTART;TZID=America/Chicago:20250627T100000
DTEND;TZID=America/Chicago:20250627T120000
DTSTAMP:20260421T074650
CREATED:20250529T185559Z
LAST-MODIFIED:20250529T185559Z
UID:18747-1751018400-1751025600@www.nwrls.com
SUMMARY:Sea Needles
DESCRIPTION:Join us and make new friends as you work on your own sewing\, knitting or crochet project. Stop by our display case to see some of the beautiful finished projects.
URL:https://www.nwrls.com/event/sea-needles-28/
LOCATION:Panama City Beach Public Library\, 12500 Hutchison Blvd\, Panama City Beach\, FL\, 32407
CATEGORIES:Events,Locations,Panama City Beach Library
ATTACH;FMTTYPE=image/jpeg:https://www.nwrls.com/wp-content/uploads/2023/08/Sea-Needles-1.jpg
END:VEVENT
BEGIN:VEVENT
DTSTART;TZID=America/Chicago:20250627T140000
DTEND;TZID=America/Chicago:20250627T153000
DTSTAMP:20260421T074650
CREATED:20250529T133142Z
LAST-MODIFIED:20250529T133156Z
UID:18563-1751032800-1751038200@www.nwrls.com
SUMMARY:Daddy and Daughter Hair Classes:  Hair Show
DESCRIPTION:Let’s show off the skills you’ve learned in our hair classes.  Come styled and ready to walk the red carpet!  Meet in Youth Services. \n*Supplies generously provided by Annie International.
URL:https://www.nwrls.com/event/daddy-and-daughter-hair-classes-hair-show/
LOCATION:Bay County Public Library\, 898 W 11th Street\, Panama City\, FL\, 32401\, United States
CATEGORIES:Bay County Public Library,Events,Locations
ATTACH;FMTTYPE=image/png:https://www.nwrls.com/wp-content/uploads/2025/05/Daddy-and-Daughter-Hair-Class-2.png
END:VEVENT
BEGIN:VEVENT
DTSTART;TZID=America/Chicago:20250627T140000
DTEND;TZID=America/Chicago:20250627T160000
DTSTAMP:20260421T074650
CREATED:20250529T140019Z
LAST-MODIFIED:20250529T140019Z
UID:18605-1751032800-1751040000@www.nwrls.com
SUMMARY:Crafternoon @ The Library
DESCRIPTION:Bring a current craft project or the supplies to start a new one! Adult coloring pages provided. Join other crafters in forming a tightly knit (or crocheted) community! Program geared for adults; teens welcome.
URL:https://www.nwrls.com/event/crafternoon-the-library-7/
LOCATION:Bay County Public Library\, 898 W 11th Street\, Panama City\, FL\, 32401\, United States
CATEGORIES:Bay County Public Library,Events,Locations
ATTACH;FMTTYPE=image/png:https://www.nwrls.com/wp-content/uploads/2025/05/Summer-25.png
END:VEVENT
BEGIN:VEVENT
DTSTART;TZID=America/Chicago:20250627T150000
DTEND;TZID=America/Chicago:20250627T160000
DTSTAMP:20260421T074650
CREATED:20250528T215539Z
LAST-MODIFIED:20250528T215539Z
UID:18464-1751036400-1751040000@www.nwrls.com
SUMMARY:Summer Programs for School Ages:  Superhero Capes
DESCRIPTION:
URL:https://www.nwrls.com/event/summer-programs-for-school-ages-superhero-capes/
LOCATION:Charles Whitehead Memorial Public Library\, 314 North Second Street\, Wewahitchka\, FL\, 32465\, United States
CATEGORIES:Charles Whitehead Public Library,Events,Locations
ATTACH;FMTTYPE=image/jpeg:https://www.nwrls.com/wp-content/uploads/2025/05/Superhero-capes.jpg
END:VEVENT
END:VCALENDAR