BEGIN:VCALENDAR
VERSION:2.0
PRODID:-//Northwest Regional Library System - ECPv6.15.20//NONSGML v1.0//EN
CALSCALE:GREGORIAN
METHOD:PUBLISH
X-WR-CALNAME:Northwest Regional Library System
X-ORIGINAL-URL:https://www.nwrls.com
X-WR-CALDESC:Events for Northwest Regional Library System
REFRESH-INTERVAL;VALUE=DURATION:PT1H
X-Robots-Tag:noindex
X-PUBLISHED-TTL:PT1H
BEGIN:VTIMEZONE
TZID:America/Chicago
BEGIN:DAYLIGHT
TZOFFSETFROM:-0600
TZOFFSETTO:-0500
TZNAME:CDT
DTSTART:20240310T080000
END:DAYLIGHT
BEGIN:STANDARD
TZOFFSETFROM:-0500
TZOFFSETTO:-0600
TZNAME:CST
DTSTART:20241103T070000
END:STANDARD
BEGIN:DAYLIGHT
TZOFFSETFROM:-0600
TZOFFSETTO:-0500
TZNAME:CDT
DTSTART:20250309T080000
END:DAYLIGHT
BEGIN:STANDARD
TZOFFSETFROM:-0500
TZOFFSETTO:-0600
TZNAME:CST
DTSTART:20251102T070000
END:STANDARD
BEGIN:DAYLIGHT
TZOFFSETFROM:-0600
TZOFFSETTO:-0500
TZNAME:CDT
DTSTART:20260308T080000
END:DAYLIGHT
BEGIN:STANDARD
TZOFFSETFROM:-0500
TZOFFSETTO:-0600
TZNAME:CST
DTSTART:20261101T070000
END:STANDARD
END:VTIMEZONE
BEGIN:VTIMEZONE
TZID:America/New_York
BEGIN:DAYLIGHT
TZOFFSETFROM:-0500
TZOFFSETTO:-0400
TZNAME:EDT
DTSTART:20240310T070000
END:DAYLIGHT
BEGIN:STANDARD
TZOFFSETFROM:-0400
TZOFFSETTO:-0500
TZNAME:EST
DTSTART:20241103T060000
END:STANDARD
BEGIN:DAYLIGHT
TZOFFSETFROM:-0500
TZOFFSETTO:-0400
TZNAME:EDT
DTSTART:20250309T070000
END:DAYLIGHT
BEGIN:STANDARD
TZOFFSETFROM:-0400
TZOFFSETTO:-0500
TZNAME:EST
DTSTART:20251102T060000
END:STANDARD
BEGIN:DAYLIGHT
TZOFFSETFROM:-0500
TZOFFSETTO:-0400
TZNAME:EDT
DTSTART:20260308T070000
END:DAYLIGHT
BEGIN:STANDARD
TZOFFSETFROM:-0400
TZOFFSETTO:-0500
TZNAME:EST
DTSTART:20261101T060000
END:STANDARD
END:VTIMEZONE
BEGIN:VEVENT
DTSTART;TZID=America/Chicago:20250417T093000
DTEND;TZID=America/Chicago:20250417T103000
DTSTAMP:20260421T102516
CREATED:20250207T205048Z
LAST-MODIFIED:20250207T205048Z
UID:17649-1744882200-1744885800@www.nwrls.com
SUMMARY:Sail into School (Ages 3 - 5 / Class size limited)
DESCRIPTION:Join us for stories\, songs\, and felt play all to get ready for school! Class size is limited to 24 people.
URL:https://www.nwrls.com/event/sail-into-school-ages-3-5-class-size-limited-19/
LOCATION:Panama City Beach Public Library\, 12500 Hutchison Blvd\, Panama City Beach\, FL\, 32407
CATEGORIES:Events,Locations,Panama City Beach Library
ATTACH;FMTTYPE=image/jpeg:https://www.nwrls.com/wp-content/uploads/2023/08/PBC-Sail-into-School.jpg
END:VEVENT
BEGIN:VEVENT
DTSTART;TZID=America/Chicago:20250417T103000
DTEND;TZID=America/Chicago:20250417T110000
DTSTAMP:20260421T102516
CREATED:20250206T205245Z
LAST-MODIFIED:20250206T205245Z
UID:17445-1744885800-1744887600@www.nwrls.com
SUMMARY:Read & Rhyme Storytime (Ages 3 - 5 with Caregiver)
DESCRIPTION:Enjoy stories and songs with your preschooler while they learn early literacy skills.
URL:https://www.nwrls.com/event/read-rhyme-storytime-ages-3-5-with-caregiver-8/
LOCATION:Bay County Public Library\, 898 W 11th Street\, Panama City\, FL\, 32401\, United States
CATEGORIES:Bay County Public Library,Events,Locations
ATTACH;FMTTYPE=image/jpeg:https://www.nwrls.com/wp-content/uploads/2024/08/ReadRhyme-Presentation-Size.jpg
END:VEVENT
BEGIN:VEVENT
DTSTART;TZID=America/New_York:20250417T110000
DTEND;TZID=America/New_York:20250417T130000
DTSTAMP:20260421T102516
CREATED:20250214T151917Z
LAST-MODIFIED:20250214T152027Z
UID:17997-1744887600-1744894800@www.nwrls.com
SUMMARY:Earthquake in the STEAMRoom: (Ages 6 +)
DESCRIPTION:Earthquakes and flash floods – how would you handle it? Drop in for self-guided\, hands-on learning experiences with our terrific collection of science materials. Designed for kids ages 6 and up\, with caregiver.
URL:https://www.nwrls.com/event/earthquake-in-the-steamroom-ages-6/
LOCATION:Corinne Costin Gibson Memorial Public Library\, 110 Library Drive\, Port St. Joe\, FL\, 32456\, United States
CATEGORIES:Corinne Costin Gibson Memorial Public Library,Events,Locations
ATTACH;FMTTYPE=image/jpeg:https://www.nwrls.com/wp-content/uploads/2025/02/STEAMroom-Earthquake.jpg
END:VEVENT
BEGIN:VEVENT
DTSTART;TZID=America/New_York:20250417T130000
DTEND;TZID=America/New_York:20250417T140000
DTSTAMP:20260421T102516
CREATED:20250214T192936Z
LAST-MODIFIED:20250214T192936Z
UID:18143-1744894800-1744898400@www.nwrls.com
SUMMARY:Creative Crafters
DESCRIPTION:Crafters are invited to bring your own craft and socialize while sharing tips and ideas with other crafters. Not currently working on a project? We have crafting supplies\, adult coloring and much more to enjoy! Program geared for adults and teens 16+.
URL:https://www.nwrls.com/event/creative-crafters-2/
LOCATION:Jimmy Weaver Memorial Library\, 22149 NE State Road 20\, Hosford\, FL\, 32334\, United States
CATEGORIES:Events,Jimmy Weaver Memorial Library,Locations
ATTACH;FMTTYPE=image/jpeg:https://www.nwrls.com/wp-content/uploads/2024/08/Creative-Crafters.jpg
END:VEVENT
BEGIN:VEVENT
DTSTART;TZID=America/New_York:20250417T140000
DTEND;TZID=America/New_York:20250417T150000
DTSTAMP:20260421T102516
CREATED:20250214T193317Z
LAST-MODIFIED:20250214T193317Z
UID:18149-1744898400-1744902000@www.nwrls.com
SUMMARY:The Book Buzz
DESCRIPTION:Join us for a cup of tea\, as we share our latest favorite book. Each month we will explore a different theme or genre\, with a list of great titles available.
URL:https://www.nwrls.com/event/the-book-buzz-2/
LOCATION:Jimmy Weaver Memorial Library\, 22149 NE State Road 20\, Hosford\, FL\, 32334\, United States
CATEGORIES:Events,Jimmy Weaver Memorial Library,Locations
ATTACH;FMTTYPE=image/jpeg:https://www.nwrls.com/wp-content/uploads/2023/08/The-Book-Buzz.jpg
END:VEVENT
BEGIN:VEVENT
DTSTART;TZID=America/Chicago:20250417T150000
DTEND;TZID=America/Chicago:20250417T160000
DTSTAMP:20260421T102516
CREATED:20250213T182414Z
LAST-MODIFIED:20250213T182414Z
UID:17866-1744902000-1744905600@www.nwrls.com
SUMMARY:Easter Tea Party (Children's Program)
DESCRIPTION:Let’s dress up fancy and have an Easter tea party to celebrate the holiday! Sponsored by the Friends of the Wewahitchka Library.
URL:https://www.nwrls.com/event/easter-tea-party-childrens-program/
LOCATION:Charles Whitehead Memorial Public Library\, 314 North Second Street\, Wewahitchka\, FL\, 32465\, United States
CATEGORIES:Charles Whitehead Public Library,Events,Locations
ATTACH;FMTTYPE=image/jpeg:https://www.nwrls.com/wp-content/uploads/2025/02/Easter-Tea-Party-1.jpg
END:VEVENT
BEGIN:VEVENT
DTSTART;TZID=America/New_York:20250417T153000
DTEND;TZID=America/New_York:20250417T163000
DTSTAMP:20260421T102516
CREATED:20250214T151544Z
LAST-MODIFIED:20250214T151544Z
UID:17993-1744903800-1744907400@www.nwrls.com
SUMMARY:Nintendo Switch Tournament Play (Ages 6 and up)
DESCRIPTION:Join friends for tournament style play on the big screen. Up to four players at a time; kids ages 6 and up.
URL:https://www.nwrls.com/event/nintendo-switch-tournament-play-ages-6-and-up-2/
LOCATION:Corinne Costin Gibson Memorial Public Library\, 110 Library Drive\, Port St. Joe\, FL\, 32456\, United States
CATEGORIES:Corinne Costin Gibson Memorial Public Library,Events,Locations
ATTACH;FMTTYPE=image/jpeg:https://www.nwrls.com/wp-content/uploads/2024/02/PSJ-Nintendo-Switch-Gaming-Group.jpg
END:VEVENT
BEGIN:VEVENT
DTSTART;TZID=America/Chicago:20250417T160000
DTEND;TZID=America/Chicago:20250417T170000
DTSTAMP:20260421T102516
CREATED:20250206T215213Z
LAST-MODIFIED:20250206T215213Z
UID:17513-1744905600-1744909200@www.nwrls.com
SUMMARY:LEGO Club (Ages 6 - 12\, Registration Required)
DESCRIPTION:Tackle LEGO challenges by putting STEM concepts into action. Class Size Limited. Registration Required. Call 850-522-2118 or visit Youth Services to register.
URL:https://www.nwrls.com/event/lego-club-ages-6-12-registration-required-4/
LOCATION:Bay County Public Library\, 898 W 11th Street\, Panama City\, FL\, 32401\, United States
CATEGORIES:Bay County Public Library,Events,Locations
ATTACH;FMTTYPE=image/jpeg:https://www.nwrls.com/wp-content/uploads/2025/02/childrens-programming-1.jpg
END:VEVENT
BEGIN:VEVENT
DTSTART;TZID=America/Chicago:20250417T173000
DTEND;TZID=America/Chicago:20250417T183000
DTSTAMP:20260421T102516
CREATED:20250211T161310Z
LAST-MODIFIED:20250211T161310Z
UID:17768-1744911000-1744914600@www.nwrls.com
SUMMARY:Shelf Indulgence @ The Press
DESCRIPTION:Meet at The Press Coffee Shop (310 Harrison Ave) for our new Genre Book Club. Each Month is a new Genre to discuss! Not sure which book to read\, we’ll have suggested titles that fit the genre. \nApril: Science Fiction / Fantasy  \nDiscussion facilitated by the Bay County Public Library.
URL:https://www.nwrls.com/event/shelf-indulgence-the-press-3/
LOCATION:The Press\, 310 Harrison Ave\, Panama CIty\, FL\, 32401\, United States
CATEGORIES:Bay County Public Library,Events,Locations
ATTACH;FMTTYPE=image/jpeg:https://www.nwrls.com/wp-content/uploads/2024/11/Shelf-Indulgence-2-1.jpg
END:VEVENT
END:VCALENDAR